Workbook

Sheet 원가계산서
A1: 공 사 원 가 계 산 서
A2: 공사명 : (대학혁신지원사업) 스미스관 교육 환경개선 공사
A3: 구 분 비 목 | D3: 구 성 비 | E3: 금 액 | F3: 비 고
A5: 순 공 사 원 가 | B5: 재료비 | C5: 직 접 재 료 비 | E5: =ROUNDDOWN(집계표!F25-집계표!AV25, 0) -> 0 | G5: A1 | H5: 0 | I5: =E5 -> 0
C6: 간 접 재 료 비 | E6: =ROUNDDOWN(E5*H6, 0) -> 0 | G6: A2 | H6: 0 | I6: =E6 -> 0
C7: 작업설.부산물 등(△) | E7: =집계표!T25 -> 0 | G7: A3 | H7: 0 | I7: =E7 -> 0
C8: 소 계 | E8: =SUM(E5:E6)-ABS(E7) -> 0 | G8: A | H8: 0 | I8: =E8 -> 0
B9: 노무비 | C9: 직 접 노 무 비 | E9: =ROUNDDOWN(집계표!H25, 0) -> 0 | G9: B1 | H9: 0 | I9: =E9 -> 0
C10: 간 접 노 무 비 | D10: ="직.노*"&H10*100&"%" -> 직.노*5% | E10: =ROUNDDOWN(E9*H10, 0) -> 0 | G10: B2 | H10: 0.05 | I10: =E10 -> 0
C11: 소 계 | E11: =SUM(E9:E10) -> 0 | G11: B | H11: 0 | I11: =E11 -> 0
B12: 경 비 | C12: 기 계 경 비 | E12: =ROUNDDOWN(집계표!J25, 0) -> 0 | G12: C4 | H12: 0 | I12: =E12 -> 0
C13: 산 재 보 험 료 | D13: ="(노)*"&H13*100&"%" -> (노)*3.56% | E13: =ROUNDDOWN((E11)*H13, 0) -> 0 | G13: C10 | H13: 0.0356 | I13: =E13 -> 0
C14: 고 용 보 험 료 | D14: ="(노)*"&H14*100&"%" -> (노)*1.01% | E14: =ROUNDDOWN((E11)*H14, 0) -> 0 | G14: C11 | H14: 0.0101 | I14: =E14 -> 0
C15: 건 강 보 험 료 | D15: ="(직.노)*"&H15*100&"%" -> (직.노)*3.595% | E15: =ROUNDDOWN((E9)*H15, 0) -> 0 | G15: C12 | H15: 0.03595 | I15: =E15 -> 0
C16: 연 금 보 험 료 | D16: ="(직.노)*"&H16*100&"%" -> (직.노)*4.75% | E16: =ROUNDDOWN((E9)*H16, 0) -> 0 | G16: C13 | H16: 0.0475 | I16: =E16 -> 0
C17: 노인 장기 요양보험료 | D17: ="(건강보험료)*"&H17*100&"%" -> (건강보험료)*13.14% | E17: =ROUNDDOWN((E15)*H17, 0) -> 0 | G17: C14 | H17: 0.1314 | I17: =E17 -> 0
C18: 산업 안전 보건관리비 | D18: ="(재+직.노+(-0)/1.1)*"&H18*100&"%"&"+4,325,000 < ((재+직.노)*2.28%+0,0)*1.2" -> (재+직.노+(-0)/1.1)*2.28%+4,325,000 < ((재+직.노)*2.28%+0,0)*1.2 | E18: =ROUNDDOWN((E8+E9+(0-0)/1.1)*H18+0, 0) -> 0 | F18: 24,128,387 < 28,954,065 | G18: C16 | H18: 0.0228 | I18: =E18 -> 0
C19: 기 타 경 비 | D19: ="(재+노)*"&H19*100&"%" -> (재+노)*3% | E19: =ROUNDDOWN((E8+E11)*H19, 0) -> 0 | G19: C20 | H19: 0.03 | I19: =E19 -> 0
C20: 환 경 보 전 비 | D20: ="(재+직.노+기.경)*"&H20*100&"%" -> (재+직.노+기.경)*0.5% | E20: =ROUNDDOWN((E8+E9+E12)*H20, 0) -> 0 | G20: C25 | H20: 0.005 | I20: =E20 -> 0
C21: 건설하도급보증수수료 | D21: ="(재+직.노+기.경)*"&H21*100&"%" -> (재+직.노+기.경)*0.081% | E21: =ROUNDDOWN((E8+E9+E12)*H21, 0) -> 0 | G21: C30 | H21: 0.00081 | I21: =E21 -> 0
C22: 공사 이행 보증수수료 | D22: ="(재+직.노+기.경)*"&H22*100&"%"&"*(6/12)" -> (재+직.노+기.경)*0.0108%*(6/12) | E22: =ROUNDDOWN((E8+E9+E12)*H22*(6/12), 0) -> 0 | G22: C31 | H22: 0.000108 | I22: =E22 -> 0
C23: 건설기계대여보증수수료 | D23: ="(재+직.노+기.경)*"&H23*100&"%" -> (재+직.노+기.경)*0.07% | E23: =ROUNDDOWN((E8+E9+E12)*H23, 0) -> 0 | G23: C32 | H23: 0.0007 | I23: =E23 -> 0
C24: 안 전 관 리 비 | E24: =ROUNDDOWN(집계표!AE25, 0) -> 0 | G24: C17 | H24: 0 | I24: =E24 -> 0
C25: 품 질 관 리 비 | E25: =ROUNDDOWN(집계표!AF25, 0) -> 0 | G25: C18 | H25: 0 | I25: =E25 -> 0
C26: 석 면 분 담 금 | D26: ="노*"&H26*100&"%" -> 노*0.006% | E26: =ROUNDDOWN(E11*H26, 0) -> 0 | G26: C21 | H26: 6e-05 | I26: =E26 -> 0
C27: 임 금 채 권 부 담 금 | D27: ="노*"&H27*100&"%" -> 노*0.09% | E27: =ROUNDDOWN(E11*H27, 0) -> 0 | G27: C22 | H27: 0.0009 | I27: =E27 -> 0
C28: 소 계 | E28: =SUM(E12:E27) -> 0 | G28: C | H28: 0 | I28: =E28 -> 0
B29: 계 | E29: =E8+E11+E28 -> 0 | G29: X | H29: 0 | I29: =E29 -> 0
A30: 일 반 관 리 비 | D30: ="(재+노+경)*"&H30*100&"%" -> (재+노+경)*4% | E30: =ROUNDDOWN((E8+E11+E28)*H30, 0) -> 0 | G30: D | H30: 0.04 | I30: =E30 -> 0
A31: 이 윤 | D31: ="(노+경+일)*"&H31*100&"%" -> (노+경+일)*9.48% | E31: =E34-E33-E32-0-E30-E29 -> 0 | G31: E | H31: 0.0948 | I31: =(I11+I28+I30)*H31 -> 0
A32: 폐기물 처리비 (일반) | E32: =ROUNDDOWN(집계표!AM25, 0) -> 0 | G32: L4 | H32: 0 | I32: =E32 -> 0
A33: 폐기물 처리비 (지정) | E33: =ROUNDDOWN(집계표!AN25, 0) -> 0 | G33: L5 | H33: 0 | I33: =E33 -> 0
A34: 총 원 가 | E34: =ROUNDDOWN(E36-E35, 0) -> 0 | G34: F | H34: 0 | I34: =SUM(I29:I33) -> 0
A35: 부 가 가 치 세 | D35: ="(총원가)*"&H35*100&"%" -> (총원가)*10% | E35: =ROUNDDOWN(((E36)/110)*10, 0) -> 0 | G35: H | H35: 0.1 | I35: =ROUNDDOWN((I34)*H35, 0) -> 0
A36: 도 급 금 액 | E36: =INT(I36/1000)*1000 -> 0 | G36: Y | H36: 0 | I36: =I34+I35 -> 0
A37: 총 공 사 금 액 | E37: =ROUNDDOWN(E36+0+0+0, 0) -> 0 | H37: 0 | I37: =I36+0+0+0 -> 0

Sheet 집계표
A1: 집 계 표
A2: 공사명 : (대학혁신지원사업) 스미스관 교육 환경개선 공사
A3: 품 명 | B3: 규 격 | C3: 단위 | D3: 수 량 | E3: 재 료 비 | G3: 노 무 비 | I3: 경 비 | K3: 합 계 | M3: 비고
E4: 단 가 | F4: 금 액 | G4: 단 가 | H4: 금 액 | I4: 단 가 | J4: 금 액 | K4: 단 가 | L4: 금 액 | N4: 손료요율 | O4: 손료구분 | P4: 적용구분 | Q4: 합계구분 | R4: 기계경비 | S4: 운반비 | T4: 작업부산물 | U4: 관급 | V4: 외주비 | W4: 장비비 | X4: 폐기물처리비 | Y4: 가설비 | Z4: 잡비제외분 | AA4: 사급자재대 | AB4: 관급자재대 | AC4: 사용자항목1 | AD4: 사용자항목2 | AE4: 안전관리비 | AF4: 품질관리비 | AG4: 작업부산물(철거해체) | AH4: 사용자항목6 | AI4: 사용자항목7 | AJ4: 관급자재대(관급자) | AK4: 관급자재대(관급자) | AL4: 사용자항목10 | AM4: 폐기물처리비(일반) | AN4: 폐기물처리비(지정) | AO4: 사용자항목13 | AP4: 사용자항목14 | AQ4: 사용자항목15 | AR4: 사용자항목16 | AS4: 사용자항목17 | AT4: 사용자항목18 | AU4: 사용자항목19 | AV4: 간접재료비 | AW4: 품목구분 | AX4: 조달코드 | AY4: 구분
A5: 01. 건축공사 | C5: 식 | D5: 1 | E5: =F46 -> 0 | F5: =D5*E5 -> 0 | G5: =H46 -> 0 | H5: =D5*G5 -> 0 | I5: =J46 -> 0 | J5: =D5*I5 -> 0 | K5: =E5+G5+I5 -> 0 | L5: =F5+H5+J5 -> 0 | Q5: 1 | R5: =D5*R46 -> 0 | S5: =D5*S46 -> 0 | T5: =D5*T46 -> 0 | U5: =D5*U46 -> 0 | V5: =D5*V46 -> 0 | W5: =D5*W46 -> 0 | X5: =D5*X46 -> 0 | Y5: =D5*Y46 -> 0 | Z5: =D5*Z46 -> 0 | AA5: =D5*AA46 -> 0 | AB5: =D5*AB46 -> 0 | AC5: =D5*AC46 -> 0 | AD5: =D5*AD46 -> 0 | AE5: =D5*AE46 -> 0 | AF5: =D5*AF46 -> 0 | AG5: =D5*AG46 -> 0 | AH5: =D5*AH46 -> 0 | AI5: =D5*AI46 -> 0 | AJ5: =D5*AJ46 -> 0 | AK5: =D5*AK46 -> 0 | AL5: =D5*AL46 -> 0 | AM5: =D5*AM46 -> 0 | AN5: =D5*AN46 -> 0 | AO5: =D5*AO46 -> 0 | AP5: =D5*AP46 -> 0 | AQ5: =D5*AQ46 -> 0 | AR5: =D5*AR46 -> 0 | AS5: =D5*AS46 -> 0 | AT5: =D5*AT46 -> 0 | AU5: =D5*AU46 -> 0 | AV5: =D5*AV46 -> 0
A6: 02. 인테리어공사 | C6: 식 | D6: 1 | E6: =F67 -> 0 | F6: =D6*E6 -> 0 | G6: =H67 -> 0 | H6: =D6*G6 -> 0 | I6: =J67 -> 0 | J6: =D6*I6 -> 0 | K6: =E6+G6+I6 -> 0 | L6: =F6+H6+J6 -> 0 | Q6: 1 | R6: =D6*R67 -> 0 | S6: =D6*S67 -> 0 | T6: =D6*T67 -> 0 | U6: =D6*U67 -> 0 | V6: =D6*V67 -> 0 | W6: =D6*W67 -> 0 | X6: =D6*X67 -> 0 | Y6: =D6*Y67 -> 0 | Z6: =D6*Z67 -> 0 | AA6: =D6*AA67 -> 0 | AB6: =D6*AB67 -> 0 | AC6: =D6*AC67 -> 0 | AD6: =D6*AD67 -> 0 | AE6: =D6*AE67 -> 0 | AF6: =D6*AF67 -> 0 | AG6: =D6*AG67 -> 0 | AH6: =D6*AH67 -> 0 | AI6: =D6*AI67 -> 0 | AJ6: =D6*AJ67 -> 0 | AK6: =D6*AK67 -> 0 | AL6: =D6*AL67 -> 0 | AM6: =D6*AM67 -> 0 | AN6: =D6*AN67 -> 0 | AO6: =D6*AO67 -> 0 | AP6: =D6*AP67 -> 0 | AQ6: =D6*AQ67 -> 0 | AR6: =D6*AR67 -> 0 | AS6: =D6*AS67 -> 0 | AT6: =D6*AT67 -> 0 | AU6: =D6*AU67 -> 0 | AV6: =D6*AV67 -> 0
A7: 03. 안전관리비 | C7: 식 | D7: 1 | E7: =내역서!F466 -> 0 | F7: =D7*E7 -> 0 | G7: =내역서!H466 -> 0 | H7: =D7*G7 -> 0 | I7: =내역서!J466 -> 0 | J7: =D7*I7 -> 0 | K7: =E7+G7+I7 -> 0 | L7: =F7+H7+J7 -> 0 | M7: 합계제외 | R7: =D7*내역서!R466 -> 0 | S7: =D7*내역서!S466 -> 0 | T7: =D7*내역서!T466 -> 0 | U7: =D7*내역서!U466 -> 0 | V7: =D7*내역서!V466 -> 0 | W7: =D7*내역서!W466 -> 0 | X7: =D7*내역서!X466 -> 0 | Y7: =D7*내역서!Y466 -> 0 | Z7: =D7*내역서!Z466 -> 0 | AA7: =D7*내역서!AA466 -> 0 | AB7: =D7*내역서!AB466 -> 0 | AC7: =D7*내역서!AC466 -> 0 | AD7: =D7*내역서!AD466 -> 0 | AE7: =D7*내역서!AE466 -> 0 | AF7: =D7*내역서!AF466 -> 0 | AG7: =D7*내역서!AG466 -> 0 | AH7: =D7*내역서!AH466 -> 0 | AI7: =D7*내역서!AI466 -> 0 | AJ7: =D7*내역서!AJ466 -> 0 | AK7: =D7*내역서!AK466 -> 0 | AL7: =D7*내역서!AL466 -> 0 | AM7: =D7*내역서!AM466 -> 0 | AN7: =D7*내역서!AN466 -> 0 | AO7: =D7*내역서!AO466 -> 0 | AP7: =D7*내역서!AP466 -> 0 | AQ7: =D7*내역서!AQ466 -> 0 | AR7: =D7*내역서!AR466 -> 0 | AS7: =D7*내역서!AS466 -> 0 | AT7: =D7*내역서!AT466 -> 0 | AU7: =D7*내역서!AU466 -> 0 | AV7: =D7*내역서!AV466 -> 0
A8: 04. 품질관리비 | C8: 식 | D8: 1 | E8: =내역서!F487 -> 0 | F8: =D8*E8 -> 0 | G8: =내역서!H487 -> 0 | H8: =D8*G8 -> 0 | I8: =내역서!J487 -> 0 | J8: =D8*I8 -> 0 | K8: =E8+G8+I8 -> 0 | L8: =F8+H8+J8 -> 0 | M8: 합계제외 | R8: =D8*내역서!R487 -> 0 | S8: =D8*내역서!S487 -> 0 | T8: =D8*내역서!T487 -> 0 | U8: =D8*내역서!U487 -> 0 | V8: =D8*내역서!V487 -> 0 | W8: =D8*내역서!W487 -> 0 | X8: =D8*내역서!X487 -> 0 | Y8: =D8*내역서!Y487 -> 0 | Z8: =D8*내역서!Z487 -> 0 | AA8: =D8*내역서!AA487 -> 0 | AB8: =D8*내역서!AB487 -> 0 | AC8: =D8*내역서!AC487 -> 0 | AD8: =D8*내역서!AD487 -> 0 | AE8: =D8*내역서!AE487 -> 0 | AF8: =D8*내역서!AF487 -> 0 | AG8: =D8*내역서!AG487 -> 0 | AH8: =D8*내역서!AH487 -> 0 | AI8: =D8*내역서!AI487 -> 0 | AJ8: =D8*내역서!AJ487 -> 0 | AK8: =D8*내역서!AK487 -> 0 | AL8: =D8*내역서!AL487 -> 0 | AM8: =D8*내역서!AM487 -> 0 | AN8: =D8*내역서!AN487 -> 0 | AO8: =D8*내역서!AO487 -> 0 | AP8: =D8*내역서!AP487 -> 0 | AQ8: =D8*내역서!AQ487 -> 0 | AR8: =D8*내역서!AR487 -> 0 | AS8: =D8*내역서!AS487 -> 0 | AT8: =D8*내역서!AT487 -> 0 | AU8: =D8*내역서!AU487 -> 0 | AV8: =D8*내역서!AV487 -> 0
A25: 합 계 | F25: =SUMIF(Q5:Q8, "1", F5:F8) -> 0 | H25: =SUMIF(Q5:Q8, "1", H5:H8) -> 0 | J25: =SUMIF(Q5:Q8, "1", J5:J8) -> 0 | L25: =F25+H25+J25 -> 0 | R25: =SUM(R5:R8) -> 0 | S25: =SUM(S5:S8) -> 0 | T25: =SUM(T5:T8) -> 0 | U25: =SUM(U5:U8) -> 0 | V25: =SUM(V5:V8) -> 0 | W25: =SUM(W5:W8) -> 0 | X25: =SUM(X5:X8) -> 0 | Y25: =SUM(Y5:Y8) -> 0 | ... AY25: =SUM(AY5:AY8) -> 0
A26: 01. 건축공사
A27: 0101. 가설공사 | C27: 식 | D27: 1 | E27: =내역서!F25 -> 0 | F27: =D27*E27 -> 0 | G27: =내역서!H25 -> 0 | H27: =D27*G27 -> 0 | I27: =내역서!J25 -> 0 | J27: =D27*I27 -> 0 | K27: =E27+G27+I27 -> 0 | L27: =F27+H27+J27 -> 0 | Q27: 1 | R27: =D27*내역서!R25 -> 0 | S27: =D27*내역서!S25 -> 0 | T27: =D27*내역서!T25 -> 0 | U27: =D27*내역서!U25 -> 0 | V27: =D27*내역서!V25 -> 0 | W27: =D27*내역서!W25 -> 0 | X27: =D27*내역서!X25 -> 0 | Y27: =D27*내역서!Y25 -> 0 | Z27: =D27*내역서!Z25 -> 0 | AA27: =D27*내역서!AA25 -> 0 | AB27: =D27*내역서!AB25 -> 0 | AC27: =D27*내역서!AC25 -> 0 | AD27: =D27*내역서!AD25 -> 0 | AE27: =D27*내역서!AE25 -> 0 | AF27: =D27*내역서!AF25 -> 0 | AG27: =D27*내역서!AG25 -> 0 | AH27: =D27*내역서!AH25 -> 0 | AI27: =D27*내역서!AI25 -> 0 | AJ27: =D27*내역서!AJ25 -> 0 | AK27: =D27*내역서!AK25 -> 0 | AL27: =D27*내역서!AL25 -> 0 | AM27: =D27*내역서!AM25 -> 0 | AN27: =D27*내역서!AN25 -> 0 | AO27: =D27*내역서!AO25 -> 0 | AP27: =D27*내역서!AP25 -> 0 | AQ27: =D27*내역서!AQ25 -> 0 | AR27: =D27*내역서!AR25 -> 0 | AS27: =D27*내역서!AS25 -> 0 | AT27: =D27*내역서!AT25 -> 0 | AU27: =D27*내역서!AU25 -> 0 | AV27: =D27*내역서!AV25 -> 0
A28: 0102. 철근콘크리트공사 | C28: 식 | D28: 1 | E28: =내역서!F46 -> 0 | F28: =D28*E28 -> 0 | G28: =내역서!H46 -> 0 | H28: =D28*G28 -> 0 | I28: =내역서!J46 -> 0 | J28: =D28*I28 -> 0 | K28: =E28+G28+I28 -> 0 | L28: =F28+H28+J28 -> 0 | Q28: 1 | R28: =D28*내역서!R46 -> 0 | S28: =D28*내역서!S46 -> 0 | T28: =D28*내역서!T46 -> 0 | U28: =D28*내역서!U46 -> 0 | V28: =D28*내역서!V46 -> 0 | W28: =D28*내역서!W46 -> 0 | X28: =D28*내역서!X46 -> 0 | Y28: =D28*내역서!Y46 -> 0 | Z28: =D28*내역서!Z46 -> 0 | AA28: =D28*내역서!AA46 -> 0 | AB28: =D28*내역서!AB46 -> 0 | AC28: =D28*내역서!AC46 -> 0 | AD28: =D28*내역서!AD46 -> 0 | AE28: =D28*내역서!AE46 -> 0 | AF28: =D28*내역서!AF46 -> 0 | AG28: =D28*내역서!AG46 -> 0 | AH28: =D28*내역서!AH46 -> 0 | AI28: =D28*내역서!AI46 -> 0 | AJ28: =D28*내역서!AJ46 -> 0 | AK28: =D28*내역서!AK46 -> 0 | AL28: =D28*내역서!AL46 -> 0 | AM28: =D28*내역서!AM46 -> 0 | AN28: =D28*내역서!AN46 -> 0 | AO28: =D28*내역서!AO46 -> 0 | AP28: =D28*내역서!AP46 -> 0 | AQ28: =D28*내역서!AQ46 -> 0 | AR28: =D28*내역서!AR46 -> 0 | AS28: =D28*내역서!AS46 -> 0 | AT28: =D28*내역서!AT46 -> 0 | AU28: =D28*내역서!AU46 -> 0 | AV28: =D28*내역서!AV46 -> 0
A29: 0103. 조적공사 | C29: 식 | D29: 1 | E29: =내역서!F67 -> 0 | F29: =D29*E29 -> 0 | G29: =내역서!H67 -> 0 | H29: =D29*G29 -> 0 | I29: =내역서!J67 -> 0 | J29: =D29*I29 -> 0 | K29: =E29+G29+I29 -> 0 | L29: =F29+H29+J29 -> 0 | Q29: 1 | R29: =D29*내역서!R67 -> 0 | S29: =D29*내역서!S67 -> 0 | T29: =D29*내역서!T67 -> 0 | U29: =D29*내역서!U67 -> 0 | V29: =D29*내역서!V67 -> 0 | W29: =D29*내역서!W67 -> 0 | X29: =D29*내역서!X67 -> 0 | Y29: =D29*내역서!Y67 -> 0 | Z29: =D29*내역서!Z67 -> 0 | AA29: =D29*내역서!AA67 -> 0 | AB29: =D29*내역서!AB67 -> 0 | AC29: =D29*내역서!AC67 -> 0 | AD29: =D29*내역서!AD67 -> 0 | AE29: =D29*내역서!AE67 -> 0 | AF29: =D29*내역서!AF67 -> 0 | AG29: =D29*내역서!AG67 -> 0 | AH29: =D29*내역서!AH67 -> 0 | AI29: =D29*내역서!AI67 -> 0 | AJ29: =D29*내역서!AJ67 -> 0 | AK29: =D29*내역서!AK67 -> 0 | AL29: =D29*내역서!AL67 -> 0 | AM29: =D29*내역서!AM67 -> 0 | AN29: =D29*내역서!AN67 -> 0 | AO29: =D29*내역서!AO67 -> 0 | AP29: =D29*내역서!AP67 -> 0 | AQ29: =D29*내역서!AQ67 -> 0 | AR29: =D29*내역서!AR67 -> 0 | AS29: =D29*내역서!AS67 -> 0 | AT29: =D29*내역서!AT67 -> 0 | AU29: =D29*내역서!AU67 -> 0 | AV29: =D29*내역서!AV67 -> 0
A30: 0104. 돌및타일공사 | C30: 식 | D30: 1 | E30: =내역서!F88 -> 0 | F30: =D30*E30 -> 0 | G30: =내역서!H88 -> 0 | H30: =D30*G30 -> 0 | I30: =내역서!J88 -> 0 | J30: =D30*I30 -> 0 | K30: =E30+G30+I30 -> 0 | L30: =F30+H30+J30 -> 0 | Q30: 1 | R30: =D30*내역서!R88 -> 0 | S30: =D30*내역서!S88 -> 0 | T30: =D30*내역서!T88 -> 0 | U30: =D30*내역서!U88 -> 0 | V30: =D30*내역서!V88 -> 0 | W30: =D30*내역서!W88 -> 0 | X30: =D30*내역서!X88 -> 0 | Y30: =D30*내역서!Y88 -> 0 | Z30: =D30*내역서!Z88 -> 0 | AA30: =D30*내역서!AA88 -> 0 | AB30: =D30*내역서!AB88 -> 0 | AC30: =D30*내역서!AC88 -> 0 | AD30: =D30*내역서!AD88 -> 0 | AE30: =D30*내역서!AE88 -> 0 | AF30: =D30*내역서!AF88 -> 0 | AG30: =D30*내역서!AG88 -> 0 | AH30: =D30*내역서!AH88 -> 0 | AI30: =D30*내역서!AI88 -> 0 | AJ30: =D30*내역서!AJ88 -> 0 | AK30: =D30*내역서!AK88 -> 0 | AL30: =D30*내역서!AL88 -> 0 | AM30: =D30*내역서!AM88 -> 0 | AN30: =D30*내역서!AN88 -> 0 | AO30: =D30*내역서!AO88 -> 0 | AP30: =D30*내역서!AP88 -> 0 | AQ30: =D30*내역서!AQ88 -> 0 | AR30: =D30*내역서!AR88 -> 0 | AS30: =D30*내역서!AS88 -> 0 | AT30: =D30*내역서!AT88 -> 0 | AU30: =D30*내역서!AU88 -> 0 | AV30: =D30*내역서!AV88 -> 0
A31: 0105. 목 공 사 | C31: 식 | D31: 1 | E31: =내역서!F109 -> 0 | F31: =D31*E31 -> 0 | G31: =내역서!H109 -> 0 | H31: =D31*G31 -> 0 | I31: =내역서!J109 -> 0 | J31: =D31*I31 -> 0 | K31: =E31+G31+I31 -> 0 | L31: =F31+H31+J31 -> 0 | Q31: 1 | R31: =D31*내역서!R109 -> 0 | S31: =D31*내역서!S109 -> 0 | T31: =D31*내역서!T109 -> 0 | U31: =D31*내역서!U109 -> 0 | V31: =D31*내역서!V109 -> 0 | W31: =D31*내역서!W109 -> 0 | X31: =D31*내역서!X109 -> 0 | Y31: =D31*내역서!Y109 -> 0 | Z31: =D31*내역서!Z109 -> 0 | AA31: =D31*내역서!AA109 -> 0 | AB31: =D31*내역서!AB109 -> 0 | AC31: =D31*내역서!AC109 -> 0 | AD31: =D31*내역서!AD109 -> 0 | AE31: =D31*내역서!AE109 -> 0 | AF31: =D31*내역서!AF109 -> 0 | AG31: =D31*내역서!AG109 -> 0 | AH31: =D31*내역서!AH109 -> 0 | AI31: =D31*내역서!AI109 -> 0 | AJ31: =D31*내역서!AJ109 -> 0 | AK31: =D31*내역서!AK109 -> 0 | AL31: =D31*내역서!AL109 -> 0 | AM31: =D31*내역서!AM109 -> 0 | AN31: =D31*내역서!AN109 -> 0 | AO31: =D31*내역서!AO109 -> 0 | AP31: =D31*내역서!AP109 -> 0 | AQ31: =D31*내역서!AQ109 -> 0 | AR31: =D31*내역서!AR109 -> 0 | AS31: =D31*내역서!AS109 -> 0 | AT31: =D31*내역서!AT109 -> 0 | AU31: =D31*내역서!AU109 -> 0 | AV31: =D31*내역서!AV109 -> 0
A32: 0106. 방수공사 | C32: 식 | D32: 1 | E32: =내역서!F130 -> 0 | F32: =D32*E32 -> 0 | G32: =내역서!H130 -> 0 | H32: =D32*G32 -> 0 | I32: =내역서!J130 -> 0 | J32: =D32*I32 -> 0 | K32: =E32+G32+I32 -> 0 | L32: =F32+H32+J32 -> 0 | Q32: 1 | R32: =D32*내역서!R130 -> 0 | S32: =D32*내역서!S130 -> 0 | T32: =D32*내역서!T130 -> 0 | U32: =D32*내역서!U130 -> 0 | V32: =D32*내역서!V130 -> 0 | W32: =D32*내역서!W130 -> 0 | X32: =D32*내역서!X130 -> 0 | Y32: =D32*내역서!Y130 -> 0 | Z32: =D32*내역서!Z130 -> 0 | AA32: =D32*내역서!AA130 -> 0 | AB32: =D32*내역서!AB130 -> 0 | AC32: =D32*내역서!AC130 -> 0 | AD32: =D32*내역서!AD130 -> 0 | AE32: =D32*내역서!AE130 -> 0 | AF32: =D32*내역서!AF130 -> 0 | AG32: =D32*내역서!AG130 -> 0 | AH32: =D32*내역서!AH130 -> 0 | AI32: =D32*내역서!AI130 -> 0 | AJ32: =D32*내역서!AJ130 -> 0 | AK32: =D32*내역서!AK130 -> 0 | AL32: =D32*내역서!AL130 -> 0 | AM32: =D32*내역서!AM130 -> 0 | AN32: =D32*내역서!AN130 -> 0 | AO32: =D32*내역서!AO130 -> 0 | AP32: =D32*내역서!AP130 -> 0 | AQ32: =D32*내역서!AQ130 -> 0 | AR32: =D32*내역서!AR130 -> 0 | AS32: =D32*내역서!AS130 -> 0 | AT32: =D32*내역서!AT130 -> 0 | AU32: =D32*내역서!AU130 -> 0 | AV32: =D32*내역서!AV130 -> 0
A33: 0107. 지붕및홈통공사 | C33: 식 | D33: 1 | E33: =내역서!F151 -> 0 | F33: =D33*E33 -> 0 | G33: =내역서!H151 -> 0 | H33: =D33*G33 -> 0 | I33: =내역서!J151 -> 0 | J33: =D33*I33 -> 0 | K33: =E33+G33+I33 -> 0 | L33: =F33+H33+J33 -> 0 | Q33: 1 | R33: =D33*내역서!R151 -> 0 | S33: =D33*내역서!S151 -> 0 | T33: =D33*내역서!T151 -> 0 | U33: =D33*내역서!U151 -> 0 | V33: =D33*내역서!V151 -> 0 | W33: =D33*내역서!W151 -> 0 | X33: =D33*내역서!X151 -> 0 | Y33: =D33*내역서!Y151 -> 0 | Z33: =D33*내역서!Z151 -> 0 | AA33: =D33*내역서!AA151 -> 0 | AB33: =D33*내역서!AB151 -> 0 | AC33: =D33*내역서!AC151 -> 0 | AD33: =D33*내역서!AD151 -> 0 | AE33: =D33*내역서!AE151 -> 0 | AF33: =D33*내역서!AF151 -> 0 | AG33: =D33*내역서!AG151 -> 0 | AH33: =D33*내역서!AH151 -> 0 | AI33: =D33*내역서!AI151 -> 0 | AJ33: =D33*내역서!AJ151 -> 0 | AK33: =D33*내역서!AK151 -> 0 | AL33: =D33*내역서!AL151 -> 0 | AM33: =D33*내역서!AM151 -> 0 | AN33: =D33*내역서!AN151 -> 0 | AO33: =D33*내역서!AO151 -> 0 | AP33: =D33*내역서!AP151 -> 0 | AQ33: =D33*내역서!AQ151 -> 0 | AR33: =D33*내역서!AR151 -> 0 | AS33: =D33*내역서!AS151 -> 0 | AT33: =D33*내역서!AT151 -> 0 | AU33: =D33*내역서!AU151 -> 0 | AV33: =D33*내역서!AV151 -> 0
A34: 0108. 판넬공사 | C34: 식 | D34: 1 | E34: =내역서!F172 -> 0 | F34: =D34*E34 -> 0 | G34: =내역서!H172 -> 0 | H34: =D34*G34 -> 0 | I34: =내역서!J172 -> 0 | J34: =D34*I34 -> 0 | K34: =E34+G34+I34 -> 0 | L34: =F34+H34+J34 -> 0 | Q34: 1 | R34: =D34*내역서!R172 -> 0 | S34: =D34*내역서!S172 -> 0 | T34: =D34*내역서!T172 -> 0 | U34: =D34*내역서!U172 -> 0 | V34: =D34*내역서!V172 -> 0 | W34: =D34*내역서!W172 -> 0 | X34: =D34*내역서!X172 -> 0 | Y34: =D34*내역서!Y172 -> 0 | Z34: =D34*내역서!Z172 -> 0 | AA34: =D34*내역서!AA172 -> 0 | AB34: =D34*내역서!AB172 -> 0 | AC34: =D34*내역서!AC172 -> 0 | AD34: =D34*내역서!AD172 -> 0 | AE34: =D34*내역서!AE172 -> 0 | AF34: =D34*내역서!AF172 -> 0 | AG34: =D34*내역서!AG172 -> 0 | AH34: =D34*내역서!AH172 -> 0 | AI34: =D34*내역서!AI172 -> 0 | AJ34: =D34*내역서!AJ172 -> 0 | AK34: =D34*내역서!AK172 -> 0 | AL34: =D34*내역서!AL172 -> 0 | AM34: =D34*내역서!AM172 -> 0 | AN34: =D34*내역서!AN172 -> 0 | AO34: =D34*내역서!AO172 -> 0 | AP34: =D34*내역서!AP172 -> 0 | AQ34: =D34*내역서!AQ172 -> 0 | AR34: =D34*내역서!AR172 -> 0 | AS34: =D34*내역서!AS172 -> 0 | AT34: =D34*내역서!AT172 -> 0 | AU34: =D34*내역서!AU172 -> 0 | AV34: =D34*내역서!AV172 -> 0
A35: 0109. 금속공사 | C35: 식 | D35: 1 | E35: =내역서!F193 -> 0 | F35: =D35*E35 -> 0 | G35: =내역서!H193 -> 0 | H35: =D35*G35 -> 0 | I35: =내역서!J193 -> 0 | J35: =D35*I35 -> 0 | K35: =E35+G35+I35 -> 0 | L35: =F35+H35+J35 -> 0 | Q35: 1 | R35: =D35*내역서!R193 -> 0 | S35: =D35*내역서!S193 -> 0 | T35: =D35*내역서!T193 -> 0 | U35: =D35*내역서!U193 -> 0 | V35: =D35*내역서!V193 -> 0 | W35: =D35*내역서!W193 -> 0 | X35: =D35*내역서!X193 -> 0 | Y35: =D35*내역서!Y193 -> 0 | Z35: =D35*내역서!Z193 -> 0 | AA35: =D35*내역서!AA193 -> 0 | AB35: =D35*내역서!AB193 -> 0 | AC35: =D35*내역서!AC193 -> 0 | AD35: =D35*내역서!AD193 -> 0 | AE35: =D35*내역서!AE193 -> 0 | AF35: =D35*내역서!AF193 -> 0 | AG35: =D35*내역서!AG193 -> 0 | AH35: =D35*내역서!AH193 -> 0 | AI35: =D35*내역서!AI193 -> 0 | AJ35: =D35*내역서!AJ193 -> 0 | AK35: =D35*내역서!AK193 -> 0 | AL35: =D35*내역서!AL193 -> 0 | AM35: =D35*내역서!AM193 -> 0 | AN35: =D35*내역서!AN193 -> 0 | AO35: =D35*내역서!AO193 -> 0 | AP35: =D35*내역서!AP193 -> 0 | AQ35: =D35*내역서!AQ193 -> 0 | AR35: =D35*내역서!AR193 -> 0 | AS35: =D35*내역서!AS193 -> 0 | AT35: =D35*내역서!AT193 -> 0 | AU35: =D35*내역서!AU193 -> 0 | AV35: =D35*내역서!AV193 -> 0
A36: 0110. 미장공사 | C36: 식 | D36: 1 | E36: =내역서!F214 -> 0 | F36: =D36*E36 -> 0 | G36: =내역서!H214 -> 0 | H36: =D36*G36 -> 0 | I36: =내역서!J214 -> 0 | J36: =D36*I36 -> 0 | K36: =E36+G36+I36 -> 0 | L36: =F36+H36+J36 -> 0 | Q36: 1 | R36: =D36*내역서!R214 -> 0 | S36: =D36*내역서!S214 -> 0 | T36: =D36*내역서!T214 -> 0 | U36: =D36*내역서!U214 -> 0 | V36: =D36*내역서!V214 -> 0 | W36: =D36*내역서!W214 -> 0 | X36: =D36*내역서!X214 -> 0 | Y36: =D36*내역서!Y214 -> 0 | Z36: =D36*내역서!Z214 -> 0 | AA36: =D36*내역서!AA214 -> 0 | AB36: =D36*내역서!AB214 -> 0 | AC36: =D36*내역서!AC214 -> 0 | AD36: =D36*내역서!AD214 -> 0 | AE36: =D36*내역서!AE214 -> 0 | AF36: =D36*내역서!AF214 -> 0 | AG36: =D36*내역서!AG214 -> 0 | AH36: =D36*내역서!AH214 -> 0 | AI36: =D36*내역서!AI214 -> 0 | AJ36: =D36*내역서!AJ214 -> 0 | AK36: =D36*내역서!AK214 -> 0 | AL36: =D36*내역서!AL214 -> 0 | AM36: =D36*내역서!AM214 -> 0 | AN36: =D36*내역서!AN214 -> 0 | AO36: =D36*내역서!AO214 -> 0 | AP36: =D36*내역서!AP214 -> 0 | AQ36: =D36*내역서!AQ214 -> 0 | AR36: =D36*내역서!AR214 -> 0 | AS36: =D36*내역서!AS214 -> 0 | AT36: =D36*내역서!AT214 -> 0 | AU36: =D36*내역서!AU214 -> 0 | AV36: =D36*내역서!AV214 -> 0
A37: 0111. 창호공사 | C37: 식 | D37: 1 | E37: =내역서!F256 -> 0 | F37: =D37*E37 -> 0 | G37: =내역서!H256 -> 0 | H37: =D37*G37 -> 0 | I37: =내역서!J256 -> 0 | J37: =D37*I37 -> 0 | K37: =E37+G37+I37 -> 0 | L37: =F37+H37+J37 -> 0 | Q37: 1 | R37: =D37*내역서!R256 -> 0 | S37: =D37*내역서!S256 -> 0 | T37: =D37*내역서!T256 -> 0 | U37: =D37*내역서!U256 -> 0 | V37: =D37*내역서!V256 -> 0 | W37: =D37*내역서!W256 -> 0 | X37: =D37*내역서!X256 -> 0 | Y37: =D37*내역서!Y256 -> 0 | Z37: =D37*내역서!Z256 -> 0 | AA37: =D37*내역서!AA256 -> 0 | AB37: =D37*내역서!AB256 -> 0 | AC37: =D37*내역서!AC256 -> 0 | AD37: =D37*내역서!AD256 -> 0 | AE37: =D37*내역서!AE256 -> 0 | AF37: =D37*내역서!AF256 -> 0 | AG37: =D37*내역서!AG256 -> 0 | AH37: =D37*내역서!AH256 -> 0 | AI37: =D37*내역서!AI256 -> 0 | AJ37: =D37*내역서!AJ256 -> 0 | AK37: =D37*내역서!AK256 -> 0 | AL37: =D37*내역서!AL256 -> 0 | AM37: =D37*내역서!AM256 -> 0 | AN37: =D37*내역서!AN256 -> 0 | AO37: =D37*내역서!AO256 -> 0 | AP37: =D37*내역서!AP256 -> 0 | AQ37: =D37*내역서!AQ256 -> 0 | AR37: =D37*내역서!AR256 -> 0 | AS37: =D37*내역서!AS256 -> 0 | AT37: =D37*내역서!AT256 -> 0 | AU37: =D37*내역서!AU256 -> 0 | AV37: =D37*내역서!AV256 -> 0
A38: 0112. 유리공사 | C38: 식 | D38: 1 | E38: =내역서!F277 -> 0 | F38: =D38*E38 -> 0 | G38: =내역서!H277 -> 0 | H38: =D38*G38 -> 0 | I38: =내역서!J277 -> 0 | J38: =D38*I38 -> 0 | K38: =E38+G38+I38 -> 0 | L38: =F38+H38+J38 -> 0 | Q38: 1 | R38: =D38*내역서!R277 -> 0 | S38: =D38*내역서!S277 -> 0 | T38: =D38*내역서!T277 -> 0 | U38: =D38*내역서!U277 -> 0 | V38: =D38*내역서!V277 -> 0 | W38: =D38*내역서!W277 -> 0 | X38: =D38*내역서!X277 -> 0 | Y38: =D38*내역서!Y277 -> 0 | Z38: =D38*내역서!Z277 -> 0 | AA38: =D38*내역서!AA277 -> 0 | AB38: =D38*내역서!AB277 -> 0 | AC38: =D38*내역서!AC277 -> 0 | AD38: =D38*내역서!AD277 -> 0 | AE38: =D38*내역서!AE277 -> 0 | AF38: =D38*내역서!AF277 -> 0 | AG38: =D38*내역서!AG277 -> 0 | AH38: =D38*내역서!AH277 -> 0 | AI38: =D38*내역서!AI277 -> 0 | AJ38: =D38*내역서!AJ277 -> 0 | AK38: =D38*내역서!AK277 -> 0 | AL38: =D38*내역서!AL277 -> 0 | AM38: =D38*내역서!AM277 -> 0 | AN38: =D38*내역서!AN277 -> 0 | AO38: =D38*내역서!AO277 -> 0 | AP38: =D38*내역서!AP277 -> 0 | AQ38: =D38*내역서!AQ277 -> 0 | AR38: =D38*내역서!AR277 -> 0 | AS38: =D38*내역서!AS277 -> 0 | AT38: =D38*내역서!AT277 -> 0 | AU38: =D38*내역서!AU277 -> 0 | AV38: =D38*내역서!AV277 -> 0
A39: 0113. 도장공사 | C39: 식 | D39: 1 | E39: =내역서!F298 -> 0 | F39: =D39*E39 -> 0 | G39: =내역서!H298 -> 0 | H39: =D39*G39 -> 0 | I39: =내역서!J298 -> 0 | J39: =D39*I39 -> 0 | K39: =E39+G39+I39 -> 0 | L39: =F39+H39+J39 -> 0 | Q39: 1 | R39: =D39*내역서!R298 -> 0 | S39: =D39*내역서!S298 -> 0 | T39: =D39*내역서!T298 -> 0 | U39: =D39*내역서!U298 -> 0 | V39: =D39*내역서!V298 -> 0 | W39: =D39*내역서!W298 -> 0 | X39: =D39*내역서!X298 -> 0 | Y39: =D39*내역서!Y298 -> 0 | Z39: =D39*내역서!Z298 -> 0 | AA39: =D39*내역서!AA298 -> 0 | AB39: =D39*내역서!AB298 -> 0 | AC39: =D39*내역서!AC298 -> 0 | AD39: =D39*내역서!AD298 -> 0 | AE39: =D39*내역서!AE298 -> 0 | AF39: =D39*내역서!AF298 -> 0 | AG39: =D39*내역서!AG298 -> 0 | AH39: =D39*내역서!AH298 -> 0 | AI39: =D39*내역서!AI298 -> 0 | AJ39: =D39*내역서!AJ298 -> 0 | AK39: =D39*내역서!AK298 -> 0 | AL39: =D39*내역서!AL298 -> 0 | AM39: =D39*내역서!AM298 -> 0 | AN39: =D39*내역서!AN298 -> 0 | AO39: =D39*내역서!AO298 -> 0 | AP39: =D39*내역서!AP298 -> 0 | AQ39: =D39*내역서!AQ298 -> 0 | AR39: =D39*내역서!AR298 -> 0 | AS39: =D39*내역서!AS298 -> 0 | AT39: =D39*내역서!AT298 -> 0 | AU39: =D39*내역서!AU298 -> 0 | AV39: =D39*내역서!AV298 -> 0
A40: 0114. 수장공사 | C40: 식 | D40: 1 | E40: =내역서!F319 -> 0 | F40: =D40*E40 -> 0 | G40: =내역서!H319 -> 0 | H40: =D40*G40 -> 0 | I40: =내역서!J319 -> 0 | J40: =D40*I40 -> 0 | K40: =E40+G40+I40 -> 0 | L40: =F40+H40+J40 -> 0 | Q40: 1 | R40: =D40*내역서!R319 -> 0 | S40: =D40*내역서!S319 -> 0 | T40: =D40*내역서!T319 -> 0 | U40: =D40*내역서!U319 -> 0 | V40: =D40*내역서!V319 -> 0 | W40: =D40*내역서!W319 -> 0 | X40: =D40*내역서!X319 -> 0 | Y40: =D40*내역서!Y319 -> 0 | Z40: =D40*내역서!Z319 -> 0 | AA40: =D40*내역서!AA319 -> 0 | AB40: =D40*내역서!AB319 -> 0 | AC40: =D40*내역서!AC319 -> 0 | AD40: =D40*내역서!AD319 -> 0 | AE40: =D40*내역서!AE319 -> 0 | AF40: =D40*내역서!AF319 -> 0 | AG40: =D40*내역서!AG319 -> 0 | AH40: =D40*내역서!AH319 -> 0 | AI40: =D40*내역서!AI319 -> 0 | AJ40: =D40*내역서!AJ319 -> 0 | AK40: =D40*내역서!AK319 -> 0 | AL40: =D40*내역서!AL319 -> 0 | AM40: =D40*내역서!AM319 -> 0 | AN40: =D40*내역서!AN319 -> 0 | AO40: =D40*내역서!AO319 -> 0 | AP40: =D40*내역서!AP319 -> 0 | AQ40: =D40*내역서!AQ319 -> 0 | AR40: =D40*내역서!AR319 -> 0 | AS40: =D40*내역서!AS319 -> 0 | AT40: =D40*내역서!AT319 -> 0 | AU40: =D40*내역서!AU319 -> 0 | AV40: =D40*내역서!AV319 -> 0
A41: 0115. 철거공사 | C41: 식 | D41: 1 | E41: =내역서!F340 -> 0 | F41: =D41*E41 -> 0 | G41: =내역서!H340 -> 0 | H41: =D41*G41 -> 0 | I41: =내역서!J340 -> 0 | J41: =D41*I41 -> 0 | K41: =E41+G41+I41 -> 0 | L41: =F41+H41+J41 -> 0 | Q41: 1 | R41: =D41*내역서!R340 -> 0 | S41: =D41*내역서!S340 -> 0 | T41: =D41*내역서!T340 -> 0 | U41: =D41*내역서!U340 -> 0 | V41: =D41*내역서!V340 -> 0 | W41: =D41*내역서!W340 -> 0 | X41: =D41*내역서!X340 -> 0 | Y41: =D41*내역서!Y340 -> 0 | Z41: =D41*내역서!Z340 -> 0 | AA41: =D41*내역서!AA340 -> 0 | AB41: =D41*내역서!AB340 -> 0 | AC41: =D41*내역서!AC340 -> 0 | AD41: =D41*내역서!AD340 -> 0 | AE41: =D41*내역서!AE340 -> 0 | AF41: =D41*내역서!AF340 -> 0 | AG41: =D41*내역서!AG340 -> 0 | AH41: =D41*내역서!AH340 -> 0 | AI41: =D41*내역서!AI340 -> 0 | AJ41: =D41*내역서!AJ340 -> 0 | AK41: =D41*내역서!AK340 -> 0 | AL41: =D41*내역서!AL340 -> 0 | AM41: =D41*내역서!AM340 -> 0 | AN41: =D41*내역서!AN340 -> 0 | AO41: =D41*내역서!AO340 -> 0 | AP41: =D41*내역서!AP340 -> 0 | AQ41: =D41*내역서!AQ340 -> 0 | AR41: =D41*내역서!AR340 -> 0 | AS41: =D41*내역서!AS340 -> 0 | AT41: =D41*내역서!AT340 -> 0 | AU41: =D41*내역서!AU340 -> 0 | AV41: =D41*내역서!AV340 -> 0
A42: 0116. 석면해체제거공사 | C42: 식 | D42: 1 | E42: =내역서!F361 -> 0 | F42: =D42*E42 -> 0 | G42: =내역서!H361 -> 0 | H42: =D42*G42 -> 0 | I42: =내역서!J361 -> 0 | J42: =D42*I42 -> 0 | K42: =E42+G42+I42 -> 0 | L42: =F42+H42+J42 -> 0 | Q42: 1 | R42: =D42*내역서!R361 -> 0 | S42: =D42*내역서!S361 -> 0 | T42: =D42*내역서!T361 -> 0 | U42: =D42*내역서!U361 -> 0 | V42: =D42*내역서!V361 -> 0 | W42: =D42*내역서!W361 -> 0 | X42: =D42*내역서!X361 -> 0 | Y42: =D42*내역서!Y361 -> 0 | Z42: =D42*내역서!Z361 -> 0 | AA42: =D42*내역서!AA361 -> 0 | AB42: =D42*내역서!AB361 -> 0 | AC42: =D42*내역서!AC361 -> 0 | AD42: =D42*내역서!AD361 -> 0 | AE42: =D42*내역서!AE361 -> 0 | AF42: =D42*내역서!AF361 -> 0 | AG42: =D42*내역서!AG361 -> 0 | AH42: =D42*내역서!AH361 -> 0 | AI42: =D42*내역서!AI361 -> 0 | AJ42: =D42*내역서!AJ361 -> 0 | AK42: =D42*내역서!AK361 -> 0 | AL42: =D42*내역서!AL361 -> 0 | AM42: =D42*내역서!AM361 -> 0 | AN42: =D42*내역서!AN361 -> 0 | AO42: =D42*내역서!AO361 -> 0 | AP42: =D42*내역서!AP361 -> 0 | AQ42: =D42*내역서!AQ361 -> 0 | AR42: =D42*내역서!AR361 -> 0 | AS42: =D42*내역서!AS361 -> 0 | AT42: =D42*내역서!AT361 -> 0 | AU42: =D42*내역서!AU361 -> 0 | AV42: =D42*내역서!AV361 -> 0
A43: 0117. 골 재 대 | C43: 식 | D43: 1 | E43: =내역서!F382 -> 0 | F43: =D43*E43 -> 0 | G43: =내역서!H382 -> 0 | H43: =D43*G43 -> 0 | I43: =내역서!J382 -> 0 | J43: =D43*I43 -> 0 | K43: =E43+G43+I43 -> 0 | L43: =F43+H43+J43 -> 0 | Q43: 1 | R43: =D43*내역서!R382 -> 0 | S43: =D43*내역서!S382 -> 0 | T43: =D43*내역서!T382 -> 0 | U43: =D43*내역서!U382 -> 0 | V43: =D43*내역서!V382 -> 0 | W43: =D43*내역서!W382 -> 0 | X43: =D43*내역서!X382 -> 0 | Y43: =D43*내역서!Y382 -> 0 | Z43: =D43*내역서!Z382 -> 0 | AA43: =D43*내역서!AA382 -> 0 | AB43: =D43*내역서!AB382 -> 0 | AC43: =D43*내역서!AC382 -> 0 | AD43: =D43*내역서!AD382 -> 0 | AE43: =D43*내역서!AE382 -> 0 | AF43: =D43*내역서!AF382 -> 0 | AG43: =D43*내역서!AG382 -> 0 | AH43: =D43*내역서!AH382 -> 0 | AI43: =D43*내역서!AI382 -> 0 | AJ43: =D43*내역서!AJ382 -> 0 | AK43: =D43*내역서!AK382 -> 0 | AL43: =D43*내역서!AL382 -> 0 | AM43: =D43*내역서!AM382 -> 0 | AN43: =D43*내역서!AN382 -> 0 | AO43: =D43*내역서!AO382 -> 0 | AP43: =D43*내역서!AP382 -> 0 | AQ43: =D43*내역서!AQ382 -> 0 | AR43: =D43*내역서!AR382 -> 0 | AS43: =D43*내역서!AS382 -> 0 | AT43: =D43*내역서!AT382 -> 0 | AU43: =D43*내역서!AU382 -> 0 | AV43: =D43*내역서!AV382 -> 0
A44: 0118. 폐기물처리비(일반) | C44: 식 | D44: 1 | E44: =내역서!F403 -> 0 | F44: =D44*E44 -> 0 | G44: =내역서!H403 -> 0 | H44: =D44*G44 -> 0 | I44: =내역서!J403 -> 0 | J44: =D44*I44 -> 0 | K44: =E44+G44+I44 -> 0 | L44: =F44+H44+J44 -> 0 | M44: 합계제외 | R44: =D44*내역서!R403 -> 0 | S44: =D44*내역서!S403 -> 0 | T44: =D44*내역서!T403 -> 0 | U44: =D44*내역서!U403 -> 0 | V44: =D44*내역서!V403 -> 0 | W44: =D44*내역서!W403 -> 0 | X44: =D44*내역서!X403 -> 0 | Y44: =D44*내역서!Y403 -> 0 | Z44: =D44*내역서!Z403 -> 0 | AA44: =D44*내역서!AA403 -> 0 | AB44: =D44*내역서!AB403 -> 0 | AC44: =D44*내역서!AC403 -> 0 | AD44: =D44*내역서!AD403 -> 0 | AE44: =D44*내역서!AE403 -> 0 | AF44: =D44*내역서!AF403 -> 0 | AG44: =D44*내역서!AG403 -> 0 | AH44: =D44*내역서!AH403 -> 0 | AI44: =D44*내역서!AI403 -> 0 | AJ44: =D44*내역서!AJ403 -> 0 | AK44: =D44*내역서!AK403 -> 0 | AL44: =D44*내역서!AL403 -> 0 | AM44: =D44*내역서!AM403 -> 0 | AN44: =D44*내역서!AN403 -> 0 | AO44: =D44*내역서!AO403 -> 0 | AP44: =D44*내역서!AP403 -> 0 | AQ44: =D44*내역서!AQ403 -> 0 | AR44: =D44*내역서!AR403 -> 0 | AS44: =D44*내역서!AS403 -> 0 | AT44: =D44*내역서!AT403 -> 0 | AU44: =D44*내역서!AU403 -> 0 | AV44: =D44*내역서!AV403 -> 0
A45: 0119. 폐기물처리비(지정) | C45: 식 | D45: 1 | E45: =내역서!F424 -> 0 | F45: =D45*E45 -> 0 | G45: =내역서!H424 -> 0 | H45: =D45*G45 -> 0 | I45: =내역서!J424 -> 0 | J45: =D45*I45 -> 0 | K45: =E45+G45+I45 -> 0 | L45: =F45+H45+J45 -> 0 | M45: 합계제외 | R45: =D45*내역서!R424 -> 0 | S45: =D45*내역서!S424 -> 0 | T45: =D45*내역서!T424 -> 0 | U45: =D45*내역서!U424 -> 0 | V45: =D45*내역서!V424 -> 0 | W45: =D45*내역서!W424 -> 0 | X45: =D45*내역서!X424 -> 0 | Y45: =D45*내역서!Y424 -> 0 | Z45: =D45*내역서!Z424 -> 0 | AA45: =D45*내역서!AA424 -> 0 | AB45: =D45*내역서!AB424 -> 0 | AC45: =D45*내역서!AC424 -> 0 | AD45: =D45*내역서!AD424 -> 0 | AE45: =D45*내역서!AE424 -> 0 | AF45: =D45*내역서!AF424 -> 0 | AG45: =D45*내역서!AG424 -> 0 | AH45: =D45*내역서!AH424 -> 0 | AI45: =D45*내역서!AI424 -> 0 | AJ45: =D45*내역서!AJ424 -> 0 | AK45: =D45*내역서!AK424 -> 0 | AL45: =D45*내역서!AL424 -> 0 | AM45: =D45*내역서!AM424 -> 0 | AN45: =D45*내역서!AN424 -> 0 | AO45: =D45*내역서!AO424 -> 0 | AP45: =D45*내역서!AP424 -> 0 | AQ45: =D45*내역서!AQ424 -> 0 | AR45: =D45*내역서!AR424 -> 0 | AS45: =D45*내역서!AS424 -> 0 | AT45: =D45*내역서!AT424 -> 0 | AU45: =D45*내역서!AU424 -> 0 | AV45: =D45*내역서!AV424 -> 0
A46: 합 계 | F46: =SUMIF(Q27:Q45, "1", F27:F45) -> 0 | H46: =SUMIF(Q27:Q45, "1", H27:H45) -> 0 | J46: =SUMIF(Q27:Q45, "1", J27:J45) -> 0 | L46: =F46+H46+J46 -> 0 | R46: =SUM(R27:R45) -> 0 | S46: =SUM(S27:S45) -> 0 | T46: =SUM(T27:T45) -> 0 | U46: =SUM(U27:U45) -> 0 | V46: =SUM(V27:V45) -> 0 | W46: =SUM(W27:W45) -> 0 | X46: =SUM(X27:X45) -> 0 | Y46: =SUM(Y27:Y45) -> 0 | ... AY46: =SUM(AY27:AY45) -> 0
A47: 02. 인테리어공사
A48: 0201. 인테리어공사 | C48: 식 | D48: 1 | E48: =내역서!F445 -> 0 | F48: =D48*E48 -> 0 | G48: =내역서!H445 -> 0 | H48: =D48*G48 -> 0 | I48: =내역서!J445 -> 0 | J48: =D48*I48 -> 0 | K48: =E48+G48+I48 -> 0 | L48: =F48+H48+J48 -> 0 | Q48: 1 | R48: =D48*내역서!R445 -> 0 | S48: =D48*내역서!S445 -> 0 | T48: =D48*내역서!T445 -> 0 | U48: =D48*내역서!U445 -> 0 | V48: =D48*내역서!V445 -> 0 | W48: =D48*내역서!W445 -> 0 | X48: =D48*내역서!X445 -> 0 | Y48: =D48*내역서!Y445 -> 0 | Z48: =D48*내역서!Z445 -> 0 | AA48: =D48*내역서!AA445 -> 0 | AB48: =D48*내역서!AB445 -> 0 | AC48: =D48*내역서!AC445 -> 0 | AD48: =D48*내역서!AD445 -> 0 | AE48: =D48*내역서!AE445 -> 0 | AF48: =D48*내역서!AF445 -> 0 | AG48: =D48*내역서!AG445 -> 0 | AH48: =D48*내역서!AH445 -> 0 | AI48: =D48*내역서!AI445 -> 0 | AJ48: =D48*내역서!AJ445 -> 0 | AK48: =D48*내역서!AK445 -> 0 | AL48: =D48*내역서!AL445 -> 0 | AM48: =D48*내역서!AM445 -> 0 | AN48: =D48*내역서!AN445 -> 0 | AO48: =D48*내역서!AO445 -> 0 | AP48: =D48*내역서!AP445 -> 0 | AQ48: =D48*내역서!AQ445 -> 0 | AR48: =D48*내역서!AR445 -> 0 | AS48: =D48*내역서!AS445 -> 0 | AT48: =D48*내역서!AT445 -> 0 | AU48: =D48*내역서!AU445 -> 0 | AV48: =D48*내역서!AV445 -> 0
A67: 합 계 | F67: =SUMIF(Q48:Q48, "1", F48:F48) -> 0 | H67: =SUMIF(Q48:Q48, "1", H48:H48) -> 0 | J67: =SUMIF(Q48:Q48, "1", J48:J48) -> 0 | L67: =F67+H67+J67 -> 0 | R67: =SUM(R48:R48) -> 0 | S67: =SUM(S48:S48) -> 0 | T67: =SUM(T48:T48) -> 0 | U67: =SUM(U48:U48) -> 0 | V67: =SUM(V48:V48) -> 0 | W67: =SUM(W48:W48) -> 0 | X67: =SUM(X48:X48) -> 0 | Y67: =SUM(Y48:Y48) -> 0 | ... AY67: =SUM(AY48:AY48) -> 0

Sheet 내역서
A1: 내 역 서
A2: 공사명 : (대학혁신지원사업) 스미스관 교육 환경개선 공사
A3: 품 명 | B3: 규 격 | C3: 단위 | D3: 수 량 | E3: 재 료 비 | G3: 노 무 비 | I3: 경 비 | K3: 합 계 | M3: 비고
E4: 단 가 | F4: 금 액 | G4: 단 가 | H4: 금 액 | I4: 단 가 | J4: 금 액 | K4: 단 가 | L4: 금 액 | N4: 손료요율 | O4: 손료구분 | P4: 적용구분 | Q4: 합계구분 | R4: 기계경비 | S4: 운반비 | T4: 작업부산물 | U4: 관급 | V4: 외주비 | W4: 장비비 | X4: 폐기물처리비 | Y4: 가설비 | Z4: 잡비제외분 | AA4: 사급자재대 | AB4: 관급자재대 | AC4: 사용자항목1 | AD4: 사용자항목2 | AE4: 안전관리비 | AF4: 품질관리비 | AG4: 작업부산물(철거해체) | AH4: 사용자항목6 | AI4: 사용자항목7 | AJ4: 관급자재대(관급자) | AK4: 관급자재대(관급자) | AL4: 사용자항목10 | AM4: 폐기물처리비(일반) | AN4: 폐기물처리비(지정) | AO4: 사용자항목13 | AP4: 사용자항목14 | AQ4: 사용자항목15 | AR4: 사용자항목16 | AS4: 사용자항목17 | AT4: 사용자항목18 | AU4: 사용자항목19 | AV4: 간접재료비 | AW4: 품목구분 | AX4: 조달코드 | AY4: 구분
A5: 0101. 가설공사
A6: 이동식강관말비계 | B6: 1개월,1단(2m) | C6: 1대 | D6: 20 | F6: =ROUNDDOWN(D6*E6, 0) -> 0 | H6: =ROUNDDOWN(D6*G6, 0) -> 0 | J6: =ROUNDDOWN(D6*I6, 0) -> 0 | K6: =E6+G6+I6 -> 0 | L6: =F6+H6+J6 -> 0 | M6: 일위 1호 | O6: ="" | P6: 기계경비 | Q6: 1 | R6: =IF(P6="기계경비", J6, 0) -> 0 | S6: =IF(P6="운반비", L6, 0) -> 0 | T6: =IF(P6="작업부산물", F6, 0) -> 0 | U6: =IF(P6="관급", F6, 0) -> 0 | V6: =IF(P6="외주비", J6, 0) -> 0 | W6: =IF(P6="장비비", J6, 0) -> 0 | X6: =IF(P6="폐기물처리비", L6, 0) -> 0 | Y6: =IF(P6="가설비", J6, 0) -> 0 | Z6: =IF(P6="잡비제외분", F6, 0) -> 0 | AA6: =IF(P6="사급자재대", L6, 0) -> 0 | AB6: =IF(P6="관급자재대", L6, 0) -> 0 | AC6: =IF(P6="사용자항목1", L6, 0) -> 0 | AD6: =IF(P6="사용자항목2", L6, 0) -> 0 | AE6: =IF(P6="안전관리비", L6, 0) -> 0 | AF6: =IF(P6="품질관리비", L6, 0) -> 0 | AG6: =IF(P6="작업부산물(철거해체)", L6, 0) -> 0 | AH6: =IF(P6="사용자항목6", L6, 0) -> 0 | AI6: =IF(P6="사용자항목7", L6, 0) -> 0 | AJ6: =IF(P6="관급자재대(관급자)", L6, 0) -> 0 | AK6: =IF(P6="관급자재대(관급자)", L6, 0) -> 0 | AL6: =IF(P6="사용자항목10", L6, 0) -> 0 | AM6: =IF(P6="폐기물처리비(일반)", L6, 0) -> 0 | AN6: =IF(P6="폐기물처리비(지정)", L6, 0) -> 0 | AO6: =IF(P6="사용자항목13", L6, 0) -> 0 | AP6: =IF(P6="사용자항목14", L6, 0) -> 0 | AQ6: =IF(P6="사용자항목15", L6, 0) -> 0 | AR6: =IF(P6="사용자항목16", L6, 0) -> 0 | AS6: =IF(P6="사용자항목17", L6, 0) -> 0 | AT6: =IF(P6="사용자항목18", L6, 0) -> 0 | AU6: =IF(P6="사용자항목19", L6, 0) -> 0
A7: 건축물현장정리 | C7: M2 | D7: 3888.3 | F7: =ROUNDDOWN(D7*E7, 0) -> 0 | H7: =ROUNDDOWN(D7*G7, 0) -> 0 | J7: =ROUNDDOWN(D7*I7, 0) -> 0 | K7: =E7+G7+I7 -> 0 | L7: =F7+H7+J7 -> 0 | O7: ="" | P7: 기계경비 | Q7: 1 | R7: =IF(P7="기계경비", J7, 0) -> 0 | S7: =IF(P7="운반비", L7, 0) -> 0 | T7: =IF(P7="작업부산물", F7, 0) -> 0 | U7: =IF(P7="관급", F7, 0) -> 0 | V7: =IF(P7="외주비", J7, 0) -> 0 | W7: =IF(P7="장비비", J7, 0) -> 0 | X7: =IF(P7="폐기물처리비", L7, 0) -> 0 | Y7: =IF(P7="가설비", J7, 0) -> 0 | Z7: =IF(P7="잡비제외분", F7, 0) -> 0 | AA7: =IF(P7="사급자재대", L7, 0) -> 0 | AB7: =IF(P7="관급자재대", L7, 0) -> 0 | AC7: =IF(P7="사용자항목1", L7, 0) -> 0 | AD7: =IF(P7="사용자항목2", L7, 0) -> 0 | AE7: =IF(P7="안전관리비", L7, 0) -> 0 | AF7: =IF(P7="품질관리비", L7, 0) -> 0 | AG7: =IF(P7="작업부산물(철거해체)", L7, 0) -> 0 | AH7: =IF(P7="사용자항목6", L7, 0) -> 0 | AI7: =IF(P7="사용자항목7", L7, 0) -> 0 | AJ7: =IF(P7="관급자재대(관급자)", L7, 0) -> 0 | AK7: =IF(P7="관급자재대(관급자)", L7, 0) -> 0 | AL7: =IF(P7="사용자항목10", L7, 0) -> 0 | AM7: =IF(P7="폐기물처리비(일반)", L7, 0) -> 0 | AN7: =IF(P7="폐기물처리비(지정)", L7, 0) -> 0 | AO7: =IF(P7="사용자항목13", L7, 0) -> 0 | AP7: =IF(P7="사용자항목14", L7, 0) -> 0 | AQ7: =IF(P7="사용자항목15", L7, 0) -> 0 | AR7: =IF(P7="사용자항목16", L7, 0) -> 0 | AS7: =IF(P7="사용자항목17", L7, 0) -> 0 | AT7: =IF(P7="사용자항목18", L7, 0) -> 0 | AU7: =IF(P7="사용자항목19", L7, 0) -> 0
A8: 고소작업장비(스카이) | B8: 5TON(40m급) | C8: 일 | D8: 7 | F8: =ROUNDDOWN(D8*E8, 0) -> 0 | H8: =ROUNDDOWN(D8*G8, 0) -> 0 | J8: =ROUNDDOWN(D8*I8, 0) -> 0 | K8: =E8+G8+I8 -> 0 | L8: =F8+H8+J8 -> 0 | M8: 일위 2호 | O8: ="" | P8: 기계경비 | Q8: 1 | R8: =IF(P8="기계경비", J8, 0) -> 0 | S8: =IF(P8="운반비", L8, 0) -> 0 | T8: =IF(P8="작업부산물", F8, 0) -> 0 | U8: =IF(P8="관급", F8, 0) -> 0 | V8: =IF(P8="외주비", J8, 0) -> 0 | W8: =IF(P8="장비비", J8, 0) -> 0 | X8: =IF(P8="폐기물처리비", L8, 0) -> 0 | Y8: =IF(P8="가설비", J8, 0) -> 0 | Z8: =IF(P8="잡비제외분", F8, 0) -> 0 | AA8: =IF(P8="사급자재대", L8, 0) -> 0 | AB8: =IF(P8="관급자재대", L8, 0) -> 0 | AC8: =IF(P8="사용자항목1", L8, 0) -> 0 | AD8: =IF(P8="사용자항목2", L8, 0) -> 0 | AE8: =IF(P8="안전관리비", L8, 0) -> 0 | AF8: =IF(P8="품질관리비", L8, 0) -> 0 | AG8: =IF(P8="작업부산물(철거해체)", L8, 0) -> 0 | AH8: =IF(P8="사용자항목6", L8, 0) -> 0 | AI8: =IF(P8="사용자항목7", L8, 0) -> 0 | AJ8: =IF(P8="관급자재대(관급자)", L8, 0) -> 0 | AK8: =IF(P8="관급자재대(관급자)", L8, 0) -> 0 | AL8: =IF(P8="사용자항목10", L8, 0) -> 0 | AM8: =IF(P8="폐기물처리비(일반)", L8, 0) -> 0 | AN8: =IF(P8="폐기물처리비(지정)", L8, 0) -> 0 | AO8: =IF(P8="사용자항목13", L8, 0) -> 0 | AP8: =IF(P8="사용자항목14", L8, 0) -> 0 | AQ8: =IF(P8="사용자항목15", L8, 0) -> 0 | AR8: =IF(P8="사용자항목16", L8, 0) -> 0 | AS8: =IF(P8="사용자항목17", L8, 0) -> 0 | AT8: =IF(P8="사용자항목18", L8, 0) -> 0 | AU8: =IF(P8="사용자항목19", L8, 0) -> 0
A25: 합 계 | F25: =ROUNDDOWN(SUMIF(Q6:Q24, "1", F6:F24), 0) -> 0 | H25: =ROUNDDOWN(SUMIF(Q6:Q24, "1", H6:H24), 0) -> 0 | J25: =ROUNDDOWN(SUMIF(Q6:Q24, "1", J6:J24), 0) -> 0 | L25: =F25+H25+J25 -> 0 | R25: =ROUNDDOWN(SUM(R6:R8), 0) -> 0 | S25: =ROUNDDOWN(SUM(S6:S8), 0) -> 0 | T25: =ROUNDDOWN(SUM(T6:T8), 0) -> 0 | U25: =ROUNDDOWN(SUM(U6:U8), 0) -> 0 | V25: =ROUNDDOWN(SUM(V6:V8), 0) -> 0 | W25: =ROUNDDOWN(SUM(W6:W8), 0) -> 0 | X25: =ROUNDDOWN(SUM(X6:X8), 0) -> 0 | Y25: =ROUNDDOWN(SUM(Y6:Y8), 0) -> 0 | ... AY25: =ROUNDDOWN(SUM(AY6:AY8), 0) -> 0
A26: 0102. 철근콘크리트공사
A27: 장비기초대 설치 | B27: 6,600×1,300×200,와이어메쉬 #8-150×150 | C27: 개소 | D27: 2 | F27: =ROUNDDOWN(D27*E27, 0) -> 0 | H27: =ROUNDDOWN(D27*G27, 0) -> 0 | J27: =ROUNDDOWN(D27*I27, 0) -> 0 | K27: =E27+G27+I27 -> 0 | L27: =F27+H27+J27 -> 0 | M27: 일위 3호 | O27: ="" | P27: 기계경비 | Q27: 1 | R27: =IF(P27="기계경비", J27, 0) -> 0 | S27: =IF(P27="운반비", L27, 0) -> 0 | T27: =IF(P27="작업부산물", F27, 0) -> 0 | U27: =IF(P27="관급", F27, 0) -> 0 | V27: =IF(P27="외주비", J27, 0) -> 0 | W27: =IF(P27="장비비", J27, 0) -> 0 | X27: =IF(P27="폐기물처리비", L27, 0) -> 0 | Y27: =IF(P27="가설비", J27, 0) -> 0 | Z27: =IF(P27="잡비제외분", F27, 0) -> 0 | AA27: =IF(P27="사급자재대", L27, 0) -> 0 | AB27: =IF(P27="관급자재대", L27, 0) -> 0 | AC27: =IF(P27="사용자항목1", L27, 0) -> 0 | AD27: =IF(P27="사용자항목2", L27, 0) -> 0 | AE27: =IF(P27="안전관리비", L27, 0) -> 0 | AF27: =IF(P27="품질관리비", L27, 0) -> 0 | AG27: =IF(P27="작업부산물(철거해체)", L27, 0) -> 0 | AH27: =IF(P27="사용자항목6", L27, 0) -> 0 | AI27: =IF(P27="사용자항목7", L27, 0) -> 0 | AJ27: =IF(P27="관급자재대(관급자)", L27, 0) -> 0 | AK27: =IF(P27="관급자재대(관급자)", L27, 0) -> 0 | AL27: =IF(P27="사용자항목10", L27, 0) -> 0 | AM27: =IF(P27="폐기물처리비(일반)", L27, 0) -> 0 | AN27: =IF(P27="폐기물처리비(지정)", L27, 0) -> 0 | AO27: =IF(P27="사용자항목13", L27, 0) -> 0 | AP27: =IF(P27="사용자항목14", L27, 0) -> 0 | AQ27: =IF(P27="사용자항목15", L27, 0) -> 0 | AR27: =IF(P27="사용자항목16", L27, 0) -> 0 | AS27: =IF(P27="사용자항목17", L27, 0) -> 0 | AT27: =IF(P27="사용자항목18", L27, 0) -> 0 | AU27: =IF(P27="사용자항목19", L27, 0) -> 0
A46: 합 계 | F46: =ROUNDDOWN(SUMIF(Q27:Q45, "1", F27:F45), 0) -> 0 | H46: =ROUNDDOWN(SUMIF(Q27:Q45, "1", H27:H45), 0) -> 0 | J46: =ROUNDDOWN(SUMIF(Q27:Q45, "1", J27:J45), 0) -> 0 | L46: =F46+H46+J46 -> 0 | R46: =ROUNDDOWN(SUM(R27:R27), 0) -> 0 | S46: =ROUNDDOWN(SUM(S27:S27), 0) -> 0 | T46: =ROUNDDOWN(SUM(T27:T27), 0) -> 0 | U46: =ROUNDDOWN(SUM(U27:U27), 0) -> 0 | V46: =ROUNDDOWN(SUM(V27:V27), 0) -> 0 | W46: =ROUNDDOWN(SUM(W27:W27), 0) -> 0 | X46: =ROUNDDOWN(SUM(X27:X27), 0) -> 0 | Y46: =ROUNDDOWN(SUM(Y27:Y27), 0) -> 0 | ... AY46: =ROUNDDOWN(SUM(AY27:AY27), 0) -> 0
A47: 0103. 조적공사
A48: 콘크리트벽돌 | B48: 콘크리트벽돌, 190×57×90mm, C종2급 | C48: 매 | D48: 5371 | F48: =ROUNDDOWN(D48*E48, 0) -> 0 | H48: =ROUNDDOWN(D48*G48, 0) -> 0 | J48: =ROUNDDOWN(D48*I48, 0) -> 0 | K48: =E48+G48+I48 -> 0 | L48: =F48+H48+J48 -> 0 | M48: 자재 86호 | O48: ="01" -> 01 | P48: 기계경비 | Q48: 1 | R48: =IF(P48="기계경비", J48, 0) -> 0 | S48: =IF(P48="운반비", L48, 0) -> 0 | T48: =IF(P48="작업부산물", F48, 0) -> 0 | U48: =IF(P48="관급", F48, 0) -> 0 | V48: =IF(P48="외주비", J48, 0) -> 0 | W48: =IF(P48="장비비", J48, 0) -> 0 | X48: =IF(P48="폐기물처리비", L48, 0) -> 0 | Y48: =IF(P48="가설비", J48, 0) -> 0 | Z48: =IF(P48="잡비제외분", F48, 0) -> 0 | AA48: =IF(P48="사급자재대", L48, 0) -> 0 | AB48: =IF(P48="관급자재대", L48, 0) -> 0 | AC48: =IF(P48="사용자항목1", L48, 0) -> 0 | AD48: =IF(P48="사용자항목2", L48, 0) -> 0 | AE48: =IF(P48="안전관리비", L48, 0) -> 0 | AF48: =IF(P48="품질관리비", L48, 0) -> 0 | AG48: =IF(P48="작업부산물(철거해체)", L48, 0) -> 0 | AH48: =IF(P48="사용자항목6", L48, 0) -> 0 | AI48: =IF(P48="사용자항목7", L48, 0) -> 0 | AJ48: =IF(P48="관급자재대(관급자)", L48, 0) -> 0 | AK48: =IF(P48="관급자재대(관급자)", L48, 0) -> 0 | AL48: =IF(P48="사용자항목10", L48, 0) -> 0 | AM48: =IF(P48="폐기물처리비(일반)", L48, 0) -> 0 | AN48: =IF(P48="폐기물처리비(지정)", L48, 0) -> 0 | AO48: =IF(P48="사용자항목13", L48, 0) -> 0 | AP48: =IF(P48="사용자항목14", L48, 0) -> 0 | AQ48: =IF(P48="사용자항목15", L48, 0) -> 0 | AR48: =IF(P48="사용자항목16", L48, 0) -> 0 | AS48: =IF(P48="사용자항목17", L48, 0) -> 0 | AT48: =IF(P48="사용자항목18", L48, 0) -> 0 | AU48: =IF(P48="사용자항목19", L48, 0) -> 0
A49: 시멘트벽돌 쌓기 | B49: 0.5B, 3.6m 이하 | C49: M2 | D49: 24.6 | F49: =ROUNDDOWN(D49*E49, 0) -> 0 | H49: =ROUNDDOWN(D49*G49, 0) -> 0 | J49: =ROUNDDOWN(D49*I49, 0) -> 0 | K49: =E49+G49+I49 -> 0 | L49: =F49+H49+J49 -> 0 | M49: 일위 4호 | O49: ="" | P49: 기계경비 | Q49: 1 | R49: =IF(P49="기계경비", J49, 0) -> 0 | S49: =IF(P49="운반비", L49, 0) -> 0 | T49: =IF(P49="작업부산물", F49, 0) -> 0 | U49: =IF(P49="관급", F49, 0) -> 0 | V49: =IF(P49="외주비", J49, 0) -> 0 | W49: =IF(P49="장비비", J49, 0) -> 0 | X49: =IF(P49="폐기물처리비", L49, 0) -> 0 | Y49: =IF(P49="가설비", J49, 0) -> 0 | Z49: =IF(P49="잡비제외분", F49, 0) -> 0 | AA49: =IF(P49="사급자재대", L49, 0) -> 0 | AB49: =IF(P49="관급자재대", L49, 0) -> 0 | AC49: =IF(P49="사용자항목1", L49, 0) -> 0 | AD49: =IF(P49="사용자항목2", L49, 0) -> 0 | AE49: =IF(P49="안전관리비", L49, 0) -> 0 | AF49: =IF(P49="품질관리비", L49, 0) -> 0 | AG49: =IF(P49="작업부산물(철거해체)", L49, 0) -> 0 | AH49: =IF(P49="사용자항목6", L49, 0) -> 0 | AI49: =IF(P49="사용자항목7", L49, 0) -> 0 | AJ49: =IF(P49="관급자재대(관급자)", L49, 0) -> 0 | AK49: =IF(P49="관급자재대(관급자)", L49, 0) -> 0 | AL49: =IF(P49="사용자항목10", L49, 0) -> 0 | AM49: =IF(P49="폐기물처리비(일반)", L49, 0) -> 0 | AN49: =IF(P49="폐기물처리비(지정)", L49, 0) -> 0 | AO49: =IF(P49="사용자항목13", L49, 0) -> 0 | AP49: =IF(P49="사용자항목14", L49, 0) -> 0 | AQ49: =IF(P49="사용자항목15", L49, 0) -> 0 | AR49: =IF(P49="사용자항목16", L49, 0) -> 0 | AS49: =IF(P49="사용자항목17", L49, 0) -> 0 | AT49: =IF(P49="사용자항목18", L49, 0) -> 0 | AU49: =IF(P49="사용자항목19", L49, 0) -> 0 | AY49: 무성적산
A50: 벽돌소운반 | B50: 인력, 1층 | C50: 천매 | D50: 3.554 | F50: =ROUNDDOWN(D50*E50, 0) -> 0 | H50: =ROUNDDOWN(D50*G50, 0) -> 0 | J50: =ROUNDDOWN(D50*I50, 0) -> 0 | K50: =E50+G50+I50 -> 0 | L50: =F50+H50+J50 -> 0 | M50: 일위 5호 | O50: ="" | P50: 기계경비 | Q50: 1 | R50: =IF(P50="기계경비", J50, 0) -> 0 | S50: =IF(P50="운반비", L50, 0) -> 0 | T50: =IF(P50="작업부산물", F50, 0) -> 0 | U50: =IF(P50="관급", F50, 0) -> 0 | V50: =IF(P50="외주비", J50, 0) -> 0 | W50: =IF(P50="장비비", J50, 0) -> 0 | X50: =IF(P50="폐기물처리비", L50, 0) -> 0 | Y50: =IF(P50="가설비", J50, 0) -> 0 | Z50: =IF(P50="잡비제외분", F50, 0) -> 0 | AA50: =IF(P50="사급자재대", L50, 0) -> 0 | AB50: =IF(P50="관급자재대", L50, 0) -> 0 | AC50: =IF(P50="사용자항목1", L50, 0) -> 0 | AD50: =IF(P50="사용자항목2", L50, 0) -> 0 | AE50: =IF(P50="안전관리비", L50, 0) -> 0 | AF50: =IF(P50="품질관리비", L50, 0) -> 0 | AG50: =IF(P50="작업부산물(철거해체)", L50, 0) -> 0 | AH50: =IF(P50="사용자항목6", L50, 0) -> 0 | AI50: =IF(P50="사용자항목7", L50, 0) -> 0 | AJ50: =IF(P50="관급자재대(관급자)", L50, 0) -> 0 | AK50: =IF(P50="관급자재대(관급자)", L50, 0) -> 0 | AL50: =IF(P50="사용자항목10", L50, 0) -> 0 | AM50: =IF(P50="폐기물처리비(일반)", L50, 0) -> 0 | AN50: =IF(P50="폐기물처리비(지정)", L50, 0) -> 0 | AO50: =IF(P50="사용자항목13", L50, 0) -> 0 | AP50: =IF(P50="사용자항목14", L50, 0) -> 0 | AQ50: =IF(P50="사용자항목15", L50, 0) -> 0 | AR50: =IF(P50="사용자항목16", L50, 0) -> 0 | AS50: =IF(P50="사용자항목17", L50, 0) -> 0 | AT50: =IF(P50="사용자항목18", L50, 0) -> 0 | AU50: =IF(P50="사용자항목19", L50, 0) -> 0
A51: 벽돌소운반 | B51: 인력, 3층 | C51: 천매 | D51: 1.816 | F51: =ROUNDDOWN(D51*E51, 0) -> 0 | H51: =ROUNDDOWN(D51*G51, 0) -> 0 | J51: =ROUNDDOWN(D51*I51, 0) -> 0 | K51: =E51+G51+I51 -> 0 | L51: =F51+H51+J51 -> 0 | M51: 일위 6호 | O51: ="" | P51: 기계경비 | Q51: 1 | R51: =IF(P51="기계경비", J51, 0) -> 0 | S51: =IF(P51="운반비", L51, 0) -> 0 | T51: =IF(P51="작업부산물", F51, 0) -> 0 | U51: =IF(P51="관급", F51, 0) -> 0 | V51: =IF(P51="외주비", J51, 0) -> 0 | W51: =IF(P51="장비비", J51, 0) -> 0 | X51: =IF(P51="폐기물처리비", L51, 0) -> 0 | Y51: =IF(P51="가설비", J51, 0) -> 0 | Z51: =IF(P51="잡비제외분", F51, 0) -> 0 | AA51: =IF(P51="사급자재대", L51, 0) -> 0 | AB51: =IF(P51="관급자재대", L51, 0) -> 0 | AC51: =IF(P51="사용자항목1", L51, 0) -> 0 | AD51: =IF(P51="사용자항목2", L51, 0) -> 0 | AE51: =IF(P51="안전관리비", L51, 0) -> 0 | AF51: =IF(P51="품질관리비", L51, 0) -> 0 | AG51: =IF(P51="작업부산물(철거해체)", L51, 0) -> 0 | AH51: =IF(P51="사용자항목6", L51, 0) -> 0 | AI51: =IF(P51="사용자항목7", L51, 0) -> 0 | AJ51: =IF(P51="관급자재대(관급자)", L51, 0) -> 0 | AK51: =IF(P51="관급자재대(관급자)", L51, 0) -> 0 | AL51: =IF(P51="사용자항목10", L51, 0) -> 0 | AM51: =IF(P51="폐기물처리비(일반)", L51, 0) -> 0 | AN51: =IF(P51="폐기물처리비(지정)", L51, 0) -> 0 | AO51: =IF(P51="사용자항목13", L51, 0) -> 0 | AP51: =IF(P51="사용자항목14", L51, 0) -> 0 | AQ51: =IF(P51="사용자항목15", L51, 0) -> 0 | AR51: =IF(P51="사용자항목16", L51, 0) -> 0 | AS51: =IF(P51="사용자항목17", L51, 0) -> 0 | AT51: =IF(P51="사용자항목18", L51, 0) -> 0 | AU51: =IF(P51="사용자항목19", L51, 0) -> 0
A52: 시멘트벽돌 쌓기 | B52: 1.0B, 3.6m 이하 | C52: M2 | D52: 21.9 | F52: =ROUNDDOWN(D52*E52, 0) -> 0 | H52: =ROUNDDOWN(D52*G52, 0) -> 0 | J52: =ROUNDDOWN(D52*I52, 0) -> 0 | K52: =E52+G52+I52 -> 0 | L52: =F52+H52+J52 -> 0 | M52: 일위 7호 | O52: ="" | P52: 기계경비 | Q52: 1 | R52: =IF(P52="기계경비", J52, 0) -> 0 | S52: =IF(P52="운반비", L52, 0) -> 0 | T52: =IF(P52="작업부산물", F52, 0) -> 0 | U52: =IF(P52="관급", F52, 0) -> 0 | V52: =IF(P52="외주비", J52, 0) -> 0 | W52: =IF(P52="장비비", J52, 0) -> 0 | X52: =IF(P52="폐기물처리비", L52, 0) -> 0 | Y52: =IF(P52="가설비", J52, 0) -> 0 | Z52: =IF(P52="잡비제외분", F52, 0) -> 0 | AA52: =IF(P52="사급자재대", L52, 0) -> 0 | AB52: =IF(P52="관급자재대", L52, 0) -> 0 | AC52: =IF(P52="사용자항목1", L52, 0) -> 0 | AD52: =IF(P52="사용자항목2", L52, 0) -> 0 | AE52: =IF(P52="안전관리비", L52, 0) -> 0 | AF52: =IF(P52="품질관리비", L52, 0) -> 0 | AG52: =IF(P52="작업부산물(철거해체)", L52, 0) -> 0 | AH52: =IF(P52="사용자항목6", L52, 0) -> 0 | AI52: =IF(P52="사용자항목7", L52, 0) -> 0 | AJ52: =IF(P52="관급자재대(관급자)", L52, 0) -> 0 | AK52: =IF(P52="관급자재대(관급자)", L52, 0) -> 0 | AL52: =IF(P52="사용자항목10", L52, 0) -> 0 | AM52: =IF(P52="폐기물처리비(일반)", L52, 0) -> 0 | AN52: =IF(P52="폐기물처리비(지정)", L52, 0) -> 0 | AO52: =IF(P52="사용자항목13", L52, 0) -> 0 | AP52: =IF(P52="사용자항목14", L52, 0) -> 0 | AQ52: =IF(P52="사용자항목15", L52, 0) -> 0 | AR52: =IF(P52="사용자항목16", L52, 0) -> 0 | AS52: =IF(P52="사용자항목17", L52, 0) -> 0 | AT52: =IF(P52="사용자항목18", L52, 0) -> 0 | AU52: =IF(P52="사용자항목19", L52, 0) -> 0 | AY52: 무성적산
A53: 철근콘크리트인방 | B53: 200×200 | C53: M | D53: 1.3 | F53: =ROUNDDOWN(D53*E53, 0) -> 0 | H53: =ROUNDDOWN(D53*G53, 0) -> 0 | J53: =ROUNDDOWN(D53*I53, 0) -> 0 | K53: =E53+G53+I53 -> 0 | L53: =F53+H53+J53 -> 0 | M53: 일위 8호 | O53: ="" | P53: 기계경비 | Q53: 1 | R53: =IF(P53="기계경비", J53, 0) -> 0 | S53: =IF(P53="운반비", L53, 0) -> 0 | T53: =IF(P53="작업부산물", F53, 0) -> 0 | U53: =IF(P53="관급", F53, 0) -> 0 | V53: =IF(P53="외주비", J53, 0) -> 0 | W53: =IF(P53="장비비", J53, 0) -> 0 | X53: =IF(P53="폐기물처리비", L53, 0) -> 0 | Y53: =IF(P53="가설비", J53, 0) -> 0 | Z53: =IF(P53="잡비제외분", F53, 0) -> 0 | AA53: =IF(P53="사급자재대", L53, 0) -> 0 | AB53: =IF(P53="관급자재대", L53, 0) -> 0 | AC53: =IF(P53="사용자항목1", L53, 0) -> 0 | AD53: =IF(P53="사용자항목2", L53, 0) -> 0 | AE53: =IF(P53="안전관리비", L53, 0) -> 0 | AF53: =IF(P53="품질관리비", L53, 0) -> 0 | AG53: =IF(P53="작업부산물(철거해체)", L53, 0) -> 0 | AH53: =IF(P53="사용자항목6", L53, 0) -> 0 | AI53: =IF(P53="사용자항목7", L53, 0) -> 0 | AJ53: =IF(P53="관급자재대(관급자)", L53, 0) -> 0 | AK53: =IF(P53="관급자재대(관급자)", L53, 0) -> 0 | AL53: =IF(P53="사용자항목10", L53, 0) -> 0 | AM53: =IF(P53="폐기물처리비(일반)", L53, 0) -> 0 | AN53: =IF(P53="폐기물처리비(지정)", L53, 0) -> 0 | AO53: =IF(P53="사용자항목13", L53, 0) -> 0 | AP53: =IF(P53="사용자항목14", L53, 0) -> 0 | AQ53: =IF(P53="사용자항목15", L53, 0) -> 0 | AR53: =IF(P53="사용자항목16", L53, 0) -> 0 | AS53: =IF(P53="사용자항목17", L53, 0) -> 0 | AT53: =IF(P53="사용자항목18", L53, 0) -> 0 | AU53: =IF(P53="사용자항목19", L53, 0) -> 0 | AY53: 무성적산
A67: 합 계 | F67: =ROUNDDOWN(SUMIF(Q48:Q66, "1", F48:F66), 0) -> 0 | H67: =ROUNDDOWN(SUMIF(Q48:Q66, "1", H48:H66), 0) -> 0 | J67: =ROUNDDOWN(SUMIF(Q48:Q66, "1", J48:J66), 0) -> 0 | L67: =F67+H67+J67 -> 0 | R67: =ROUNDDOWN(SUM(R48:R53), 0) -> 0 | S67: =ROUNDDOWN(SUM(S48:S53), 0) -> 0 | T67: =ROUNDDOWN(SUM(T48:T53), 0) -> 0 | U67: =ROUNDDOWN(SUM(U48:U53), 0) -> 0 | V67: =ROUNDDOWN(SUM(V48:V53), 0) -> 0 | W67: =ROUNDDOWN(SUM(W48:W53), 0) -> 0 | X67: =ROUNDDOWN(SUM(X48:X53), 0) -> 0 | Y67: =ROUNDDOWN(SUM(Y48:Y53), 0) -> 0 | ... AY67: =ROUNDDOWN(SUM(AY48:AY53), 0) -> 0
A68: 0104. 돌및타일공사
A69: 화강석붙임(수전턱,습식) | B69: 수마,인조대리석 120×20mm,모르타르 30mm | C69: M | D69: 2 | F69: =ROUNDDOWN(D69*E69, 0) -> 0 | H69: =ROUNDDOWN(D69*G69, 0) -> 0 | J69: =ROUNDDOWN(D69*I69, 0) -> 0 | K69: =E69+G69+I69 -> 0 | L69: =F69+H69+J69 -> 0 | M69: 일위 9호 | O69: ="" | P69: 기계경비 | Q69: 1 | R69: =IF(P69="기계경비", J69, 0) -> 0 | S69: =IF(P69="운반비", L69, 0) -> 0 | T69: =IF(P69="작업부산물", F69, 0) -> 0 | U69: =IF(P69="관급", F69, 0) -> 0 | V69: =IF(P69="외주비", J69, 0) -> 0 | W69: =IF(P69="장비비", J69, 0) -> 0 | X69: =IF(P69="폐기물처리비", L69, 0) -> 0 | Y69: =IF(P69="가설비", J69, 0) -> 0 | Z69: =IF(P69="잡비제외분", F69, 0) -> 0 | AA69: =IF(P69="사급자재대", L69, 0) -> 0 | AB69: =IF(P69="관급자재대", L69, 0) -> 0 | AC69: =IF(P69="사용자항목1", L69, 0) -> 0 | AD69: =IF(P69="사용자항목2", L69, 0) -> 0 | AE69: =IF(P69="안전관리비", L69, 0) -> 0 | AF69: =IF(P69="품질관리비", L69, 0) -> 0 | AG69: =IF(P69="작업부산물(철거해체)", L69, 0) -> 0 | AH69: =IF(P69="사용자항목6", L69, 0) -> 0 | AI69: =IF(P69="사용자항목7", L69, 0) -> 0 | AJ69: =IF(P69="관급자재대(관급자)", L69, 0) -> 0 | AK69: =IF(P69="관급자재대(관급자)", L69, 0) -> 0 | AL69: =IF(P69="사용자항목10", L69, 0) -> 0 | AM69: =IF(P69="폐기물처리비(일반)", L69, 0) -> 0 | AN69: =IF(P69="폐기물처리비(지정)", L69, 0) -> 0 | AO69: =IF(P69="사용자항목13", L69, 0) -> 0 | AP69: =IF(P69="사용자항목14", L69, 0) -> 0 | AQ69: =IF(P69="사용자항목15", L69, 0) -> 0 | AR69: =IF(P69="사용자항목16", L69, 0) -> 0 | AS69: =IF(P69="사용자항목17", L69, 0) -> 0 | AT69: =IF(P69="사용자항목18", L69, 0) -> 0 | AU69: =IF(P69="사용자항목19", L69, 0) -> 0 | AY69: 무성적산
A88: 합 계 | F88: =ROUNDDOWN(SUMIF(Q69:Q87, "1", F69:F87), 0) -> 0 | H88: =ROUNDDOWN(SUMIF(Q69:Q87, "1", H69:H87), 0) -> 0 | J88: =ROUNDDOWN(SUMIF(Q69:Q87, "1", J69:J87), 0) -> 0 | L88: =F88+H88+J88 -> 0 | R88: =ROUNDDOWN(SUM(R69:R69), 0) -> 0 | S88: =ROUNDDOWN(SUM(S69:S69), 0) -> 0 | T88: =ROUNDDOWN(SUM(T69:T69), 0) -> 0 | U88: =ROUNDDOWN(SUM(U69:U69), 0) -> 0 | V88: =ROUNDDOWN(SUM(V69:V69), 0) -> 0 | W88: =ROUNDDOWN(SUM(W69:W69), 0) -> 0 | X88: =ROUNDDOWN(SUM(X69:X69), 0) -> 0 | Y88: =ROUNDDOWN(SUM(Y69:Y69), 0) -> 0 | ... AY88: =ROUNDDOWN(SUM(AY69:AY69), 0) -> 0
A89: 0105. 목 공 사
A90: 벽,띠장설치(미송) | B90: 30×30,@450×450 | C90: M2 | D90: 1.1 | F90: =ROUNDDOWN(D90*E90, 0) -> 0 | H90: =ROUNDDOWN(D90*G90, 0) -> 0 | J90: =ROUNDDOWN(D90*I90, 0) -> 0 | K90: =E90+G90+I90 -> 0 | L90: =F90+H90+J90 -> 0 | M90: 일위 10호 | O90: ="" | P90: 기계경비 | Q90: 1 | R90: =IF(P90="기계경비", J90, 0) -> 0 | S90: =IF(P90="운반비", L90, 0) -> 0 | T90: =IF(P90="작업부산물", F90, 0) -> 0 | U90: =IF(P90="관급", F90, 0) -> 0 | V90: =IF(P90="외주비", J90, 0) -> 0 | W90: =IF(P90="장비비", J90, 0) -> 0 | X90: =IF(P90="폐기물처리비", L90, 0) -> 0 | Y90: =IF(P90="가설비", J90, 0) -> 0 | Z90: =IF(P90="잡비제외분", F90, 0) -> 0 | AA90: =IF(P90="사급자재대", L90, 0) -> 0 | AB90: =IF(P90="관급자재대", L90, 0) -> 0 | AC90: =IF(P90="사용자항목1", L90, 0) -> 0 | AD90: =IF(P90="사용자항목2", L90, 0) -> 0 | AE90: =IF(P90="안전관리비", L90, 0) -> 0 | AF90: =IF(P90="품질관리비", L90, 0) -> 0 | AG90: =IF(P90="작업부산물(철거해체)", L90, 0) -> 0 | AH90: =IF(P90="사용자항목6", L90, 0) -> 0 | AI90: =IF(P90="사용자항목7", L90, 0) -> 0 | AJ90: =IF(P90="관급자재대(관급자)", L90, 0) -> 0 | AK90: =IF(P90="관급자재대(관급자)", L90, 0) -> 0 | AL90: =IF(P90="사용자항목10", L90, 0) -> 0 | AM90: =IF(P90="폐기물처리비(일반)", L90, 0) -> 0 | AN90: =IF(P90="폐기물처리비(지정)", L90, 0) -> 0 | AO90: =IF(P90="사용자항목13", L90, 0) -> 0 | AP90: =IF(P90="사용자항목14", L90, 0) -> 0 | AQ90: =IF(P90="사용자항목15", L90, 0) -> 0 | AR90: =IF(P90="사용자항목16", L90, 0) -> 0 | AS90: =IF(P90="사용자항목17", L90, 0) -> 0 | AT90: =IF(P90="사용자항목18", L90, 0) -> 0 | AU90: =IF(P90="사용자항목19", L90, 0) -> 0 | AY90: 무성적산
A109: 합 계 | F109: =ROUNDDOWN(SUMIF(Q90:Q108, "1", F90:F108), 0) -> 0 | H109: =ROUNDDOWN(SUMIF(Q90:Q108, "1", H90:H108), 0) -> 0 | J109: =ROUNDDOWN(SUMIF(Q90:Q108, "1", J90:J108), 0) -> 0 | L109: =F109+H109+J109 -> 0 | R109: =ROUNDDOWN(SUM(R90:R90), 0) -> 0 | S109: =ROUNDDOWN(SUM(S90:S90), 0) -> 0 | T109: =ROUNDDOWN(SUM(T90:T90), 0) -> 0 | U109: =ROUNDDOWN(SUM(U90:U90), 0) -> 0 | V109: =ROUNDDOWN(SUM(V90:V90), 0) -> 0 | W109: =ROUNDDOWN(SUM(W90:W90), 0) -> 0 | X109: =ROUNDDOWN(SUM(X90:X90), 0) -> 0 | Y109: =ROUNDDOWN(SUM(Y90:Y90), 0) -> 0 | ... AY109: =ROUNDDOWN(SUM(AY90:AY90), 0) -> 0
A110: 0106. 방수공사
A111: 노출복합시트방수 | B111: 바닥,3.5mm | C111: M2 | D111: 848.2 | F111: =ROUNDDOWN(D111*E111, 0) -> 0 | H111: =ROUNDDOWN(D111*G111, 0) -> 0 | J111: =ROUNDDOWN(D111*I111, 0) -> 0 | K111: =E111+G111+I111 -> 0 | L111: =F111+H111+J111 -> 0 | M111: 자재 18호 | O111: ="01" -> 01 | P111: 기계경비 | Q111: 1 | R111: =IF(P111="기계경비", J111, 0) -> 0 | S111: =IF(P111="운반비", L111, 0) -> 0 | T111: =IF(P111="작업부산물", F111, 0) -> 0 | U111: =IF(P111="관급", F111, 0) -> 0 | V111: =IF(P111="외주비", J111, 0) -> 0 | W111: =IF(P111="장비비", J111, 0) -> 0 | X111: =IF(P111="폐기물처리비", L111, 0) -> 0 | Y111: =IF(P111="가설비", J111, 0) -> 0 | Z111: =IF(P111="잡비제외분", F111, 0) -> 0 | AA111: =IF(P111="사급자재대", L111, 0) -> 0 | AB111: =IF(P111="관급자재대", L111, 0) -> 0 | AC111: =IF(P111="사용자항목1", L111, 0) -> 0 | AD111: =IF(P111="사용자항목2", L111, 0) -> 0 | AE111: =IF(P111="안전관리비", L111, 0) -> 0 | AF111: =IF(P111="품질관리비", L111, 0) -> 0 | AG111: =IF(P111="작업부산물(철거해체)", L111, 0) -> 0 | AH111: =IF(P111="사용자항목6", L111, 0) -> 0 | AI111: =IF(P111="사용자항목7", L111, 0) -> 0 | AJ111: =IF(P111="관급자재대(관급자)", L111, 0) -> 0 | AK111: =IF(P111="관급자재대(관급자)", L111, 0) -> 0 | AL111: =IF(P111="사용자항목10", L111, 0) -> 0 | AM111: =IF(P111="폐기물처리비(일반)", L111, 0) -> 0 | AN111: =IF(P111="폐기물처리비(지정)", L111, 0) -> 0 | AO111: =IF(P111="사용자항목13", L111, 0) -> 0 | AP111: =IF(P111="사용자항목14", L111, 0) -> 0 | AQ111: =IF(P111="사용자항목15", L111, 0) -> 0 | AR111: =IF(P111="사용자항목16", L111, 0) -> 0 | AS111: =IF(P111="사용자항목17", L111, 0) -> 0 | AT111: =IF(P111="사용자항목18", L111, 0) -> 0 | AU111: =IF(P111="사용자항목19", L111, 0) -> 0 | AY111: 무성적산
A112: 노출복합시트방수 | B112: 벽체,3.5mm | C112: M2 | D112: 47.5 | F112: =ROUNDDOWN(D112*E112, 0) -> 0 | H112: =ROUNDDOWN(D112*G112, 0) -> 0 | J112: =ROUNDDOWN(D112*I112, 0) -> 0 | K112: =E112+G112+I112 -> 0 | L112: =F112+H112+J112 -> 0 | M112: 자재 19호 | O112: ="01" -> 01 | P112: 기계경비 | Q112: 1 | R112: =IF(P112="기계경비", J112, 0) -> 0 | S112: =IF(P112="운반비", L112, 0) -> 0 | T112: =IF(P112="작업부산물", F112, 0) -> 0 | U112: =IF(P112="관급", F112, 0) -> 0 | V112: =IF(P112="외주비", J112, 0) -> 0 | W112: =IF(P112="장비비", J112, 0) -> 0 | X112: =IF(P112="폐기물처리비", L112, 0) -> 0 | Y112: =IF(P112="가설비", J112, 0) -> 0 | Z112: =IF(P112="잡비제외분", F112, 0) -> 0 | AA112: =IF(P112="사급자재대", L112, 0) -> 0 | AB112: =IF(P112="관급자재대", L112, 0) -> 0 | AC112: =IF(P112="사용자항목1", L112, 0) -> 0 | AD112: =IF(P112="사용자항목2", L112, 0) -> 0 | AE112: =IF(P112="안전관리비", L112, 0) -> 0 | AF112: =IF(P112="품질관리비", L112, 0) -> 0 | AG112: =IF(P112="작업부산물(철거해체)", L112, 0) -> 0 | AH112: =IF(P112="사용자항목6", L112, 0) -> 0 | AI112: =IF(P112="사용자항목7", L112, 0) -> 0 | AJ112: =IF(P112="관급자재대(관급자)", L112, 0) -> 0 | AK112: =IF(P112="관급자재대(관급자)", L112, 0) -> 0 | AL112: =IF(P112="사용자항목10", L112, 0) -> 0 | AM112: =IF(P112="폐기물처리비(일반)", L112, 0) -> 0 | AN112: =IF(P112="폐기물처리비(지정)", L112, 0) -> 0 | AO112: =IF(P112="사용자항목13", L112, 0) -> 0 | AP112: =IF(P112="사용자항목14", L112, 0) -> 0 | AQ112: =IF(P112="사용자항목15", L112, 0) -> 0 | AR112: =IF(P112="사용자항목16", L112, 0) -> 0 | AS112: =IF(P112="사용자항목17", L112, 0) -> 0 | AT112: =IF(P112="사용자항목18", L112, 0) -> 0 | AU112: =IF(P112="사용자항목19", L112, 0) -> 0 | AY112: 무성적산
A113: 수밀코킹(실리콘) | B113: 10mm, 창호주위(양면) | C113: M | D113: 1805.2 | F113: =ROUNDDOWN(D113*E113, 0) -> 0 | H113: =ROUNDDOWN(D113*G113, 0) -> 0 | J113: =ROUNDDOWN(D113*I113, 0) -> 0 | K113: =E113+G113+I113 -> 0 | L113: =F113+H113+J113 -> 0 | M113: 일위 11호 | O113: ="" | P113: 기계경비 | Q113: 1 | R113: =IF(P113="기계경비", J113, 0) -> 0 | S113: =IF(P113="운반비", L113, 0) -> 0 | T113: =IF(P113="작업부산물", F113, 0) -> 0 | U113: =IF(P113="관급", F113, 0) -> 0 | V113: =IF(P113="외주비", J113, 0) -> 0 | W113: =IF(P113="장비비", J113, 0) -> 0 | X113: =IF(P113="폐기물처리비", L113, 0) -> 0 | Y113: =IF(P113="가설비", J113, 0) -> 0 | Z113: =IF(P113="잡비제외분", F113, 0) -> 0 | AA113: =IF(P113="사급자재대", L113, 0) -> 0 | AB113: =IF(P113="관급자재대", L113, 0) -> 0 | AC113: =IF(P113="사용자항목1", L113, 0) -> 0 | AD113: =IF(P113="사용자항목2", L113, 0) -> 0 | AE113: =IF(P113="안전관리비", L113, 0) -> 0 | AF113: =IF(P113="품질관리비", L113, 0) -> 0 | AG113: =IF(P113="작업부산물(철거해체)", L113, 0) -> 0 | AH113: =IF(P113="사용자항목6", L113, 0) -> 0 | AI113: =IF(P113="사용자항목7", L113, 0) -> 0 | AJ113: =IF(P113="관급자재대(관급자)", L113, 0) -> 0 | AK113: =IF(P113="관급자재대(관급자)", L113, 0) -> 0 | AL113: =IF(P113="사용자항목10", L113, 0) -> 0 | AM113: =IF(P113="폐기물처리비(일반)", L113, 0) -> 0 | AN113: =IF(P113="폐기물처리비(지정)", L113, 0) -> 0 | AO113: =IF(P113="사용자항목13", L113, 0) -> 0 | AP113: =IF(P113="사용자항목14", L113, 0) -> 0 | AQ113: =IF(P113="사용자항목15", L113, 0) -> 0 | AR113: =IF(P113="사용자항목16", L113, 0) -> 0 | AS113: =IF(P113="사용자항목17", L113, 0) -> 0 | AT113: =IF(P113="사용자항목18", L113, 0) -> 0 | AU113: =IF(P113="사용자항목19", L113, 0) -> 0 | AY113: 무성적산
A130: 합 계 | F130: =ROUNDDOWN(SUMIF(Q111:Q129, "1", F111:F129), 0) -> 0 | H130: =ROUNDDOWN(SUMIF(Q111:Q129, "1", H111:H129), 0) -> 0 | J130: =ROUNDDOWN(SUMIF(Q111:Q129, "1", J111:J129), 0) -> 0 | L130: =F130+H130+J130 -> 0 | R130: =ROUNDDOWN(SUM(R111:R113), 0) -> 0 | S130: =ROUNDDOWN(SUM(S111:S113), 0) -> 0 | T130: =ROUNDDOWN(SUM(T111:T113), 0) -> 0 | U130: =ROUNDDOWN(SUM(U111:U113), 0) -> 0 | V130: =ROUNDDOWN(SUM(V111:V113), 0) -> 0 | W130: =ROUNDDOWN(SUM(W111:W113), 0) -> 0 | X130: =ROUNDDOWN(SUM(X111:X113), 0) -> 0 | Y130: =ROUNDDOWN(SUM(Y111:Y113), 0) -> 0 | ... AY130: =ROUNDDOWN(SUM(AY111:AY113), 0) -> 0
A131: 0107. 지붕및홈통공사
A132: 구멍뚫기(코어드릴) | B132: D150, 콘크리트 150㎜ | C132: 개소 | D132: 3 | F132: =ROUNDDOWN(D132*E132, 0) -> 0 | H132: =ROUNDDOWN(D132*G132, 0) -> 0 | J132: =ROUNDDOWN(D132*I132, 0) -> 0 | K132: =E132+G132+I132 -> 0 | L132: =F132+H132+J132 -> 0 | M132: 일위 12호 | O132: ="" | P132: 기계경비 | Q132: 1 | R132: =IF(P132="기계경비", J132, 0) -> 0 | S132: =IF(P132="운반비", L132, 0) -> 0 | T132: =IF(P132="작업부산물", F132, 0) -> 0 | U132: =IF(P132="관급", F132, 0) -> 0 | V132: =IF(P132="외주비", J132, 0) -> 0 | W132: =IF(P132="장비비", J132, 0) -> 0 | X132: =IF(P132="폐기물처리비", L132, 0) -> 0 | Y132: =IF(P132="가설비", J132, 0) -> 0 | Z132: =IF(P132="잡비제외분", F132, 0) -> 0 | AA132: =IF(P132="사급자재대", L132, 0) -> 0 | AB132: =IF(P132="관급자재대", L132, 0) -> 0 | AC132: =IF(P132="사용자항목1", L132, 0) -> 0 | AD132: =IF(P132="사용자항목2", L132, 0) -> 0 | AE132: =IF(P132="안전관리비", L132, 0) -> 0 | AF132: =IF(P132="품질관리비", L132, 0) -> 0 | AG132: =IF(P132="작업부산물(철거해체)", L132, 0) -> 0 | AH132: =IF(P132="사용자항목6", L132, 0) -> 0 | AI132: =IF(P132="사용자항목7", L132, 0) -> 0 | AJ132: =IF(P132="관급자재대(관급자)", L132, 0) -> 0 | AK132: =IF(P132="관급자재대(관급자)", L132, 0) -> 0 | AL132: =IF(P132="사용자항목10", L132, 0) -> 0 | AM132: =IF(P132="폐기물처리비(일반)", L132, 0) -> 0 | AN132: =IF(P132="폐기물처리비(지정)", L132, 0) -> 0 | AO132: =IF(P132="사용자항목13", L132, 0) -> 0 | AP132: =IF(P132="사용자항목14", L132, 0) -> 0 | AQ132: =IF(P132="사용자항목15", L132, 0) -> 0 | AR132: =IF(P132="사용자항목16", L132, 0) -> 0 | AS132: =IF(P132="사용자항목17", L132, 0) -> 0 | AT132: =IF(P132="사용자항목18", L132, 0) -> 0 | AU132: =IF(P132="사용자항목19", L132, 0) -> 0
A133: 루프드레인설치 | B133: 수직형 150mm | C133: 개소 | D133: 3 | F133: =ROUNDDOWN(D133*E133, 0) -> 0 | H133: =ROUNDDOWN(D133*G133, 0) -> 0 | J133: =ROUNDDOWN(D133*I133, 0) -> 0 | K133: =E133+G133+I133 -> 0 | L133: =F133+H133+J133 -> 0 | M133: 일위 13호 | O133: ="" | P133: 기계경비 | Q133: 1 | R133: =IF(P133="기계경비", J133, 0) -> 0 | S133: =IF(P133="운반비", L133, 0) -> 0 | T133: =IF(P133="작업부산물", F133, 0) -> 0 | U133: =IF(P133="관급", F133, 0) -> 0 | V133: =IF(P133="외주비", J133, 0) -> 0 | W133: =IF(P133="장비비", J133, 0) -> 0 | X133: =IF(P133="폐기물처리비", L133, 0) -> 0 | Y133: =IF(P133="가설비", J133, 0) -> 0 | Z133: =IF(P133="잡비제외분", F133, 0) -> 0 | AA133: =IF(P133="사급자재대", L133, 0) -> 0 | AB133: =IF(P133="관급자재대", L133, 0) -> 0 | AC133: =IF(P133="사용자항목1", L133, 0) -> 0 | AD133: =IF(P133="사용자항목2", L133, 0) -> 0 | AE133: =IF(P133="안전관리비", L133, 0) -> 0 | AF133: =IF(P133="품질관리비", L133, 0) -> 0 | AG133: =IF(P133="작업부산물(철거해체)", L133, 0) -> 0 | AH133: =IF(P133="사용자항목6", L133, 0) -> 0 | AI133: =IF(P133="사용자항목7", L133, 0) -> 0 | AJ133: =IF(P133="관급자재대(관급자)", L133, 0) -> 0 | AK133: =IF(P133="관급자재대(관급자)", L133, 0) -> 0 | AL133: =IF(P133="사용자항목10", L133, 0) -> 0 | AM133: =IF(P133="폐기물처리비(일반)", L133, 0) -> 0 | AN133: =IF(P133="폐기물처리비(지정)", L133, 0) -> 0 | AO133: =IF(P133="사용자항목13", L133, 0) -> 0 | AP133: =IF(P133="사용자항목14", L133, 0) -> 0 | AQ133: =IF(P133="사용자항목15", L133, 0) -> 0 | AR133: =IF(P133="사용자항목16", L133, 0) -> 0 | AS133: =IF(P133="사용자항목17", L133, 0) -> 0 | AT133: =IF(P133="사용자항목18", L133, 0) -> 0 | AU133: =IF(P133="사용자항목19", L133, 0) -> 0
A134: 스텐레스선홈통 | B134: Ø150 | C134: M | D134: 2.9 | F134: =ROUNDDOWN(D134*E134, 0) -> 0 | H134: =ROUNDDOWN(D134*G134, 0) -> 0 | J134: =ROUNDDOWN(D134*I134, 0) -> 0 | K134: =E134+G134+I134 -> 0 | L134: =F134+H134+J134 -> 0 | M134: 일위 14호 | O134: ="" | P134: 기계경비 | Q134: 1 | R134: =IF(P134="기계경비", J134, 0) -> 0 | S134: =IF(P134="운반비", L134, 0) -> 0 | T134: =IF(P134="작업부산물", F134, 0) -> 0 | U134: =IF(P134="관급", F134, 0) -> 0 | V134: =IF(P134="외주비", J134, 0) -> 0 | W134: =IF(P134="장비비", J134, 0) -> 0 | X134: =IF(P134="폐기물처리비", L134, 0) -> 0 | Y134: =IF(P134="가설비", J134, 0) -> 0 | Z134: =IF(P134="잡비제외분", F134, 0) -> 0 | AA134: =IF(P134="사급자재대", L134, 0) -> 0 | AB134: =IF(P134="관급자재대", L134, 0) -> 0 | AC134: =IF(P134="사용자항목1", L134, 0) -> 0 | AD134: =IF(P134="사용자항목2", L134, 0) -> 0 | AE134: =IF(P134="안전관리비", L134, 0) -> 0 | AF134: =IF(P134="품질관리비", L134, 0) -> 0 | AG134: =IF(P134="작업부산물(철거해체)", L134, 0) -> 0 | AH134: =IF(P134="사용자항목6", L134, 0) -> 0 | AI134: =IF(P134="사용자항목7", L134, 0) -> 0 | AJ134: =IF(P134="관급자재대(관급자)", L134, 0) -> 0 | AK134: =IF(P134="관급자재대(관급자)", L134, 0) -> 0 | AL134: =IF(P134="사용자항목10", L134, 0) -> 0 | AM134: =IF(P134="폐기물처리비(일반)", L134, 0) -> 0 | AN134: =IF(P134="폐기물처리비(지정)", L134, 0) -> 0 | AO134: =IF(P134="사용자항목13", L134, 0) -> 0 | AP134: =IF(P134="사용자항목14", L134, 0) -> 0 | AQ134: =IF(P134="사용자항목15", L134, 0) -> 0 | AR134: =IF(P134="사용자항목16", L134, 0) -> 0 | AS134: =IF(P134="사용자항목17", L134, 0) -> 0 | AT134: =IF(P134="사용자항목18", L134, 0) -> 0 | AU134: =IF(P134="사용자항목19", L134, 0) -> 0
A135: 처마홈통설치(스텐) | B135: (200+200+300+500+300)×1.5t | C135: M | D135: 74.9 | F135: =ROUNDDOWN(D135*E135, 0) -> 0 | H135: =ROUNDDOWN(D135*G135, 0) -> 0 | J135: =ROUNDDOWN(D135*I135, 0) -> 0 | K135: =E135+G135+I135 -> 0 | L135: =F135+H135+J135 -> 0 | M135: 일위 15호 | O135: ="" | P135: 기계경비 | Q135: 1 | R135: =IF(P135="기계경비", J135, 0) -> 0 | S135: =IF(P135="운반비", L135, 0) -> 0 | T135: =IF(P135="작업부산물", F135, 0) -> 0 | U135: =IF(P135="관급", F135, 0) -> 0 | V135: =IF(P135="외주비", J135, 0) -> 0 | W135: =IF(P135="장비비", J135, 0) -> 0 | X135: =IF(P135="폐기물처리비", L135, 0) -> 0 | Y135: =IF(P135="가설비", J135, 0) -> 0 | Z135: =IF(P135="잡비제외분", F135, 0) -> 0 | AA135: =IF(P135="사급자재대", L135, 0) -> 0 | AB135: =IF(P135="관급자재대", L135, 0) -> 0 | AC135: =IF(P135="사용자항목1", L135, 0) -> 0 | AD135: =IF(P135="사용자항목2", L135, 0) -> 0 | AE135: =IF(P135="안전관리비", L135, 0) -> 0 | AF135: =IF(P135="품질관리비", L135, 0) -> 0 | AG135: =IF(P135="작업부산물(철거해체)", L135, 0) -> 0 | AH135: =IF(P135="사용자항목6", L135, 0) -> 0 | AI135: =IF(P135="사용자항목7", L135, 0) -> 0 | AJ135: =IF(P135="관급자재대(관급자)", L135, 0) -> 0 | AK135: =IF(P135="관급자재대(관급자)", L135, 0) -> 0 | AL135: =IF(P135="사용자항목10", L135, 0) -> 0 | AM135: =IF(P135="폐기물처리비(일반)", L135, 0) -> 0 | AN135: =IF(P135="폐기물처리비(지정)", L135, 0) -> 0 | AO135: =IF(P135="사용자항목13", L135, 0) -> 0 | AP135: =IF(P135="사용자항목14", L135, 0) -> 0 | AQ135: =IF(P135="사용자항목15", L135, 0) -> 0 | AR135: =IF(P135="사용자항목16", L135, 0) -> 0 | AS135: =IF(P135="사용자항목17", L135, 0) -> 0 | AT135: =IF(P135="사용자항목18", L135, 0) -> 0 | AU135: =IF(P135="사용자항목19", L135, 0) -> 0 | AY135: 무성적산
A151: 합 계 | F151: =ROUNDDOWN(SUMIF(Q132:Q150, "1", F132:F150), 0) -> 0 | H151: =ROUNDDOWN(SUMIF(Q132:Q150, "1", H132:H150), 0) -> 0 | J151: =ROUNDDOWN(SUMIF(Q132:Q150, "1", J132:J150), 0) -> 0 | L151: =F151+H151+J151 -> 0 | R151: =ROUNDDOWN(SUM(R132:R135), 0) -> 0 | S151: =ROUNDDOWN(SUM(S132:S135), 0) -> 0 | T151: =ROUNDDOWN(SUM(T132:T135), 0) -> 0 | U151: =ROUNDDOWN(SUM(U132:U135), 0) -> 0 | V151: =ROUNDDOWN(SUM(V132:V135), 0) -> 0 | W151: =ROUNDDOWN(SUM(W132:W135), 0) -> 0 | X151: =ROUNDDOWN(SUM(X132:X135), 0) -> 0 | Y151: =ROUNDDOWN(SUM(Y132:Y135), 0) -> 0 | ... AY151: =ROUNDDOWN(SUM(AY132:AY135), 0) -> 0
A152: 0108. 판넬공사
A153: ㄱ형강(철강앵글)설치(현장제작) | B153: ㄱ형강, 등변, 100×100×7mm, 방청페인트 | C153: M | D153: 34 | F153: =ROUNDDOWN(D153*E153, 0) -> 0 | H153: =ROUNDDOWN(D153*G153, 0) -> 0 | J153: =ROUNDDOWN(D153*I153, 0) -> 0 | K153: =E153+G153+I153 -> 0 | L153: =F153+H153+J153 -> 0 | M153: 일위 16호 | O153: ="" | P153: 기계경비 | Q153: 1 | R153: =IF(P153="기계경비", J153, 0) -> 0 | S153: =IF(P153="운반비", L153, 0) -> 0 | T153: =IF(P153="작업부산물", F153, 0) -> 0 | U153: =IF(P153="관급", F153, 0) -> 0 | V153: =IF(P153="외주비", J153, 0) -> 0 | W153: =IF(P153="장비비", J153, 0) -> 0 | X153: =IF(P153="폐기물처리비", L153, 0) -> 0 | Y153: =IF(P153="가설비", J153, 0) -> 0 | Z153: =IF(P153="잡비제외분", F153, 0) -> 0 | AA153: =IF(P153="사급자재대", L153, 0) -> 0 | AB153: =IF(P153="관급자재대", L153, 0) -> 0 | AC153: =IF(P153="사용자항목1", L153, 0) -> 0 | AD153: =IF(P153="사용자항목2", L153, 0) -> 0 | AE153: =IF(P153="안전관리비", L153, 0) -> 0 | AF153: =IF(P153="품질관리비", L153, 0) -> 0 | AG153: =IF(P153="작업부산물(철거해체)", L153, 0) -> 0 | AH153: =IF(P153="사용자항목6", L153, 0) -> 0 | AI153: =IF(P153="사용자항목7", L153, 0) -> 0 | AJ153: =IF(P153="관급자재대(관급자)", L153, 0) -> 0 | AK153: =IF(P153="관급자재대(관급자)", L153, 0) -> 0 | AL153: =IF(P153="사용자항목10", L153, 0) -> 0 | AM153: =IF(P153="폐기물처리비(일반)", L153, 0) -> 0 | AN153: =IF(P153="폐기물처리비(지정)", L153, 0) -> 0 | AO153: =IF(P153="사용자항목13", L153, 0) -> 0 | AP153: =IF(P153="사용자항목14", L153, 0) -> 0 | AQ153: =IF(P153="사용자항목15", L153, 0) -> 0 | AR153: =IF(P153="사용자항목16", L153, 0) -> 0 | AS153: =IF(P153="사용자항목17", L153, 0) -> 0 | AT153: =IF(P153="사용자항목18", L153, 0) -> 0 | AU153: =IF(P153="사용자항목19", L153, 0) -> 0
A154: 아연도각형강관설치 2.3T(현장제작) | B154: 아연도각관, 50×50×2.3t | C154: M | D154: 1669 | F154: =ROUNDDOWN(D154*E154, 0) -> 0 | H154: =ROUNDDOWN(D154*G154, 0) -> 0 | J154: =ROUNDDOWN(D154*I154, 0) -> 0 | K154: =E154+G154+I154 -> 0 | L154: =F154+H154+J154 -> 0 | M154: 일위 17호 | O154: ="" | P154: 기계경비 | Q154: 1 | R154: =IF(P154="기계경비", J154, 0) -> 0 | S154: =IF(P154="운반비", L154, 0) -> 0 | T154: =IF(P154="작업부산물", F154, 0) -> 0 | U154: =IF(P154="관급", F154, 0) -> 0 | V154: =IF(P154="외주비", J154, 0) -> 0 | W154: =IF(P154="장비비", J154, 0) -> 0 | X154: =IF(P154="폐기물처리비", L154, 0) -> 0 | Y154: =IF(P154="가설비", J154, 0) -> 0 | Z154: =IF(P154="잡비제외분", F154, 0) -> 0 | AA154: =IF(P154="사급자재대", L154, 0) -> 0 | AB154: =IF(P154="관급자재대", L154, 0) -> 0 | AC154: =IF(P154="사용자항목1", L154, 0) -> 0 | AD154: =IF(P154="사용자항목2", L154, 0) -> 0 | AE154: =IF(P154="안전관리비", L154, 0) -> 0 | AF154: =IF(P154="품질관리비", L154, 0) -> 0 | AG154: =IF(P154="작업부산물(철거해체)", L154, 0) -> 0 | AH154: =IF(P154="사용자항목6", L154, 0) -> 0 | AI154: =IF(P154="사용자항목7", L154, 0) -> 0 | AJ154: =IF(P154="관급자재대(관급자)", L154, 0) -> 0 | AK154: =IF(P154="관급자재대(관급자)", L154, 0) -> 0 | AL154: =IF(P154="사용자항목10", L154, 0) -> 0 | AM154: =IF(P154="폐기물처리비(일반)", L154, 0) -> 0 | AN154: =IF(P154="폐기물처리비(지정)", L154, 0) -> 0 | AO154: =IF(P154="사용자항목13", L154, 0) -> 0 | AP154: =IF(P154="사용자항목14", L154, 0) -> 0 | AQ154: =IF(P154="사용자항목15", L154, 0) -> 0 | AR154: =IF(P154="사용자항목16", L154, 0) -> 0 | AS154: =IF(P154="사용자항목17", L154, 0) -> 0 | AT154: =IF(P154="사용자항목18", L154, 0) -> 0 | AU154: =IF(P154="사용자항목19", L154, 0) -> 0
A155: 세트앵커 | B155: 세트앵커, M12×L100 | C155: 개 | D155: 680 | F155: =ROUNDDOWN(D155*E155, 0) -> 0 | H155: =ROUNDDOWN(D155*G155, 0) -> 0 | J155: =ROUNDDOWN(D155*I155, 0) -> 0 | K155: =E155+G155+I155 -> 0 | L155: =F155+H155+J155 -> 0 | M155: 자재 57호 | O155: ="01" -> 01 | P155: 기계경비 | Q155: 1 | R155: =IF(P155="기계경비", J155, 0) -> 0 | S155: =IF(P155="운반비", L155, 0) -> 0 | T155: =IF(P155="작업부산물", F155, 0) -> 0 | U155: =IF(P155="관급", F155, 0) -> 0 | V155: =IF(P155="외주비", J155, 0) -> 0 | W155: =IF(P155="장비비", J155, 0) -> 0 | X155: =IF(P155="폐기물처리비", L155, 0) -> 0 | Y155: =IF(P155="가설비", J155, 0) -> 0 | Z155: =IF(P155="잡비제외분", F155, 0) -> 0 | AA155: =IF(P155="사급자재대", L155, 0) -> 0 | AB155: =IF(P155="관급자재대", L155, 0) -> 0 | AC155: =IF(P155="사용자항목1", L155, 0) -> 0 | AD155: =IF(P155="사용자항목2", L155, 0) -> 0 | AE155: =IF(P155="안전관리비", L155, 0) -> 0 | AF155: =IF(P155="품질관리비", L155, 0) -> 0 | AG155: =IF(P155="작업부산물(철거해체)", L155, 0) -> 0 | AH155: =IF(P155="사용자항목6", L155, 0) -> 0 | AI155: =IF(P155="사용자항목7", L155, 0) -> 0 | AJ155: =IF(P155="관급자재대(관급자)", L155, 0) -> 0 | AK155: =IF(P155="관급자재대(관급자)", L155, 0) -> 0 | AL155: =IF(P155="사용자항목10", L155, 0) -> 0 | AM155: =IF(P155="폐기물처리비(일반)", L155, 0) -> 0 | AN155: =IF(P155="폐기물처리비(지정)", L155, 0) -> 0 | AO155: =IF(P155="사용자항목13", L155, 0) -> 0 | AP155: =IF(P155="사용자항목14", L155, 0) -> 0 | AQ155: =IF(P155="사용자항목15", L155, 0) -> 0 | AR155: =IF(P155="사용자항목16", L155, 0) -> 0 | AS155: =IF(P155="사용자항목17", L155, 0) -> 0 | AT155: =IF(P155="사용자항목18", L155, 0) -> 0 | AU155: =IF(P155="사용자항목19", L155, 0) -> 0
A156: 샌드위치(단열)패널설치 | B156: 지붕, 50T:준불연,징크판넬 | C156: M2 | D156: 367.9 | F156: =ROUNDDOWN(D156*E156, 0) -> 0 | H156: =ROUNDDOWN(D156*G156, 0) -> 0 | J156: =ROUNDDOWN(D156*I156, 0) -> 0 | K156: =E156+G156+I156 -> 0 | L156: =F156+H156+J156 -> 0 | M156: 일위 18호 | O156: ="" | P156: 기계경비 | Q156: 1 | R156: =IF(P156="기계경비", J156, 0) -> 0 | S156: =IF(P156="운반비", L156, 0) -> 0 | T156: =IF(P156="작업부산물", F156, 0) -> 0 | U156: =IF(P156="관급", F156, 0) -> 0 | V156: =IF(P156="외주비", J156, 0) -> 0 | W156: =IF(P156="장비비", J156, 0) -> 0 | X156: =IF(P156="폐기물처리비", L156, 0) -> 0 | Y156: =IF(P156="가설비", J156, 0) -> 0 | Z156: =IF(P156="잡비제외분", F156, 0) -> 0 | AA156: =IF(P156="사급자재대", L156, 0) -> 0 | AB156: =IF(P156="관급자재대", L156, 0) -> 0 | AC156: =IF(P156="사용자항목1", L156, 0) -> 0 | AD156: =IF(P156="사용자항목2", L156, 0) -> 0 | AE156: =IF(P156="안전관리비", L156, 0) -> 0 | AF156: =IF(P156="품질관리비", L156, 0) -> 0 | AG156: =IF(P156="작업부산물(철거해체)", L156, 0) -> 0 | AH156: =IF(P156="사용자항목6", L156, 0) -> 0 | AI156: =IF(P156="사용자항목7", L156, 0) -> 0 | AJ156: =IF(P156="관급자재대(관급자)", L156, 0) -> 0 | AK156: =IF(P156="관급자재대(관급자)", L156, 0) -> 0 | AL156: =IF(P156="사용자항목10", L156, 0) -> 0 | AM156: =IF(P156="폐기물처리비(일반)", L156, 0) -> 0 | AN156: =IF(P156="폐기물처리비(지정)", L156, 0) -> 0 | AO156: =IF(P156="사용자항목13", L156, 0) -> 0 | AP156: =IF(P156="사용자항목14", L156, 0) -> 0 | AQ156: =IF(P156="사용자항목15", L156, 0) -> 0 | AR156: =IF(P156="사용자항목16", L156, 0) -> 0 | AS156: =IF(P156="사용자항목17", L156, 0) -> 0 | AT156: =IF(P156="사용자항목18", L156, 0) -> 0 | AU156: =IF(P156="사용자항목19", L156, 0) -> 0 | AY156: 무성적산
A157: 징크판넬 설치 | B157: 후레싱,0.45T W=300,시공비포함 | C157: M | D157: 81.1 | F157: =ROUNDDOWN(D157*E157, 0) -> 0 | H157: =ROUNDDOWN(D157*G157, 0) -> 0 | J157: =ROUNDDOWN(D157*I157, 0) -> 0 | K157: =E157+G157+I157 -> 0 | L157: =F157+H157+J157 -> 0 | M157: 일위 19호 | O157: ="" | P157: 기계경비 | Q157: 1 | R157: =IF(P157="기계경비", J157, 0) -> 0 | S157: =IF(P157="운반비", L157, 0) -> 0 | T157: =IF(P157="작업부산물", F157, 0) -> 0 | U157: =IF(P157="관급", F157, 0) -> 0 | V157: =IF(P157="외주비", J157, 0) -> 0 | W157: =IF(P157="장비비", J157, 0) -> 0 | X157: =IF(P157="폐기물처리비", L157, 0) -> 0 | Y157: =IF(P157="가설비", J157, 0) -> 0 | Z157: =IF(P157="잡비제외분", F157, 0) -> 0 | AA157: =IF(P157="사급자재대", L157, 0) -> 0 | AB157: =IF(P157="관급자재대", L157, 0) -> 0 | AC157: =IF(P157="사용자항목1", L157, 0) -> 0 | AD157: =IF(P157="사용자항목2", L157, 0) -> 0 | AE157: =IF(P157="안전관리비", L157, 0) -> 0 | AF157: =IF(P157="품질관리비", L157, 0) -> 0 | AG157: =IF(P157="작업부산물(철거해체)", L157, 0) -> 0 | AH157: =IF(P157="사용자항목6", L157, 0) -> 0 | AI157: =IF(P157="사용자항목7", L157, 0) -> 0 | AJ157: =IF(P157="관급자재대(관급자)", L157, 0) -> 0 | AK157: =IF(P157="관급자재대(관급자)", L157, 0) -> 0 | AL157: =IF(P157="사용자항목10", L157, 0) -> 0 | AM157: =IF(P157="폐기물처리비(일반)", L157, 0) -> 0 | AN157: =IF(P157="폐기물처리비(지정)", L157, 0) -> 0 | AO157: =IF(P157="사용자항목13", L157, 0) -> 0 | AP157: =IF(P157="사용자항목14", L157, 0) -> 0 | AQ157: =IF(P157="사용자항목15", L157, 0) -> 0 | AR157: =IF(P157="사용자항목16", L157, 0) -> 0 | AS157: =IF(P157="사용자항목17", L157, 0) -> 0 | AT157: =IF(P157="사용자항목18", L157, 0) -> 0 | AU157: =IF(P157="사용자항목19", L157, 0) -> 0 | AY157: 무성적산
A158: 징크판넬 설치 | B158: 후레싱,0.45T W=400,시공비포함 | C158: M | D158: 59.3 | F158: =ROUNDDOWN(D158*E158, 0) -> 0 | H158: =ROUNDDOWN(D158*G158, 0) -> 0 | J158: =ROUNDDOWN(D158*I158, 0) -> 0 | K158: =E158+G158+I158 -> 0 | L158: =F158+H158+J158 -> 0 | M158: 일위 20호 | O158: ="" | P158: 기계경비 | Q158: 1 | R158: =IF(P158="기계경비", J158, 0) -> 0 | S158: =IF(P158="운반비", L158, 0) -> 0 | T158: =IF(P158="작업부산물", F158, 0) -> 0 | U158: =IF(P158="관급", F158, 0) -> 0 | V158: =IF(P158="외주비", J158, 0) -> 0 | W158: =IF(P158="장비비", J158, 0) -> 0 | X158: =IF(P158="폐기물처리비", L158, 0) -> 0 | Y158: =IF(P158="가설비", J158, 0) -> 0 | Z158: =IF(P158="잡비제외분", F158, 0) -> 0 | AA158: =IF(P158="사급자재대", L158, 0) -> 0 | AB158: =IF(P158="관급자재대", L158, 0) -> 0 | AC158: =IF(P158="사용자항목1", L158, 0) -> 0 | AD158: =IF(P158="사용자항목2", L158, 0) -> 0 | AE158: =IF(P158="안전관리비", L158, 0) -> 0 | AF158: =IF(P158="품질관리비", L158, 0) -> 0 | AG158: =IF(P158="작업부산물(철거해체)", L158, 0) -> 0 | AH158: =IF(P158="사용자항목6", L158, 0) -> 0 | AI158: =IF(P158="사용자항목7", L158, 0) -> 0 | AJ158: =IF(P158="관급자재대(관급자)", L158, 0) -> 0 | AK158: =IF(P158="관급자재대(관급자)", L158, 0) -> 0 | AL158: =IF(P158="사용자항목10", L158, 0) -> 0 | AM158: =IF(P158="폐기물처리비(일반)", L158, 0) -> 0 | AN158: =IF(P158="폐기물처리비(지정)", L158, 0) -> 0 | AO158: =IF(P158="사용자항목13", L158, 0) -> 0 | AP158: =IF(P158="사용자항목14", L158, 0) -> 0 | AQ158: =IF(P158="사용자항목15", L158, 0) -> 0 | AR158: =IF(P158="사용자항목16", L158, 0) -> 0 | AS158: =IF(P158="사용자항목17", L158, 0) -> 0 | AT158: =IF(P158="사용자항목18", L158, 0) -> 0 | AU158: =IF(P158="사용자항목19", L158, 0) -> 0 | AY158: 무성적산
A172: 합 계 | F172: =ROUNDDOWN(SUMIF(Q153:Q171, "1", F153:F171), 0) -> 0 | H172: =ROUNDDOWN(SUMIF(Q153:Q171, "1", H153:H171), 0) -> 0 | J172: =ROUNDDOWN(SUMIF(Q153:Q171, "1", J153:J171), 0) -> 0 | L172: =F172+H172+J172 -> 0 | R172: =ROUNDDOWN(SUM(R153:R158), 0) -> 0 | S172: =ROUNDDOWN(SUM(S153:S158), 0) -> 0 | T172: =ROUNDDOWN(SUM(T153:T158), 0) -> 0 | U172: =ROUNDDOWN(SUM(U153:U158), 0) -> 0 | V172: =ROUNDDOWN(SUM(V153:V158), 0) -> 0 | W172: =ROUNDDOWN(SUM(W153:W158), 0) -> 0 | X172: =ROUNDDOWN(SUM(X153:X158), 0) -> 0 | Y172: =ROUNDDOWN(SUM(Y153:Y158), 0) -> 0 | ... AY172: =ROUNDDOWN(SUM(AY153:AY158), 0) -> 0
A173: 0109. 금속공사
A174: 천정틀설치(각형강관) | B174: □-50×50×2.3t @450×600 (현장제작) | C174: M2 | D174: 24.6 | F174: =ROUNDDOWN(D174*E174, 0) -> 0 | H174: =ROUNDDOWN(D174*G174, 0) -> 0 | J174: =ROUNDDOWN(D174*I174, 0) -> 0 | K174: =E174+G174+I174 -> 0 | L174: =F174+H174+J174 -> 0 | M174: 일위 21호 | O174: ="" | P174: 기계경비 | Q174: 1 | R174: =IF(P174="기계경비", J174, 0) -> 0 | S174: =IF(P174="운반비", L174, 0) -> 0 | T174: =IF(P174="작업부산물", F174, 0) -> 0 | U174: =IF(P174="관급", F174, 0) -> 0 | V174: =IF(P174="외주비", J174, 0) -> 0 | W174: =IF(P174="장비비", J174, 0) -> 0 | X174: =IF(P174="폐기물처리비", L174, 0) -> 0 | Y174: =IF(P174="가설비", J174, 0) -> 0 | Z174: =IF(P174="잡비제외분", F174, 0) -> 0 | AA174: =IF(P174="사급자재대", L174, 0) -> 0 | AB174: =IF(P174="관급자재대", L174, 0) -> 0 | AC174: =IF(P174="사용자항목1", L174, 0) -> 0 | AD174: =IF(P174="사용자항목2", L174, 0) -> 0 | AE174: =IF(P174="안전관리비", L174, 0) -> 0 | AF174: =IF(P174="품질관리비", L174, 0) -> 0 | AG174: =IF(P174="작업부산물(철거해체)", L174, 0) -> 0 | AH174: =IF(P174="사용자항목6", L174, 0) -> 0 | AI174: =IF(P174="사용자항목7", L174, 0) -> 0 | AJ174: =IF(P174="관급자재대(관급자)", L174, 0) -> 0 | AK174: =IF(P174="관급자재대(관급자)", L174, 0) -> 0 | AL174: =IF(P174="사용자항목10", L174, 0) -> 0 | AM174: =IF(P174="폐기물처리비(일반)", L174, 0) -> 0 | AN174: =IF(P174="폐기물처리비(지정)", L174, 0) -> 0 | AO174: =IF(P174="사용자항목13", L174, 0) -> 0 | AP174: =IF(P174="사용자항목14", L174, 0) -> 0 | AQ174: =IF(P174="사용자항목15", L174, 0) -> 0 | AR174: =IF(P174="사용자항목16", L174, 0) -> 0 | AS174: =IF(P174="사용자항목17", L174, 0) -> 0 | AT174: =IF(P174="사용자항목18", L174, 0) -> 0 | AU174: =IF(P174="사용자항목19", L174, 0) -> 0 | AY174: 무성적산
A175: 경량철골천장틀(내진용) | B175: M-BAR 용 ,(마감재부착노임포함) | C175: M2 | D175: 3540.5 | F175: =ROUNDDOWN(D175*E175, 0) -> 0 | H175: =ROUNDDOWN(D175*G175, 0) -> 0 | J175: =ROUNDDOWN(D175*I175, 0) -> 0 | K175: =E175+G175+I175 -> 0 | L175: =F175+H175+J175 -> 0 | M175: 자재 9호 | O175: ="01" -> 01 | P175: 기계경비 | Q175: 1 | R175: =IF(P175="기계경비", J175, 0) -> 0 | S175: =IF(P175="운반비", L175, 0) -> 0 | T175: =IF(P175="작업부산물", F175, 0) -> 0 | U175: =IF(P175="관급", F175, 0) -> 0 | V175: =IF(P175="외주비", J175, 0) -> 0 | W175: =IF(P175="장비비", J175, 0) -> 0 | X175: =IF(P175="폐기물처리비", L175, 0) -> 0 | Y175: =IF(P175="가설비", J175, 0) -> 0 | Z175: =IF(P175="잡비제외분", F175, 0) -> 0 | AA175: =IF(P175="사급자재대", L175, 0) -> 0 | AB175: =IF(P175="관급자재대", L175, 0) -> 0 | AC175: =IF(P175="사용자항목1", L175, 0) -> 0 | AD175: =IF(P175="사용자항목2", L175, 0) -> 0 | AE175: =IF(P175="안전관리비", L175, 0) -> 0 | AF175: =IF(P175="품질관리비", L175, 0) -> 0 | AG175: =IF(P175="작업부산물(철거해체)", L175, 0) -> 0 | AH175: =IF(P175="사용자항목6", L175, 0) -> 0 | AI175: =IF(P175="사용자항목7", L175, 0) -> 0 | AJ175: =IF(P175="관급자재대(관급자)", L175, 0) -> 0 | AK175: =IF(P175="관급자재대(관급자)", L175, 0) -> 0 | AL175: =IF(P175="사용자항목10", L175, 0) -> 0 | AM175: =IF(P175="폐기물처리비(일반)", L175, 0) -> 0 | AN175: =IF(P175="폐기물처리비(지정)", L175, 0) -> 0 | AO175: =IF(P175="사용자항목13", L175, 0) -> 0 | AP175: =IF(P175="사용자항목14", L175, 0) -> 0 | AQ175: =IF(P175="사용자항목15", L175, 0) -> 0 | AR175: =IF(P175="사용자항목16", L175, 0) -> 0 | AS175: =IF(P175="사용자항목17", L175, 0) -> 0 | AT175: =IF(P175="사용자항목18", L175, 0) -> 0 | AU175: =IF(P175="사용자항목19", L175, 0) -> 0 | AY175: 무성적산
A176: 경량철골천장틀(내진용) | B176: AL몰딩 E형 15×30×15 이탈방지,(마감재부착노임포함) | C176: M | D176: 2362 | F176: =ROUNDDOWN(D176*E176, 0) -> 0 | H176: =ROUNDDOWN(D176*G176, 0) -> 0 | J176: =ROUNDDOWN(D176*I176, 0) -> 0 | K176: =E176+G176+I176 -> 0 | L176: =F176+H176+J176 -> 0 | M176: 자재 8호 | O176: ="01" -> 01 | P176: 기계경비 | Q176: 1 | R176: =IF(P176="기계경비", J176, 0) -> 0 | S176: =IF(P176="운반비", L176, 0) -> 0 | T176: =IF(P176="작업부산물", F176, 0) -> 0 | U176: =IF(P176="관급", F176, 0) -> 0 | V176: =IF(P176="외주비", J176, 0) -> 0 | W176: =IF(P176="장비비", J176, 0) -> 0 | X176: =IF(P176="폐기물처리비", L176, 0) -> 0 | Y176: =IF(P176="가설비", J176, 0) -> 0 | Z176: =IF(P176="잡비제외분", F176, 0) -> 0 | AA176: =IF(P176="사급자재대", L176, 0) -> 0 | AB176: =IF(P176="관급자재대", L176, 0) -> 0 | AC176: =IF(P176="사용자항목1", L176, 0) -> 0 | AD176: =IF(P176="사용자항목2", L176, 0) -> 0 | AE176: =IF(P176="안전관리비", L176, 0) -> 0 | AF176: =IF(P176="품질관리비", L176, 0) -> 0 | AG176: =IF(P176="작업부산물(철거해체)", L176, 0) -> 0 | AH176: =IF(P176="사용자항목6", L176, 0) -> 0 | AI176: =IF(P176="사용자항목7", L176, 0) -> 0 | AJ176: =IF(P176="관급자재대(관급자)", L176, 0) -> 0 | AK176: =IF(P176="관급자재대(관급자)", L176, 0) -> 0 | AL176: =IF(P176="사용자항목10", L176, 0) -> 0 | AM176: =IF(P176="폐기물처리비(일반)", L176, 0) -> 0 | AN176: =IF(P176="폐기물처리비(지정)", L176, 0) -> 0 | AO176: =IF(P176="사용자항목13", L176, 0) -> 0 | AP176: =IF(P176="사용자항목14", L176, 0) -> 0 | AQ176: =IF(P176="사용자항목15", L176, 0) -> 0 | AR176: =IF(P176="사용자항목16", L176, 0) -> 0 | AS176: =IF(P176="사용자항목17", L176, 0) -> 0 | AT176: =IF(P176="사용자항목18", L176, 0) -> 0 | AU176: =IF(P176="사용자항목19", L176, 0) -> 0 | AY176: 무성적산
A177: 칼라알루미늄천장재 | B177: SWH50-10/LOUVER, 루버, 150×150×10×0.5T | C177: ㎡ | D177: 146.2 | F177: =ROUNDDOWN(D177*E177, 0) -> 0 | H177: =ROUNDDOWN(D177*G177, 0) -> 0 | J177: =ROUNDDOWN(D177*I177, 0) -> 0 | K177: =E177+G177+I177 -> 0 | L177: =F177+H177+J177 -> 0 | M177: 자재 85호 | O177: ="01" -> 01 | P177: 기계경비 | Q177: 1 | R177: =IF(P177="기계경비", J177, 0) -> 0 | S177: =IF(P177="운반비", L177, 0) -> 0 | T177: =IF(P177="작업부산물", F177, 0) -> 0 | U177: =IF(P177="관급", F177, 0) -> 0 | V177: =IF(P177="외주비", J177, 0) -> 0 | W177: =IF(P177="장비비", J177, 0) -> 0 | X177: =IF(P177="폐기물처리비", L177, 0) -> 0 | Y177: =IF(P177="가설비", J177, 0) -> 0 | Z177: =IF(P177="잡비제외분", F177, 0) -> 0 | AA177: =IF(P177="사급자재대", L177, 0) -> 0 | AB177: =IF(P177="관급자재대", L177, 0) -> 0 | AC177: =IF(P177="사용자항목1", L177, 0) -> 0 | AD177: =IF(P177="사용자항목2", L177, 0) -> 0 | AE177: =IF(P177="안전관리비", L177, 0) -> 0 | AF177: =IF(P177="품질관리비", L177, 0) -> 0 | AG177: =IF(P177="작업부산물(철거해체)", L177, 0) -> 0 | AH177: =IF(P177="사용자항목6", L177, 0) -> 0 | AI177: =IF(P177="사용자항목7", L177, 0) -> 0 | AJ177: =IF(P177="관급자재대(관급자)", L177, 0) -> 0 | AK177: =IF(P177="관급자재대(관급자)", L177, 0) -> 0 | AL177: =IF(P177="사용자항목10", L177, 0) -> 0 | AM177: =IF(P177="폐기물처리비(일반)", L177, 0) -> 0 | AN177: =IF(P177="폐기물처리비(지정)", L177, 0) -> 0 | AO177: =IF(P177="사용자항목13", L177, 0) -> 0 | AP177: =IF(P177="사용자항목14", L177, 0) -> 0 | AQ177: =IF(P177="사용자항목15", L177, 0) -> 0 | AR177: =IF(P177="사용자항목16", L177, 0) -> 0 | AS177: =IF(P177="사용자항목17", L177, 0) -> 0 | AT177: =IF(P177="사용자항목18", L177, 0) -> 0 | AU177: =IF(P177="사용자항목19", L177, 0) -> 0 | AY177: 무성적산
A178: 갈바륨 설치 | B178: 갈바륨,1.6T+분체도장 | C178: M2 | D178: 21.3 | F178: =ROUNDDOWN(D178*E178, 0) -> 0 | H178: =ROUNDDOWN(D178*G178, 0) -> 0 | J178: =ROUNDDOWN(D178*I178, 0) -> 0 | K178: =E178+G178+I178 -> 0 | L178: =F178+H178+J178 -> 0 | M178: 일위 22호 | O178: ="" | P178: 기계경비 | Q178: 1 | R178: =IF(P178="기계경비", J178, 0) -> 0 | S178: =IF(P178="운반비", L178, 0) -> 0 | T178: =IF(P178="작업부산물", F178, 0) -> 0 | U178: =IF(P178="관급", F178, 0) -> 0 | V178: =IF(P178="외주비", J178, 0) -> 0 | W178: =IF(P178="장비비", J178, 0) -> 0 | X178: =IF(P178="폐기물처리비", L178, 0) -> 0 | Y178: =IF(P178="가설비", J178, 0) -> 0 | Z178: =IF(P178="잡비제외분", F178, 0) -> 0 | AA178: =IF(P178="사급자재대", L178, 0) -> 0 | AB178: =IF(P178="관급자재대", L178, 0) -> 0 | AC178: =IF(P178="사용자항목1", L178, 0) -> 0 | AD178: =IF(P178="사용자항목2", L178, 0) -> 0 | AE178: =IF(P178="안전관리비", L178, 0) -> 0 | AF178: =IF(P178="품질관리비", L178, 0) -> 0 | AG178: =IF(P178="작업부산물(철거해체)", L178, 0) -> 0 | AH178: =IF(P178="사용자항목6", L178, 0) -> 0 | AI178: =IF(P178="사용자항목7", L178, 0) -> 0 | AJ178: =IF(P178="관급자재대(관급자)", L178, 0) -> 0 | AK178: =IF(P178="관급자재대(관급자)", L178, 0) -> 0 | AL178: =IF(P178="사용자항목10", L178, 0) -> 0 | AM178: =IF(P178="폐기물처리비(일반)", L178, 0) -> 0 | AN178: =IF(P178="폐기물처리비(지정)", L178, 0) -> 0 | AO178: =IF(P178="사용자항목13", L178, 0) -> 0 | AP178: =IF(P178="사용자항목14", L178, 0) -> 0 | AQ178: =IF(P178="사용자항목15", L178, 0) -> 0 | AR178: =IF(P178="사용자항목16", L178, 0) -> 0 | AS178: =IF(P178="사용자항목17", L178, 0) -> 0 | AT178: =IF(P178="사용자항목18", L178, 0) -> 0 | AU178: =IF(P178="사용자항목19", L178, 0) -> 0 | AY178: 무성적산
A193: 합 계 | F193: =ROUNDDOWN(SUMIF(Q174:Q192, "1", F174:F192), 0) -> 0 | H193: =ROUNDDOWN(SUMIF(Q174:Q192, "1", H174:H192), 0) -> 0 | J193: =ROUNDDOWN(SUMIF(Q174:Q192, "1", J174:J192), 0) -> 0 | L193: =F193+H193+J193 -> 0 | R193: =ROUNDDOWN(SUM(R174:R178), 0) -> 0 | S193: =ROUNDDOWN(SUM(S174:S178), 0) -> 0 | T193: =ROUNDDOWN(SUM(T174:T178), 0) -> 0 | U193: =ROUNDDOWN(SUM(U174:U178), 0) -> 0 | V193: =ROUNDDOWN(SUM(V174:V178), 0) -> 0 | W193: =ROUNDDOWN(SUM(W174:W178), 0) -> 0 | X193: =ROUNDDOWN(SUM(X174:X178), 0) -> 0 | Y193: =ROUNDDOWN(SUM(Y174:Y178), 0) -> 0 | ... AY193: =ROUNDDOWN(SUM(AY174:AY178), 0) -> 0
A194: 0110. 미장공사
A195: 모르타르 바름 | B195: 내벽,18mm(초벌+정벌),3.6m 이하 | C195: M2 | D195: 36.6 | F195: =ROUNDDOWN(D195*E195, 0) -> 0 | H195: =ROUNDDOWN(D195*G195, 0) -> 0 | J195: =ROUNDDOWN(D195*I195, 0) -> 0 | K195: =E195+G195+I195 -> 0 | L195: =F195+H195+J195 -> 0 | M195: 일위 23호 | O195: ="" | P195: 기계경비 | Q195: 1 | R195: =IF(P195="기계경비", J195, 0) -> 0 | S195: =IF(P195="운반비", L195, 0) -> 0 | T195: =IF(P195="작업부산물", F195, 0) -> 0 | U195: =IF(P195="관급", F195, 0) -> 0 | V195: =IF(P195="외주비", J195, 0) -> 0 | W195: =IF(P195="장비비", J195, 0) -> 0 | X195: =IF(P195="폐기물처리비", L195, 0) -> 0 | Y195: =IF(P195="가설비", J195, 0) -> 0 | Z195: =IF(P195="잡비제외분", F195, 0) -> 0 | AA195: =IF(P195="사급자재대", L195, 0) -> 0 | AB195: =IF(P195="관급자재대", L195, 0) -> 0 | AC195: =IF(P195="사용자항목1", L195, 0) -> 0 | AD195: =IF(P195="사용자항목2", L195, 0) -> 0 | AE195: =IF(P195="안전관리비", L195, 0) -> 0 | AF195: =IF(P195="품질관리비", L195, 0) -> 0 | AG195: =IF(P195="작업부산물(철거해체)", L195, 0) -> 0 | AH195: =IF(P195="사용자항목6", L195, 0) -> 0 | AI195: =IF(P195="사용자항목7", L195, 0) -> 0 | AJ195: =IF(P195="관급자재대(관급자)", L195, 0) -> 0 | AK195: =IF(P195="관급자재대(관급자)", L195, 0) -> 0 | AL195: =IF(P195="사용자항목10", L195, 0) -> 0 | AM195: =IF(P195="폐기물처리비(일반)", L195, 0) -> 0 | AN195: =IF(P195="폐기물처리비(지정)", L195, 0) -> 0 | AO195: =IF(P195="사용자항목13", L195, 0) -> 0 | AP195: =IF(P195="사용자항목14", L195, 0) -> 0 | AQ195: =IF(P195="사용자항목15", L195, 0) -> 0 | AR195: =IF(P195="사용자항목16", L195, 0) -> 0 | AS195: =IF(P195="사용자항목17", L195, 0) -> 0 | AT195: =IF(P195="사용자항목18", L195, 0) -> 0 | AU195: =IF(P195="사용자항목19", L195, 0) -> 0 | AY195: 무성적산
A196: 모르타르 바름 | B196: 외벽,18mm(초벌+정벌),3.6m 이하 | C196: M2 | D196: 23 | F196: =ROUNDDOWN(D196*E196, 0) -> 0 | H196: =ROUNDDOWN(D196*G196, 0) -> 0 | J196: =ROUNDDOWN(D196*I196, 0) -> 0 | K196: =E196+G196+I196 -> 0 | L196: =F196+H196+J196 -> 0 | M196: 일위 24호 | O196: ="" | P196: 기계경비 | Q196: 1 | R196: =IF(P196="기계경비", J196, 0) -> 0 | S196: =IF(P196="운반비", L196, 0) -> 0 | T196: =IF(P196="작업부산물", F196, 0) -> 0 | U196: =IF(P196="관급", F196, 0) -> 0 | V196: =IF(P196="외주비", J196, 0) -> 0 | W196: =IF(P196="장비비", J196, 0) -> 0 | X196: =IF(P196="폐기물처리비", L196, 0) -> 0 | Y196: =IF(P196="가설비", J196, 0) -> 0 | Z196: =IF(P196="잡비제외분", F196, 0) -> 0 | AA196: =IF(P196="사급자재대", L196, 0) -> 0 | AB196: =IF(P196="관급자재대", L196, 0) -> 0 | AC196: =IF(P196="사용자항목1", L196, 0) -> 0 | AD196: =IF(P196="사용자항목2", L196, 0) -> 0 | AE196: =IF(P196="안전관리비", L196, 0) -> 0 | AF196: =IF(P196="품질관리비", L196, 0) -> 0 | AG196: =IF(P196="작업부산물(철거해체)", L196, 0) -> 0 | AH196: =IF(P196="사용자항목6", L196, 0) -> 0 | AI196: =IF(P196="사용자항목7", L196, 0) -> 0 | AJ196: =IF(P196="관급자재대(관급자)", L196, 0) -> 0 | AK196: =IF(P196="관급자재대(관급자)", L196, 0) -> 0 | AL196: =IF(P196="사용자항목10", L196, 0) -> 0 | AM196: =IF(P196="폐기물처리비(일반)", L196, 0) -> 0 | AN196: =IF(P196="폐기물처리비(지정)", L196, 0) -> 0 | AO196: =IF(P196="사용자항목13", L196, 0) -> 0 | AP196: =IF(P196="사용자항목14", L196, 0) -> 0 | AQ196: =IF(P196="사용자항목15", L196, 0) -> 0 | AR196: =IF(P196="사용자항목16", L196, 0) -> 0 | AS196: =IF(P196="사용자항목17", L196, 0) -> 0 | AT196: =IF(P196="사용자항목18", L196, 0) -> 0 | AU196: =IF(P196="사용자항목19", L196, 0) -> 0 | AY196: 무성적산
A197: 창호주위 모르타르 충전 | C197: M | D197: 423.9 | F197: =ROUNDDOWN(D197*E197, 0) -> 0 | H197: =ROUNDDOWN(D197*G197, 0) -> 0 | J197: =ROUNDDOWN(D197*I197, 0) -> 0 | K197: =E197+G197+I197 -> 0 | L197: =F197+H197+J197 -> 0 | M197: 일위 25호 | O197: ="" | P197: 기계경비 | Q197: 1 | R197: =IF(P197="기계경비", J197, 0) -> 0 | S197: =IF(P197="운반비", L197, 0) -> 0 | T197: =IF(P197="작업부산물", F197, 0) -> 0 | U197: =IF(P197="관급", F197, 0) -> 0 | V197: =IF(P197="외주비", J197, 0) -> 0 | W197: =IF(P197="장비비", J197, 0) -> 0 | X197: =IF(P197="폐기물처리비", L197, 0) -> 0 | Y197: =IF(P197="가설비", J197, 0) -> 0 | Z197: =IF(P197="잡비제외분", F197, 0) -> 0 | AA197: =IF(P197="사급자재대", L197, 0) -> 0 | AB197: =IF(P197="관급자재대", L197, 0) -> 0 | AC197: =IF(P197="사용자항목1", L197, 0) -> 0 | AD197: =IF(P197="사용자항목2", L197, 0) -> 0 | AE197: =IF(P197="안전관리비", L197, 0) -> 0 | AF197: =IF(P197="품질관리비", L197, 0) -> 0 | AG197: =IF(P197="작업부산물(철거해체)", L197, 0) -> 0 | AH197: =IF(P197="사용자항목6", L197, 0) -> 0 | AI197: =IF(P197="사용자항목7", L197, 0) -> 0 | AJ197: =IF(P197="관급자재대(관급자)", L197, 0) -> 0 | AK197: =IF(P197="관급자재대(관급자)", L197, 0) -> 0 | AL197: =IF(P197="사용자항목10", L197, 0) -> 0 | AM197: =IF(P197="폐기물처리비(일반)", L197, 0) -> 0 | AN197: =IF(P197="폐기물처리비(지정)", L197, 0) -> 0 | AO197: =IF(P197="사용자항목13", L197, 0) -> 0 | AP197: =IF(P197="사용자항목14", L197, 0) -> 0 | AQ197: =IF(P197="사용자항목15", L197, 0) -> 0 | AR197: =IF(P197="사용자항목16", L197, 0) -> 0 | AS197: =IF(P197="사용자항목17", L197, 0) -> 0 | AT197: =IF(P197="사용자항목18", L197, 0) -> 0 | AU197: =IF(P197="사용자항목19", L197, 0) -> 0 | AY197: AGH11000020S
A214: 합 계 | F214: =ROUNDDOWN(SUMIF(Q195:Q213, "1", F195:F213), 0) -> 0 | H214: =ROUNDDOWN(SUMIF(Q195:Q213, "1", H195:H213), 0) -> 0 | J214: =ROUNDDOWN(SUMIF(Q195:Q213, "1", J195:J213), 0) -> 0 | L214: =F214+H214+J214 -> 0 | R214: =ROUNDDOWN(SUM(R195:R197), 0) -> 0 | S214: =ROUNDDOWN(SUM(S195:S197), 0) -> 0 | T214: =ROUNDDOWN(SUM(T195:T197), 0) -> 0 | U214: =ROUNDDOWN(SUM(U195:U197), 0) -> 0 | V214: =ROUNDDOWN(SUM(V195:V197), 0) -> 0 | W214: =ROUNDDOWN(SUM(W195:W197), 0) -> 0 | X214: =ROUNDDOWN(SUM(X195:X197), 0) -> 0 | Y214: =ROUNDDOWN(SUM(Y195:Y197), 0) -> 0 | ... AY214: =ROUNDDOWN(SUM(AY195:AY197), 0) -> 0
A215: 0111. 창호공사
A216: SSD - 1 | B216: 1,050 × 2,700 (이설.재설치) | C216: 개소 | D216: 1 | F216: =ROUNDDOWN(D216*E216, 0) -> 0 | H216: =ROUNDDOWN(D216*G216, 0) -> 0 | J216: =ROUNDDOWN(D216*I216, 0) -> 0 | K216: =E216+G216+I216 -> 0 | L216: =F216+H216+J216 -> 0 | M216: 일위 26호 | O216: ="" | P216: 기계경비 | Q216: 1 | R216: =IF(P216="기계경비", J216, 0) -> 0 | S216: =IF(P216="운반비", L216, 0) -> 0 | T216: =IF(P216="작업부산물", F216, 0) -> 0 | U216: =IF(P216="관급", F216, 0) -> 0 | V216: =IF(P216="외주비", J216, 0) -> 0 | W216: =IF(P216="장비비", J216, 0) -> 0 | X216: =IF(P216="폐기물처리비", L216, 0) -> 0 | Y216: =IF(P216="가설비", J216, 0) -> 0 | Z216: =IF(P216="잡비제외분", F216, 0) -> 0 | AA216: =IF(P216="사급자재대", L216, 0) -> 0 | AB216: =IF(P216="관급자재대", L216, 0) -> 0 | AC216: =IF(P216="사용자항목1", L216, 0) -> 0 | AD216: =IF(P216="사용자항목2", L216, 0) -> 0 | AE216: =IF(P216="안전관리비", L216, 0) -> 0 | AF216: =IF(P216="품질관리비", L216, 0) -> 0 | AG216: =IF(P216="작업부산물(철거해체)", L216, 0) -> 0 | AH216: =IF(P216="사용자항목6", L216, 0) -> 0 | AI216: =IF(P216="사용자항목7", L216, 0) -> 0 | AJ216: =IF(P216="관급자재대(관급자)", L216, 0) -> 0 | AK216: =IF(P216="관급자재대(관급자)", L216, 0) -> 0 | AL216: =IF(P216="사용자항목10", L216, 0) -> 0 | AM216: =IF(P216="폐기물처리비(일반)", L216, 0) -> 0 | AN216: =IF(P216="폐기물처리비(지정)", L216, 0) -> 0 | AO216: =IF(P216="사용자항목13", L216, 0) -> 0 | AP216: =IF(P216="사용자항목14", L216, 0) -> 0 | AQ216: =IF(P216="사용자항목15", L216, 0) -> 0 | AR216: =IF(P216="사용자항목16", L216, 0) -> 0 | AS216: =IF(P216="사용자항목17", L216, 0) -> 0 | AT216: =IF(P216="사용자항목18", L216, 0) -> 0 | AU216: =IF(P216="사용자항목19", L216, 0) -> 0
A217: SSD - 2 | B217: 1,050 × 2,700 (이설.재설치) | C217: 개소 | D217: 2 | F217: =ROUNDDOWN(D217*E217, 0) -> 0 | H217: =ROUNDDOWN(D217*G217, 0) -> 0 | J217: =ROUNDDOWN(D217*I217, 0) -> 0 | K217: =E217+G217+I217 -> 0 | L217: =F217+H217+J217 -> 0 | M217: 일위 27호 | O217: ="" | P217: 기계경비 | Q217: 1 | R217: =IF(P217="기계경비", J217, 0) -> 0 | S217: =IF(P217="운반비", L217, 0) -> 0 | T217: =IF(P217="작업부산물", F217, 0) -> 0 | U217: =IF(P217="관급", F217, 0) -> 0 | V217: =IF(P217="외주비", J217, 0) -> 0 | W217: =IF(P217="장비비", J217, 0) -> 0 | X217: =IF(P217="폐기물처리비", L217, 0) -> 0 | Y217: =IF(P217="가설비", J217, 0) -> 0 | Z217: =IF(P217="잡비제외분", F217, 0) -> 0 | AA217: =IF(P217="사급자재대", L217, 0) -> 0 | AB217: =IF(P217="관급자재대", L217, 0) -> 0 | AC217: =IF(P217="사용자항목1", L217, 0) -> 0 | AD217: =IF(P217="사용자항목2", L217, 0) -> 0 | AE217: =IF(P217="안전관리비", L217, 0) -> 0 | AF217: =IF(P217="품질관리비", L217, 0) -> 0 | AG217: =IF(P217="작업부산물(철거해체)", L217, 0) -> 0 | AH217: =IF(P217="사용자항목6", L217, 0) -> 0 | AI217: =IF(P217="사용자항목7", L217, 0) -> 0 | AJ217: =IF(P217="관급자재대(관급자)", L217, 0) -> 0 | AK217: =IF(P217="관급자재대(관급자)", L217, 0) -> 0 | AL217: =IF(P217="사용자항목10", L217, 0) -> 0 | AM217: =IF(P217="폐기물처리비(일반)", L217, 0) -> 0 | AN217: =IF(P217="폐기물처리비(지정)", L217, 0) -> 0 | AO217: =IF(P217="사용자항목13", L217, 0) -> 0 | AP217: =IF(P217="사용자항목14", L217, 0) -> 0 | AQ217: =IF(P217="사용자항목15", L217, 0) -> 0 | AR217: =IF(P217="사용자항목16", L217, 0) -> 0 | AS217: =IF(P217="사용자항목17", L217, 0) -> 0 | AT217: =IF(P217="사용자항목18", L217, 0) -> 0 | AU217: =IF(P217="사용자항목19", L217, 0) -> 0
A218: CAD - 1 | B218: 7,400 × 2,700 (150mm AL 단열바,프로로폰도장) | C218: 개소 | D218: 1 | F218: =ROUNDDOWN(D218*E218, 0) -> 0 | H218: =ROUNDDOWN(D218*G218, 0) -> 0 | J218: =ROUNDDOWN(D218*I218, 0) -> 0 | K218: =E218+G218+I218 -> 0 | L218: =F218+H218+J218 -> 0 | O218: ="" | P218: 기계경비 | Q218: 1 | R218: =IF(P218="기계경비", J218, 0) -> 0 | S218: =IF(P218="운반비", L218, 0) -> 0 | T218: =IF(P218="작업부산물", F218, 0) -> 0 | U218: =IF(P218="관급", F218, 0) -> 0 | V218: =IF(P218="외주비", J218, 0) -> 0 | W218: =IF(P218="장비비", J218, 0) -> 0 | X218: =IF(P218="폐기물처리비", L218, 0) -> 0 | Y218: =IF(P218="가설비", J218, 0) -> 0 | Z218: =IF(P218="잡비제외분", F218, 0) -> 0 | AA218: =IF(P218="사급자재대", L218, 0) -> 0 | AB218: =IF(P218="관급자재대", L218, 0) -> 0 | AC218: =IF(P218="사용자항목1", L218, 0) -> 0 | AD218: =IF(P218="사용자항목2", L218, 0) -> 0 | AE218: =IF(P218="안전관리비", L218, 0) -> 0 | AF218: =IF(P218="품질관리비", L218, 0) -> 0 | AG218: =IF(P218="작업부산물(철거해체)", L218, 0) -> 0 | AH218: =IF(P218="사용자항목6", L218, 0) -> 0 | AI218: =IF(P218="사용자항목7", L218, 0) -> 0 | AJ218: =IF(P218="관급자재대(관급자)", L218, 0) -> 0 | AK218: =IF(P218="관급자재대(관급자)", L218, 0) -> 0 | AL218: =IF(P218="사용자항목10", L218, 0) -> 0 | AM218: =IF(P218="폐기물처리비(일반)", L218, 0) -> 0 | AN218: =IF(P218="폐기물처리비(지정)", L218, 0) -> 0 | AO218: =IF(P218="사용자항목13", L218, 0) -> 0 | AP218: =IF(P218="사용자항목14", L218, 0) -> 0 | AQ218: =IF(P218="사용자항목15", L218, 0) -> 0 | AR218: =IF(P218="사용자항목16", L218, 0) -> 0 | AS218: =IF(P218="사용자항목17", L218, 0) -> 0 | AT218: =IF(P218="사용자항목18", L218, 0) -> 0 | AU218: =IF(P218="사용자항목19", L218, 0) -> 0
A219: P D - 1 | B219: 900 × 2,100 (140T,발포문틀) | C219: 개소 | D219: 1 | F219: =ROUNDDOWN(D219*E219, 0) -> 0 | H219: =ROUNDDOWN(D219*G219, 0) -> 0 | J219: =ROUNDDOWN(D219*I219, 0) -> 0 | K219: =E219+G219+I219 -> 0 | L219: =F219+H219+J219 -> 0 | M219: 일위 28호 | O219: ="" | P219: 기계경비 | Q219: 1 | R219: =IF(P219="기계경비", J219, 0) -> 0 | S219: =IF(P219="운반비", L219, 0) -> 0 | T219: =IF(P219="작업부산물", F219, 0) -> 0 | U219: =IF(P219="관급", F219, 0) -> 0 | V219: =IF(P219="외주비", J219, 0) -> 0 | W219: =IF(P219="장비비", J219, 0) -> 0 | X219: =IF(P219="폐기물처리비", L219, 0) -> 0 | Y219: =IF(P219="가설비", J219, 0) -> 0 | Z219: =IF(P219="잡비제외분", F219, 0) -> 0 | AA219: =IF(P219="사급자재대", L219, 0) -> 0 | AB219: =IF(P219="관급자재대", L219, 0) -> 0 | AC219: =IF(P219="사용자항목1", L219, 0) -> 0 | AD219: =IF(P219="사용자항목2", L219, 0) -> 0 | AE219: =IF(P219="안전관리비", L219, 0) -> 0 | AF219: =IF(P219="품질관리비", L219, 0) -> 0 | AG219: =IF(P219="작업부산물(철거해체)", L219, 0) -> 0 | AH219: =IF(P219="사용자항목6", L219, 0) -> 0 | AI219: =IF(P219="사용자항목7", L219, 0) -> 0 | AJ219: =IF(P219="관급자재대(관급자)", L219, 0) -> 0 | AK219: =IF(P219="관급자재대(관급자)", L219, 0) -> 0 | AL219: =IF(P219="사용자항목10", L219, 0) -> 0 | AM219: =IF(P219="폐기물처리비(일반)", L219, 0) -> 0 | AN219: =IF(P219="폐기물처리비(지정)", L219, 0) -> 0 | AO219: =IF(P219="사용자항목13", L219, 0) -> 0 | AP219: =IF(P219="사용자항목14", L219, 0) -> 0 | AQ219: =IF(P219="사용자항목15", L219, 0) -> 0 | AR219: =IF(P219="사용자항목16", L219, 0) -> 0 | AS219: =IF(P219="사용자항목17", L219, 0) -> 0 | AT219: =IF(P219="사용자항목18", L219, 0) -> 0 | AU219: =IF(P219="사용자항목19", L219, 0) -> 0
A220: CAW - 1 | B220: 1,650 × 1,750 (150mm AL 단열바,프로로폰도장) | C220: 개소 | D220: 98 | F220: =ROUNDDOWN(D220*E220, 0) -> 0 | H220: =ROUNDDOWN(D220*G220, 0) -> 0 | J220: =ROUNDDOWN(D220*I220, 0) -> 0 | K220: =E220+G220+I220 -> 0 | L220: =F220+H220+J220 -> 0 | O220: ="" | P220: 기계경비 | Q220: 1 | R220: =IF(P220="기계경비", J220, 0) -> 0 | S220: =IF(P220="운반비", L220, 0) -> 0 | T220: =IF(P220="작업부산물", F220, 0) -> 0 | U220: =IF(P220="관급", F220, 0) -> 0 | V220: =IF(P220="외주비", J220, 0) -> 0 | W220: =IF(P220="장비비", J220, 0) -> 0 | X220: =IF(P220="폐기물처리비", L220, 0) -> 0 | Y220: =IF(P220="가설비", J220, 0) -> 0 | Z220: =IF(P220="잡비제외분", F220, 0) -> 0 | AA220: =IF(P220="사급자재대", L220, 0) -> 0 | AB220: =IF(P220="관급자재대", L220, 0) -> 0 | AC220: =IF(P220="사용자항목1", L220, 0) -> 0 | AD220: =IF(P220="사용자항목2", L220, 0) -> 0 | AE220: =IF(P220="안전관리비", L220, 0) -> 0 | AF220: =IF(P220="품질관리비", L220, 0) -> 0 | AG220: =IF(P220="작업부산물(철거해체)", L220, 0) -> 0 | AH220: =IF(P220="사용자항목6", L220, 0) -> 0 | AI220: =IF(P220="사용자항목7", L220, 0) -> 0 | AJ220: =IF(P220="관급자재대(관급자)", L220, 0) -> 0 | AK220: =IF(P220="관급자재대(관급자)", L220, 0) -> 0 | AL220: =IF(P220="사용자항목10", L220, 0) -> 0 | AM220: =IF(P220="폐기물처리비(일반)", L220, 0) -> 0 | AN220: =IF(P220="폐기물처리비(지정)", L220, 0) -> 0 | AO220: =IF(P220="사용자항목13", L220, 0) -> 0 | AP220: =IF(P220="사용자항목14", L220, 0) -> 0 | AQ220: =IF(P220="사용자항목15", L220, 0) -> 0 | AR220: =IF(P220="사용자항목16", L220, 0) -> 0 | AS220: =IF(P220="사용자항목17", L220, 0) -> 0 | AT220: =IF(P220="사용자항목18", L220, 0) -> 0 | AU220: =IF(P220="사용자항목19", L220, 0) -> 0
A221: CAW - 2 | B221: 1,600 × 1,450 (150mm AL 단열바,프로로폰도장) | C221: 개소 | D221: 10 | F221: =ROUNDDOWN(D221*E221, 0) -> 0 | H221: =ROUNDDOWN(D221*G221, 0) -> 0 | J221: =ROUNDDOWN(D221*I221, 0) -> 0 | K221: =E221+G221+I221 -> 0 | L221: =F221+H221+J221 -> 0 | O221: ="" | P221: 기계경비 | Q221: 1 | R221: =IF(P221="기계경비", J221, 0) -> 0 | S221: =IF(P221="운반비", L221, 0) -> 0 | T221: =IF(P221="작업부산물", F221, 0) -> 0 | U221: =IF(P221="관급", F221, 0) -> 0 | V221: =IF(P221="외주비", J221, 0) -> 0 | W221: =IF(P221="장비비", J221, 0) -> 0 | X221: =IF(P221="폐기물처리비", L221, 0) -> 0 | Y221: =IF(P221="가설비", J221, 0) -> 0 | Z221: =IF(P221="잡비제외분", F221, 0) -> 0 | AA221: =IF(P221="사급자재대", L221, 0) -> 0 | AB221: =IF(P221="관급자재대", L221, 0) -> 0 | AC221: =IF(P221="사용자항목1", L221, 0) -> 0 | AD221: =IF(P221="사용자항목2", L221, 0) -> 0 | AE221: =IF(P221="안전관리비", L221, 0) -> 0 | AF221: =IF(P221="품질관리비", L221, 0) -> 0 | AG221: =IF(P221="작업부산물(철거해체)", L221, 0) -> 0 | AH221: =IF(P221="사용자항목6", L221, 0) -> 0 | AI221: =IF(P221="사용자항목7", L221, 0) -> 0 | AJ221: =IF(P221="관급자재대(관급자)", L221, 0) -> 0 | AK221: =IF(P221="관급자재대(관급자)", L221, 0) -> 0 | AL221: =IF(P221="사용자항목10", L221, 0) -> 0 | AM221: =IF(P221="폐기물처리비(일반)", L221, 0) -> 0 | AN221: =IF(P221="폐기물처리비(지정)", L221, 0) -> 0 | AO221: =IF(P221="사용자항목13", L221, 0) -> 0 | AP221: =IF(P221="사용자항목14", L221, 0) -> 0 | AQ221: =IF(P221="사용자항목15", L221, 0) -> 0 | AR221: =IF(P221="사용자항목16", L221, 0) -> 0 | AS221: =IF(P221="사용자항목17", L221, 0) -> 0 | AT221: =IF(P221="사용자항목18", L221, 0) -> 0 | AU221: =IF(P221="사용자항목19", L221, 0) -> 0
A222: CAW - 3 | B222: 1,400 × 1,750 (150mm AL 단열바,프로로폰도장) | C222: 개소 | D222: 104 | F222: =ROUNDDOWN(D222*E222, 0) -> 0 | H222: =ROUNDDOWN(D222*G222, 0) -> 0 | J222: =ROUNDDOWN(D222*I222, 0) -> 0 | K222: =E222+G222+I222 -> 0 | L222: =F222+H222+J222 -> 0 | O222: ="" | P222: 기계경비 | Q222: 1 | R222: =IF(P222="기계경비", J222, 0) -> 0 | S222: =IF(P222="운반비", L222, 0) -> 0 | T222: =IF(P222="작업부산물", F222, 0) -> 0 | U222: =IF(P222="관급", F222, 0) -> 0 | V222: =IF(P222="외주비", J222, 0) -> 0 | W222: =IF(P222="장비비", J222, 0) -> 0 | X222: =IF(P222="폐기물처리비", L222, 0) -> 0 | Y222: =IF(P222="가설비", J222, 0) -> 0 | Z222: =IF(P222="잡비제외분", F222, 0) -> 0 | AA222: =IF(P222="사급자재대", L222, 0) -> 0 | AB222: =IF(P222="관급자재대", L222, 0) -> 0 | AC222: =IF(P222="사용자항목1", L222, 0) -> 0 | AD222: =IF(P222="사용자항목2", L222, 0) -> 0 | AE222: =IF(P222="안전관리비", L222, 0) -> 0 | AF222: =IF(P222="품질관리비", L222, 0) -> 0 | AG222: =IF(P222="작업부산물(철거해체)", L222, 0) -> 0 | AH222: =IF(P222="사용자항목6", L222, 0) -> 0 | AI222: =IF(P222="사용자항목7", L222, 0) -> 0 | AJ222: =IF(P222="관급자재대(관급자)", L222, 0) -> 0 | AK222: =IF(P222="관급자재대(관급자)", L222, 0) -> 0 | AL222: =IF(P222="사용자항목10", L222, 0) -> 0 | AM222: =IF(P222="폐기물처리비(일반)", L222, 0) -> 0 | AN222: =IF(P222="폐기물처리비(지정)", L222, 0) -> 0 | AO222: =IF(P222="사용자항목13", L222, 0) -> 0 | AP222: =IF(P222="사용자항목14", L222, 0) -> 0 | AQ222: =IF(P222="사용자항목15", L222, 0) -> 0 | AR222: =IF(P222="사용자항목16", L222, 0) -> 0 | AS222: =IF(P222="사용자항목17", L222, 0) -> 0 | AT222: =IF(P222="사용자항목18", L222, 0) -> 0 | AU222: =IF(P222="사용자항목19", L222, 0) -> 0
A223: CAW - 4 | B223: 1,200 × 1,750 (150mm AL 단열바,프로로폰도장) | C223: 개소 | D223: 6 | F223: =ROUNDDOWN(D223*E223, 0) -> 0 | H223: =ROUNDDOWN(D223*G223, 0) -> 0 | J223: =ROUNDDOWN(D223*I223, 0) -> 0 | K223: =E223+G223+I223 -> 0 | L223: =F223+H223+J223 -> 0 | O223: ="" | P223: 기계경비 | Q223: 1 | R223: =IF(P223="기계경비", J223, 0) -> 0 | S223: =IF(P223="운반비", L223, 0) -> 0 | T223: =IF(P223="작업부산물", F223, 0) -> 0 | U223: =IF(P223="관급", F223, 0) -> 0 | V223: =IF(P223="외주비", J223, 0) -> 0 | W223: =IF(P223="장비비", J223, 0) -> 0 | X223: =IF(P223="폐기물처리비", L223, 0) -> 0 | Y223: =IF(P223="가설비", J223, 0) -> 0 | Z223: =IF(P223="잡비제외분", F223, 0) -> 0 | AA223: =IF(P223="사급자재대", L223, 0) -> 0 | AB223: =IF(P223="관급자재대", L223, 0) -> 0 | AC223: =IF(P223="사용자항목1", L223, 0) -> 0 | AD223: =IF(P223="사용자항목2", L223, 0) -> 0 | AE223: =IF(P223="안전관리비", L223, 0) -> 0 | AF223: =IF(P223="품질관리비", L223, 0) -> 0 | AG223: =IF(P223="작업부산물(철거해체)", L223, 0) -> 0 | AH223: =IF(P223="사용자항목6", L223, 0) -> 0 | AI223: =IF(P223="사용자항목7", L223, 0) -> 0 | AJ223: =IF(P223="관급자재대(관급자)", L223, 0) -> 0 | AK223: =IF(P223="관급자재대(관급자)", L223, 0) -> 0 | AL223: =IF(P223="사용자항목10", L223, 0) -> 0 | AM223: =IF(P223="폐기물처리비(일반)", L223, 0) -> 0 | AN223: =IF(P223="폐기물처리비(지정)", L223, 0) -> 0 | AO223: =IF(P223="사용자항목13", L223, 0) -> 0 | AP223: =IF(P223="사용자항목14", L223, 0) -> 0 | AQ223: =IF(P223="사용자항목15", L223, 0) -> 0 | AR223: =IF(P223="사용자항목16", L223, 0) -> 0 | AS223: =IF(P223="사용자항목17", L223, 0) -> 0 | AT223: =IF(P223="사용자항목18", L223, 0) -> 0 | AU223: =IF(P223="사용자항목19", L223, 0) -> 0
A224: CAW - 5 | B224: 1,200 × 1,450 (150mm AL 단열바,프로로폰도장) | C224: 개소 | D224: 12 | F224: =ROUNDDOWN(D224*E224, 0) -> 0 | H224: =ROUNDDOWN(D224*G224, 0) -> 0 | J224: =ROUNDDOWN(D224*I224, 0) -> 0 | K224: =E224+G224+I224 -> 0 | L224: =F224+H224+J224 -> 0 | O224: ="" | P224: 기계경비 | Q224: 1 | R224: =IF(P224="기계경비", J224, 0) -> 0 | S224: =IF(P224="운반비", L224, 0) -> 0 | T224: =IF(P224="작업부산물", F224, 0) -> 0 | U224: =IF(P224="관급", F224, 0) -> 0 | V224: =IF(P224="외주비", J224, 0) -> 0 | W224: =IF(P224="장비비", J224, 0) -> 0 | X224: =IF(P224="폐기물처리비", L224, 0) -> 0 | Y224: =IF(P224="가설비", J224, 0) -> 0 | Z224: =IF(P224="잡비제외분", F224, 0) -> 0 | AA224: =IF(P224="사급자재대", L224, 0) -> 0 | AB224: =IF(P224="관급자재대", L224, 0) -> 0 | AC224: =IF(P224="사용자항목1", L224, 0) -> 0 | AD224: =IF(P224="사용자항목2", L224, 0) -> 0 | AE224: =IF(P224="안전관리비", L224, 0) -> 0 | AF224: =IF(P224="품질관리비", L224, 0) -> 0 | AG224: =IF(P224="작업부산물(철거해체)", L224, 0) -> 0 | AH224: =IF(P224="사용자항목6", L224, 0) -> 0 | AI224: =IF(P224="사용자항목7", L224, 0) -> 0 | AJ224: =IF(P224="관급자재대(관급자)", L224, 0) -> 0 | AK224: =IF(P224="관급자재대(관급자)", L224, 0) -> 0 | AL224: =IF(P224="사용자항목10", L224, 0) -> 0 | AM224: =IF(P224="폐기물처리비(일반)", L224, 0) -> 0 | AN224: =IF(P224="폐기물처리비(지정)", L224, 0) -> 0 | AO224: =IF(P224="사용자항목13", L224, 0) -> 0 | AP224: =IF(P224="사용자항목14", L224, 0) -> 0 | AQ224: =IF(P224="사용자항목15", L224, 0) -> 0 | AR224: =IF(P224="사용자항목16", L224, 0) -> 0 | AS224: =IF(P224="사용자항목17", L224, 0) -> 0 | AT224: =IF(P224="사용자항목18", L224, 0) -> 0 | AU224: =IF(P224="사용자항목19", L224, 0) -> 0
A225: CAW - 6 | B225: 1,200 × 2,400 (150mm AL 단열바,프로로폰도장) | C225: 개소 | D225: 12 | F225: =ROUNDDOWN(D225*E225, 0) -> 0 | H225: =ROUNDDOWN(D225*G225, 0) -> 0 | J225: =ROUNDDOWN(D225*I225, 0) -> 0 | K225: =E225+G225+I225 -> 0 | L225: =F225+H225+J225 -> 0 | O225: ="" | P225: 기계경비 | Q225: 1 | R225: =IF(P225="기계경비", J225, 0) -> 0 | S225: =IF(P225="운반비", L225, 0) -> 0 | T225: =IF(P225="작업부산물", F225, 0) -> 0 | U225: =IF(P225="관급", F225, 0) -> 0 | V225: =IF(P225="외주비", J225, 0) -> 0 | W225: =IF(P225="장비비", J225, 0) -> 0 | X225: =IF(P225="폐기물처리비", L225, 0) -> 0 | Y225: =IF(P225="가설비", J225, 0) -> 0 | Z225: =IF(P225="잡비제외분", F225, 0) -> 0 | AA225: =IF(P225="사급자재대", L225, 0) -> 0 | AB225: =IF(P225="관급자재대", L225, 0) -> 0 | AC225: =IF(P225="사용자항목1", L225, 0) -> 0 | AD225: =IF(P225="사용자항목2", L225, 0) -> 0 | AE225: =IF(P225="안전관리비", L225, 0) -> 0 | AF225: =IF(P225="품질관리비", L225, 0) -> 0 | AG225: =IF(P225="작업부산물(철거해체)", L225, 0) -> 0 | AH225: =IF(P225="사용자항목6", L225, 0) -> 0 | AI225: =IF(P225="사용자항목7", L225, 0) -> 0 | AJ225: =IF(P225="관급자재대(관급자)", L225, 0) -> 0 | AK225: =IF(P225="관급자재대(관급자)", L225, 0) -> 0 | AL225: =IF(P225="사용자항목10", L225, 0) -> 0 | AM225: =IF(P225="폐기물처리비(일반)", L225, 0) -> 0 | AN225: =IF(P225="폐기물처리비(지정)", L225, 0) -> 0 | AO225: =IF(P225="사용자항목13", L225, 0) -> 0 | AP225: =IF(P225="사용자항목14", L225, 0) -> 0 | AQ225: =IF(P225="사용자항목15", L225, 0) -> 0 | AR225: =IF(P225="사용자항목16", L225, 0) -> 0 | AS225: =IF(P225="사용자항목17", L225, 0) -> 0 | AT225: =IF(P225="사용자항목18", L225, 0) -> 0 | AU225: =IF(P225="사용자항목19", L225, 0) -> 0
A226: CAW - 7 | B226: 1,200 × 1,200 (150mm AL 단열바,프로로폰도장) | C226: 개소 | D226: 6 | F226: =ROUNDDOWN(D226*E226, 0) -> 0 | H226: =ROUNDDOWN(D226*G226, 0) -> 0 | J226: =ROUNDDOWN(D226*I226, 0) -> 0 | K226: =E226+G226+I226 -> 0 | L226: =F226+H226+J226 -> 0 | O226: ="" | P226: 기계경비 | Q226: 1 | R226: =IF(P226="기계경비", J226, 0) -> 0 | S226: =IF(P226="운반비", L226, 0) -> 0 | T226: =IF(P226="작업부산물", F226, 0) -> 0 | U226: =IF(P226="관급", F226, 0) -> 0 | V226: =IF(P226="외주비", J226, 0) -> 0 | W226: =IF(P226="장비비", J226, 0) -> 0 | X226: =IF(P226="폐기물처리비", L226, 0) -> 0 | Y226: =IF(P226="가설비", J226, 0) -> 0 | Z226: =IF(P226="잡비제외분", F226, 0) -> 0 | AA226: =IF(P226="사급자재대", L226, 0) -> 0 | AB226: =IF(P226="관급자재대", L226, 0) -> 0 | AC226: =IF(P226="사용자항목1", L226, 0) -> 0 | AD226: =IF(P226="사용자항목2", L226, 0) -> 0 | AE226: =IF(P226="안전관리비", L226, 0) -> 0 | AF226: =IF(P226="품질관리비", L226, 0) -> 0 | AG226: =IF(P226="작업부산물(철거해체)", L226, 0) -> 0 | AH226: =IF(P226="사용자항목6", L226, 0) -> 0 | AI226: =IF(P226="사용자항목7", L226, 0) -> 0 | AJ226: =IF(P226="관급자재대(관급자)", L226, 0) -> 0 | AK226: =IF(P226="관급자재대(관급자)", L226, 0) -> 0 | AL226: =IF(P226="사용자항목10", L226, 0) -> 0 | AM226: =IF(P226="폐기물처리비(일반)", L226, 0) -> 0 | AN226: =IF(P226="폐기물처리비(지정)", L226, 0) -> 0 | AO226: =IF(P226="사용자항목13", L226, 0) -> 0 | AP226: =IF(P226="사용자항목14", L226, 0) -> 0 | AQ226: =IF(P226="사용자항목15", L226, 0) -> 0 | AR226: =IF(P226="사용자항목16", L226, 0) -> 0 | AS226: =IF(P226="사용자항목17", L226, 0) -> 0 | AT226: =IF(P226="사용자항목18", L226, 0) -> 0 | AU226: =IF(P226="사용자항목19", L226, 0) -> 0
A227: CAW - 8 | B227: 1,800 × 1,800 (150mm AL 단열바,프로로폰도장) | C227: 개소 | D227: 7 | F227: =ROUNDDOWN(D227*E227, 0) -> 0 | H227: =ROUNDDOWN(D227*G227, 0) -> 0 | J227: =ROUNDDOWN(D227*I227, 0) -> 0 | K227: =E227+G227+I227 -> 0 | L227: =F227+H227+J227 -> 0 | O227: ="" | P227: 기계경비 | Q227: 1 | R227: =IF(P227="기계경비", J227, 0) -> 0 | S227: =IF(P227="운반비", L227, 0) -> 0 | T227: =IF(P227="작업부산물", F227, 0) -> 0 | U227: =IF(P227="관급", F227, 0) -> 0 | V227: =IF(P227="외주비", J227, 0) -> 0 | W227: =IF(P227="장비비", J227, 0) -> 0 | X227: =IF(P227="폐기물처리비", L227, 0) -> 0 | Y227: =IF(P227="가설비", J227, 0) -> 0 | Z227: =IF(P227="잡비제외분", F227, 0) -> 0 | AA227: =IF(P227="사급자재대", L227, 0) -> 0 | AB227: =IF(P227="관급자재대", L227, 0) -> 0 | AC227: =IF(P227="사용자항목1", L227, 0) -> 0 | AD227: =IF(P227="사용자항목2", L227, 0) -> 0 | AE227: =IF(P227="안전관리비", L227, 0) -> 0 | AF227: =IF(P227="품질관리비", L227, 0) -> 0 | AG227: =IF(P227="작업부산물(철거해체)", L227, 0) -> 0 | AH227: =IF(P227="사용자항목6", L227, 0) -> 0 | AI227: =IF(P227="사용자항목7", L227, 0) -> 0 | AJ227: =IF(P227="관급자재대(관급자)", L227, 0) -> 0 | AK227: =IF(P227="관급자재대(관급자)", L227, 0) -> 0 | AL227: =IF(P227="사용자항목10", L227, 0) -> 0 | AM227: =IF(P227="폐기물처리비(일반)", L227, 0) -> 0 | AN227: =IF(P227="폐기물처리비(지정)", L227, 0) -> 0 | AO227: =IF(P227="사용자항목13", L227, 0) -> 0 | AP227: =IF(P227="사용자항목14", L227, 0) -> 0 | AQ227: =IF(P227="사용자항목15", L227, 0) -> 0 | AR227: =IF(P227="사용자항목16", L227, 0) -> 0 | AS227: =IF(P227="사용자항목17", L227, 0) -> 0 | AT227: =IF(P227="사용자항목18", L227, 0) -> 0 | AU227: =IF(P227="사용자항목19", L227, 0) -> 0
A228: CAW - 9 | B228: 4,800 × 1,750 (150mm AL 단열바,프로로폰도장) | C228: 개소 | D228: 5 | F228: =ROUNDDOWN(D228*E228, 0) -> 0 | H228: =ROUNDDOWN(D228*G228, 0) -> 0 | J228: =ROUNDDOWN(D228*I228, 0) -> 0 | K228: =E228+G228+I228 -> 0 | L228: =F228+H228+J228 -> 0 | O228: ="" | P228: 기계경비 | Q228: 1 | R228: =IF(P228="기계경비", J228, 0) -> 0 | S228: =IF(P228="운반비", L228, 0) -> 0 | T228: =IF(P228="작업부산물", F228, 0) -> 0 | U228: =IF(P228="관급", F228, 0) -> 0 | V228: =IF(P228="외주비", J228, 0) -> 0 | W228: =IF(P228="장비비", J228, 0) -> 0 | X228: =IF(P228="폐기물처리비", L228, 0) -> 0 | Y228: =IF(P228="가설비", J228, 0) -> 0 | Z228: =IF(P228="잡비제외분", F228, 0) -> 0 | AA228: =IF(P228="사급자재대", L228, 0) -> 0 | AB228: =IF(P228="관급자재대", L228, 0) -> 0 | AC228: =IF(P228="사용자항목1", L228, 0) -> 0 | AD228: =IF(P228="사용자항목2", L228, 0) -> 0 | AE228: =IF(P228="안전관리비", L228, 0) -> 0 | AF228: =IF(P228="품질관리비", L228, 0) -> 0 | AG228: =IF(P228="작업부산물(철거해체)", L228, 0) -> 0 | AH228: =IF(P228="사용자항목6", L228, 0) -> 0 | AI228: =IF(P228="사용자항목7", L228, 0) -> 0 | AJ228: =IF(P228="관급자재대(관급자)", L228, 0) -> 0 | AK228: =IF(P228="관급자재대(관급자)", L228, 0) -> 0 | AL228: =IF(P228="사용자항목10", L228, 0) -> 0 | AM228: =IF(P228="폐기물처리비(일반)", L228, 0) -> 0 | AN228: =IF(P228="폐기물처리비(지정)", L228, 0) -> 0 | AO228: =IF(P228="사용자항목13", L228, 0) -> 0 | AP228: =IF(P228="사용자항목14", L228, 0) -> 0 | AQ228: =IF(P228="사용자항목15", L228, 0) -> 0 | AR228: =IF(P228="사용자항목16", L228, 0) -> 0 | AS228: =IF(P228="사용자항목17", L228, 0) -> 0 | AT228: =IF(P228="사용자항목18", L228, 0) -> 0 | AU228: =IF(P228="사용자항목19", L228, 0) -> 0
A229: CAW - 10 | B229: 4,800 × 1,250 (150mm AL 단열바,프로로폰도장) | C229: 개소 | D229: 1 | F229: =ROUNDDOWN(D229*E229, 0) -> 0 | H229: =ROUNDDOWN(D229*G229, 0) -> 0 | J229: =ROUNDDOWN(D229*I229, 0) -> 0 | K229: =E229+G229+I229 -> 0 | L229: =F229+H229+J229 -> 0 | O229: ="" | P229: 기계경비 | Q229: 1 | R229: =IF(P229="기계경비", J229, 0) -> 0 | S229: =IF(P229="운반비", L229, 0) -> 0 | T229: =IF(P229="작업부산물", F229, 0) -> 0 | U229: =IF(P229="관급", F229, 0) -> 0 | V229: =IF(P229="외주비", J229, 0) -> 0 | W229: =IF(P229="장비비", J229, 0) -> 0 | X229: =IF(P229="폐기물처리비", L229, 0) -> 0 | Y229: =IF(P229="가설비", J229, 0) -> 0 | Z229: =IF(P229="잡비제외분", F229, 0) -> 0 | AA229: =IF(P229="사급자재대", L229, 0) -> 0 | AB229: =IF(P229="관급자재대", L229, 0) -> 0 | AC229: =IF(P229="사용자항목1", L229, 0) -> 0 | AD229: =IF(P229="사용자항목2", L229, 0) -> 0 | AE229: =IF(P229="안전관리비", L229, 0) -> 0 | AF229: =IF(P229="품질관리비", L229, 0) -> 0 | AG229: =IF(P229="작업부산물(철거해체)", L229, 0) -> 0 | AH229: =IF(P229="사용자항목6", L229, 0) -> 0 | AI229: =IF(P229="사용자항목7", L229, 0) -> 0 | AJ229: =IF(P229="관급자재대(관급자)", L229, 0) -> 0 | AK229: =IF(P229="관급자재대(관급자)", L229, 0) -> 0 | AL229: =IF(P229="사용자항목10", L229, 0) -> 0 | AM229: =IF(P229="폐기물처리비(일반)", L229, 0) -> 0 | AN229: =IF(P229="폐기물처리비(지정)", L229, 0) -> 0 | AO229: =IF(P229="사용자항목13", L229, 0) -> 0 | AP229: =IF(P229="사용자항목14", L229, 0) -> 0 | AQ229: =IF(P229="사용자항목15", L229, 0) -> 0 | AR229: =IF(P229="사용자항목16", L229, 0) -> 0 | AS229: =IF(P229="사용자항목17", L229, 0) -> 0 | AT229: =IF(P229="사용자항목18", L229, 0) -> 0 | AU229: =IF(P229="사용자항목19", L229, 0) -> 0
A230: CAW - 11 | B230: 7,400 × 8,900 (150mm AL 단열바,프로로폰도장) | C230: 개소 | D230: 1 | F230: =ROUNDDOWN(D230*E230, 0) -> 0 | H230: =ROUNDDOWN(D230*G230, 0) -> 0 | J230: =ROUNDDOWN(D230*I230, 0) -> 0 | K230: =E230+G230+I230 -> 0 | L230: =F230+H230+J230 -> 0 | O230: ="" | P230: 기계경비 | Q230: 1 | R230: =IF(P230="기계경비", J230, 0) -> 0 | S230: =IF(P230="운반비", L230, 0) -> 0 | T230: =IF(P230="작업부산물", F230, 0) -> 0 | U230: =IF(P230="관급", F230, 0) -> 0 | V230: =IF(P230="외주비", J230, 0) -> 0 | W230: =IF(P230="장비비", J230, 0) -> 0 | X230: =IF(P230="폐기물처리비", L230, 0) -> 0 | Y230: =IF(P230="가설비", J230, 0) -> 0 | Z230: =IF(P230="잡비제외분", F230, 0) -> 0 | AA230: =IF(P230="사급자재대", L230, 0) -> 0 | AB230: =IF(P230="관급자재대", L230, 0) -> 0 | AC230: =IF(P230="사용자항목1", L230, 0) -> 0 | AD230: =IF(P230="사용자항목2", L230, 0) -> 0 | AE230: =IF(P230="안전관리비", L230, 0) -> 0 | AF230: =IF(P230="품질관리비", L230, 0) -> 0 | AG230: =IF(P230="작업부산물(철거해체)", L230, 0) -> 0 | AH230: =IF(P230="사용자항목6", L230, 0) -> 0 | AI230: =IF(P230="사용자항목7", L230, 0) -> 0 | AJ230: =IF(P230="관급자재대(관급자)", L230, 0) -> 0 | AK230: =IF(P230="관급자재대(관급자)", L230, 0) -> 0 | AL230: =IF(P230="사용자항목10", L230, 0) -> 0 | AM230: =IF(P230="폐기물처리비(일반)", L230, 0) -> 0 | AN230: =IF(P230="폐기물처리비(지정)", L230, 0) -> 0 | AO230: =IF(P230="사용자항목13", L230, 0) -> 0 | AP230: =IF(P230="사용자항목14", L230, 0) -> 0 | AQ230: =IF(P230="사용자항목15", L230, 0) -> 0 | AR230: =IF(P230="사용자항목16", L230, 0) -> 0 | AS230: =IF(P230="사용자항목17", L230, 0) -> 0 | AT230: =IF(P230="사용자항목18", L230, 0) -> 0 | AU230: =IF(P230="사용자항목19", L230, 0) -> 0
A231: S W - 1 | B231: 5,450 × 2,550 (45×100×1.6T GALV,PVC랩핑,방염) | C231: 개소 | D231: 1 | F231: =ROUNDDOWN(D231*E231, 0) -> 0 | H231: =ROUNDDOWN(D231*G231, 0) -> 0 | J231: =ROUNDDOWN(D231*I231, 0) -> 0 | K231: =E231+G231+I231 -> 0 | L231: =F231+H231+J231 -> 0 | M231: 일위 29호 | O231: ="" | P231: 기계경비 | Q231: 1 | R231: =IF(P231="기계경비", J231, 0) -> 0 | S231: =IF(P231="운반비", L231, 0) -> 0 | T231: =IF(P231="작업부산물", F231, 0) -> 0 | U231: =IF(P231="관급", F231, 0) -> 0 | V231: =IF(P231="외주비", J231, 0) -> 0 | W231: =IF(P231="장비비", J231, 0) -> 0 | X231: =IF(P231="폐기물처리비", L231, 0) -> 0 | Y231: =IF(P231="가설비", J231, 0) -> 0 | Z231: =IF(P231="잡비제외분", F231, 0) -> 0 | AA231: =IF(P231="사급자재대", L231, 0) -> 0 | AB231: =IF(P231="관급자재대", L231, 0) -> 0 | AC231: =IF(P231="사용자항목1", L231, 0) -> 0 | AD231: =IF(P231="사용자항목2", L231, 0) -> 0 | AE231: =IF(P231="안전관리비", L231, 0) -> 0 | AF231: =IF(P231="품질관리비", L231, 0) -> 0 | AG231: =IF(P231="작업부산물(철거해체)", L231, 0) -> 0 | AH231: =IF(P231="사용자항목6", L231, 0) -> 0 | AI231: =IF(P231="사용자항목7", L231, 0) -> 0 | AJ231: =IF(P231="관급자재대(관급자)", L231, 0) -> 0 | AK231: =IF(P231="관급자재대(관급자)", L231, 0) -> 0 | AL231: =IF(P231="사용자항목10", L231, 0) -> 0 | AM231: =IF(P231="폐기물처리비(일반)", L231, 0) -> 0 | AN231: =IF(P231="폐기물처리비(지정)", L231, 0) -> 0 | AO231: =IF(P231="사용자항목13", L231, 0) -> 0 | AP231: =IF(P231="사용자항목14", L231, 0) -> 0 | AQ231: =IF(P231="사용자항목15", L231, 0) -> 0 | AR231: =IF(P231="사용자항목16", L231, 0) -> 0 | AS231: =IF(P231="사용자항목17", L231, 0) -> 0 | AT231: =IF(P231="사용자항목18", L231, 0) -> 0 | AU231: =IF(P231="사용자항목19", L231, 0) -> 0
A232: 단열 스테인리스 시스템세이프도어 | B232: 1,050×2,300mm, 헤어라인 | C232: EA | D232: 4 | F232: =ROUNDDOWN(D232*E232, 0) -> 0 | H232: =ROUNDDOWN(D232*G232, 0) -> 0 | J232: =ROUNDDOWN(D232*I232, 0) -> 0 | K232: =E232+G232+I232 -> 0 | L232: =F232+H232+J232 -> 0 | M232: 자재 20호 | O232: ="01" -> 01 | P232: 기계경비 | Q232: 1 | R232: =IF(P232="기계경비", J232, 0) -> 0 | S232: =IF(P232="운반비", L232, 0) -> 0 | T232: =IF(P232="작업부산물", F232, 0) -> 0 | U232: =IF(P232="관급", F232, 0) -> 0 | V232: =IF(P232="외주비", J232, 0) -> 0 | W232: =IF(P232="장비비", J232, 0) -> 0 | X232: =IF(P232="폐기물처리비", L232, 0) -> 0 | Y232: =IF(P232="가설비", J232, 0) -> 0 | Z232: =IF(P232="잡비제외분", F232, 0) -> 0 | AA232: =IF(P232="사급자재대", L232, 0) -> 0 | AB232: =IF(P232="관급자재대", L232, 0) -> 0 | AC232: =IF(P232="사용자항목1", L232, 0) -> 0 | AD232: =IF(P232="사용자항목2", L232, 0) -> 0 | AE232: =IF(P232="안전관리비", L232, 0) -> 0 | AF232: =IF(P232="품질관리비", L232, 0) -> 0 | AG232: =IF(P232="작업부산물(철거해체)", L232, 0) -> 0 | AH232: =IF(P232="사용자항목6", L232, 0) -> 0 | AI232: =IF(P232="사용자항목7", L232, 0) -> 0 | AJ232: =IF(P232="관급자재대(관급자)", L232, 0) -> 0 | AK232: =IF(P232="관급자재대(관급자)", L232, 0) -> 0 | AL232: =IF(P232="사용자항목10", L232, 0) -> 0 | AM232: =IF(P232="폐기물처리비(일반)", L232, 0) -> 0 | AN232: =IF(P232="폐기물처리비(지정)", L232, 0) -> 0 | AO232: =IF(P232="사용자항목13", L232, 0) -> 0 | AP232: =IF(P232="사용자항목14", L232, 0) -> 0 | AQ232: =IF(P232="사용자항목15", L232, 0) -> 0 | AR232: =IF(P232="사용자항목16", L232, 0) -> 0 | AS232: =IF(P232="사용자항목17", L232, 0) -> 0 | AT232: =IF(P232="사용자항목18", L232, 0) -> 0 | AU232: =IF(P232="사용자항목19", L232, 0) -> 0 | AY232: 유리별도
A233: 플로어힌지 설치 | B233: 강화유리문용 | C233: 개소 | D233: 7 | F233: =ROUNDDOWN(D233*E233, 0) -> 0 | H233: =ROUNDDOWN(D233*G233, 0) -> 0 | J233: =ROUNDDOWN(D233*I233, 0) -> 0 | K233: =E233+G233+I233 -> 0 | L233: =F233+H233+J233 -> 0 | M233: 일위 30호 | O233: ="" | P233: 기계경비 | Q233: 1 | R233: =IF(P233="기계경비", J233, 0) -> 0 | S233: =IF(P233="운반비", L233, 0) -> 0 | T233: =IF(P233="작업부산물", F233, 0) -> 0 | U233: =IF(P233="관급", F233, 0) -> 0 | V233: =IF(P233="외주비", J233, 0) -> 0 | W233: =IF(P233="장비비", J233, 0) -> 0 | X233: =IF(P233="폐기물처리비", L233, 0) -> 0 | Y233: =IF(P233="가설비", J233, 0) -> 0 | Z233: =IF(P233="잡비제외분", F233, 0) -> 0 | AA233: =IF(P233="사급자재대", L233, 0) -> 0 | AB233: =IF(P233="관급자재대", L233, 0) -> 0 | AC233: =IF(P233="사용자항목1", L233, 0) -> 0 | AD233: =IF(P233="사용자항목2", L233, 0) -> 0 | AE233: =IF(P233="안전관리비", L233, 0) -> 0 | AF233: =IF(P233="품질관리비", L233, 0) -> 0 | AG233: =IF(P233="작업부산물(철거해체)", L233, 0) -> 0 | AH233: =IF(P233="사용자항목6", L233, 0) -> 0 | AI233: =IF(P233="사용자항목7", L233, 0) -> 0 | AJ233: =IF(P233="관급자재대(관급자)", L233, 0) -> 0 | AK233: =IF(P233="관급자재대(관급자)", L233, 0) -> 0 | AL233: =IF(P233="사용자항목10", L233, 0) -> 0 | AM233: =IF(P233="폐기물처리비(일반)", L233, 0) -> 0 | AN233: =IF(P233="폐기물처리비(지정)", L233, 0) -> 0 | AO233: =IF(P233="사용자항목13", L233, 0) -> 0 | AP233: =IF(P233="사용자항목14", L233, 0) -> 0 | AQ233: =IF(P233="사용자항목15", L233, 0) -> 0 | AR233: =IF(P233="사용자항목16", L233, 0) -> 0 | AS233: =IF(P233="사용자항목17", L233, 0) -> 0 | AT233: =IF(P233="사용자항목18", L233, 0) -> 0 | AU233: =IF(P233="사용자항목19", L233, 0) -> 0 | AY233: 무성적산
A234: 도어힌지 | B234: 도어힌지, 황동경첩, 3.0T×102×115mm | C234: 개 | D234: 3 | F234: =ROUNDDOWN(D234*E234, 0) -> 0 | H234: =ROUNDDOWN(D234*G234, 0) -> 0 | J234: =ROUNDDOWN(D234*I234, 0) -> 0 | K234: =E234+G234+I234 -> 0 | L234: =F234+H234+J234 -> 0 | M234: 자재 23호 | O234: ="01" -> 01 | P234: 기계경비 | Q234: 1 | R234: =IF(P234="기계경비", J234, 0) -> 0 | S234: =IF(P234="운반비", L234, 0) -> 0 | T234: =IF(P234="작업부산물", F234, 0) -> 0 | U234: =IF(P234="관급", F234, 0) -> 0 | V234: =IF(P234="외주비", J234, 0) -> 0 | W234: =IF(P234="장비비", J234, 0) -> 0 | X234: =IF(P234="폐기물처리비", L234, 0) -> 0 | Y234: =IF(P234="가설비", J234, 0) -> 0 | Z234: =IF(P234="잡비제외분", F234, 0) -> 0 | AA234: =IF(P234="사급자재대", L234, 0) -> 0 | AB234: =IF(P234="관급자재대", L234, 0) -> 0 | AC234: =IF(P234="사용자항목1", L234, 0) -> 0 | AD234: =IF(P234="사용자항목2", L234, 0) -> 0 | AE234: =IF(P234="안전관리비", L234, 0) -> 0 | AF234: =IF(P234="품질관리비", L234, 0) -> 0 | AG234: =IF(P234="작업부산물(철거해체)", L234, 0) -> 0 | AH234: =IF(P234="사용자항목6", L234, 0) -> 0 | AI234: =IF(P234="사용자항목7", L234, 0) -> 0 | AJ234: =IF(P234="관급자재대(관급자)", L234, 0) -> 0 | AK234: =IF(P234="관급자재대(관급자)", L234, 0) -> 0 | AL234: =IF(P234="사용자항목10", L234, 0) -> 0 | AM234: =IF(P234="폐기물처리비(일반)", L234, 0) -> 0 | AN234: =IF(P234="폐기물처리비(지정)", L234, 0) -> 0 | AO234: =IF(P234="사용자항목13", L234, 0) -> 0 | AP234: =IF(P234="사용자항목14", L234, 0) -> 0 | AQ234: =IF(P234="사용자항목15", L234, 0) -> 0 | AR234: =IF(P234="사용자항목16", L234, 0) -> 0 | AS234: =IF(P234="사용자항목17", L234, 0) -> 0 | AT234: =IF(P234="사용자항목18", L234, 0) -> 0 | AU234: =IF(P234="사용자항목19", L234, 0) -> 0
A235: 자동경첩 | B235: 자동경첩, 순위조절기, K34, 양개도아 | C235: 개 | D235: 20 | F235: =ROUNDDOWN(D235*E235, 0) -> 0 | H235: =ROUNDDOWN(D235*G235, 0) -> 0 | J235: =ROUNDDOWN(D235*I235, 0) -> 0 | K235: =E235+G235+I235 -> 0 | L235: =F235+H235+J235 -> 0 | M235: 자재 77호 | O235: ="01" -> 01 | P235: 기계경비 | Q235: 1 | R235: =IF(P235="기계경비", J235, 0) -> 0 | S235: =IF(P235="운반비", L235, 0) -> 0 | T235: =IF(P235="작업부산물", F235, 0) -> 0 | U235: =IF(P235="관급", F235, 0) -> 0 | V235: =IF(P235="외주비", J235, 0) -> 0 | W235: =IF(P235="장비비", J235, 0) -> 0 | X235: =IF(P235="폐기물처리비", L235, 0) -> 0 | Y235: =IF(P235="가설비", J235, 0) -> 0 | Z235: =IF(P235="잡비제외분", F235, 0) -> 0 | AA235: =IF(P235="사급자재대", L235, 0) -> 0 | AB235: =IF(P235="관급자재대", L235, 0) -> 0 | AC235: =IF(P235="사용자항목1", L235, 0) -> 0 | AD235: =IF(P235="사용자항목2", L235, 0) -> 0 | AE235: =IF(P235="안전관리비", L235, 0) -> 0 | AF235: =IF(P235="품질관리비", L235, 0) -> 0 | AG235: =IF(P235="작업부산물(철거해체)", L235, 0) -> 0 | AH235: =IF(P235="사용자항목6", L235, 0) -> 0 | AI235: =IF(P235="사용자항목7", L235, 0) -> 0 | AJ235: =IF(P235="관급자재대(관급자)", L235, 0) -> 0 | AK235: =IF(P235="관급자재대(관급자)", L235, 0) -> 0 | AL235: =IF(P235="사용자항목10", L235, 0) -> 0 | AM235: =IF(P235="폐기물처리비(일반)", L235, 0) -> 0 | AN235: =IF(P235="폐기물처리비(지정)", L235, 0) -> 0 | AO235: =IF(P235="사용자항목13", L235, 0) -> 0 | AP235: =IF(P235="사용자항목14", L235, 0) -> 0 | AQ235: =IF(P235="사용자항목15", L235, 0) -> 0 | AR235: =IF(P235="사용자항목16", L235, 0) -> 0 | AS235: =IF(P235="사용자항목17", L235, 0) -> 0 | AT235: =IF(P235="사용자항목18", L235, 0) -> 0 | AU235: =IF(P235="사용자항목19", L235, 0) -> 0
A236: 도어부자재 | B236: 스텐손잡이(고급형) | C236: EA | D236: 4 | F236: =ROUNDDOWN(D236*E236, 0) -> 0 | H236: =ROUNDDOWN(D236*G236, 0) -> 0 | J236: =ROUNDDOWN(D236*I236, 0) -> 0 | K236: =E236+G236+I236 -> 0 | L236: =F236+H236+J236 -> 0 | M236: 자재 21호 | O236: ="01" -> 01 | P236: 기계경비 | Q236: 1 | R236: =IF(P236="기계경비", J236, 0) -> 0 | S236: =IF(P236="운반비", L236, 0) -> 0 | T236: =IF(P236="작업부산물", F236, 0) -> 0 | U236: =IF(P236="관급", F236, 0) -> 0 | V236: =IF(P236="외주비", J236, 0) -> 0 | W236: =IF(P236="장비비", J236, 0) -> 0 | X236: =IF(P236="폐기물처리비", L236, 0) -> 0 | Y236: =IF(P236="가설비", J236, 0) -> 0 | Z236: =IF(P236="잡비제외분", F236, 0) -> 0 | AA236: =IF(P236="사급자재대", L236, 0) -> 0 | AB236: =IF(P236="관급자재대", L236, 0) -> 0 | AC236: =IF(P236="사용자항목1", L236, 0) -> 0 | AD236: =IF(P236="사용자항목2", L236, 0) -> 0 | AE236: =IF(P236="안전관리비", L236, 0) -> 0 | AF236: =IF(P236="품질관리비", L236, 0) -> 0 | AG236: =IF(P236="작업부산물(철거해체)", L236, 0) -> 0 | AH236: =IF(P236="사용자항목6", L236, 0) -> 0 | AI236: =IF(P236="사용자항목7", L236, 0) -> 0 | AJ236: =IF(P236="관급자재대(관급자)", L236, 0) -> 0 | AK236: =IF(P236="관급자재대(관급자)", L236, 0) -> 0 | AL236: =IF(P236="사용자항목10", L236, 0) -> 0 | AM236: =IF(P236="폐기물처리비(일반)", L236, 0) -> 0 | AN236: =IF(P236="폐기물처리비(지정)", L236, 0) -> 0 | AO236: =IF(P236="사용자항목13", L236, 0) -> 0 | AP236: =IF(P236="사용자항목14", L236, 0) -> 0 | AQ236: =IF(P236="사용자항목15", L236, 0) -> 0 | AR236: =IF(P236="사용자항목16", L236, 0) -> 0 | AS236: =IF(P236="사용자항목17", L236, 0) -> 0 | AT236: =IF(P236="사용자항목18", L236, 0) -> 0 | AU236: =IF(P236="사용자항목19", L236, 0) -> 0
A237: 도아록 설치 | B237: 일반도어록 레바형(목재창호) | C237: 개소 | D237: 1 | F237: =ROUNDDOWN(D237*E237, 0) -> 0 | H237: =ROUNDDOWN(D237*G237, 0) -> 0 | J237: =ROUNDDOWN(D237*I237, 0) -> 0 | K237: =E237+G237+I237 -> 0 | L237: =F237+H237+J237 -> 0 | M237: 일위 31호 | O237: ="" | P237: 기계경비 | Q237: 1 | R237: =IF(P237="기계경비", J237, 0) -> 0 | S237: =IF(P237="운반비", L237, 0) -> 0 | T237: =IF(P237="작업부산물", F237, 0) -> 0 | U237: =IF(P237="관급", F237, 0) -> 0 | V237: =IF(P237="외주비", J237, 0) -> 0 | W237: =IF(P237="장비비", J237, 0) -> 0 | X237: =IF(P237="폐기물처리비", L237, 0) -> 0 | Y237: =IF(P237="가설비", J237, 0) -> 0 | Z237: =IF(P237="잡비제외분", F237, 0) -> 0 | AA237: =IF(P237="사급자재대", L237, 0) -> 0 | AB237: =IF(P237="관급자재대", L237, 0) -> 0 | AC237: =IF(P237="사용자항목1", L237, 0) -> 0 | AD237: =IF(P237="사용자항목2", L237, 0) -> 0 | AE237: =IF(P237="안전관리비", L237, 0) -> 0 | AF237: =IF(P237="품질관리비", L237, 0) -> 0 | AG237: =IF(P237="작업부산물(철거해체)", L237, 0) -> 0 | AH237: =IF(P237="사용자항목6", L237, 0) -> 0 | AI237: =IF(P237="사용자항목7", L237, 0) -> 0 | AJ237: =IF(P237="관급자재대(관급자)", L237, 0) -> 0 | AK237: =IF(P237="관급자재대(관급자)", L237, 0) -> 0 | AL237: =IF(P237="사용자항목10", L237, 0) -> 0 | AM237: =IF(P237="폐기물처리비(일반)", L237, 0) -> 0 | AN237: =IF(P237="폐기물처리비(지정)", L237, 0) -> 0 | AO237: =IF(P237="사용자항목13", L237, 0) -> 0 | AP237: =IF(P237="사용자항목14", L237, 0) -> 0 | AQ237: =IF(P237="사용자항목15", L237, 0) -> 0 | AR237: =IF(P237="사용자항목16", L237, 0) -> 0 | AS237: =IF(P237="사용자항목17", L237, 0) -> 0 | AT237: =IF(P237="사용자항목18", L237, 0) -> 0 | AU237: =IF(P237="사용자항목19", L237, 0) -> 0 | AY237: 무성적산
A238: 안전필름 | B238: 유리엣칭효과, 비산방지, 엠보싱 | C238: M2 | D238: 16 | F238: =ROUNDDOWN(D238*E238, 0) -> 0 | H238: =ROUNDDOWN(D238*G238, 0) -> 0 | J238: =ROUNDDOWN(D238*I238, 0) -> 0 | K238: =E238+G238+I238 -> 0 | L238: =F238+H238+J238 -> 0 | M238: 자재 67호 | O238: ="01" -> 01 | P238: 기계경비 | Q238: 1 | R238: =IF(P238="기계경비", J238, 0) -> 0 | S238: =IF(P238="운반비", L238, 0) -> 0 | T238: =IF(P238="작업부산물", F238, 0) -> 0 | U238: =IF(P238="관급", F238, 0) -> 0 | V238: =IF(P238="외주비", J238, 0) -> 0 | W238: =IF(P238="장비비", J238, 0) -> 0 | X238: =IF(P238="폐기물처리비", L238, 0) -> 0 | Y238: =IF(P238="가설비", J238, 0) -> 0 | Z238: =IF(P238="잡비제외분", F238, 0) -> 0 | AA238: =IF(P238="사급자재대", L238, 0) -> 0 | AB238: =IF(P238="관급자재대", L238, 0) -> 0 | AC238: =IF(P238="사용자항목1", L238, 0) -> 0 | AD238: =IF(P238="사용자항목2", L238, 0) -> 0 | AE238: =IF(P238="안전관리비", L238, 0) -> 0 | AF238: =IF(P238="품질관리비", L238, 0) -> 0 | AG238: =IF(P238="작업부산물(철거해체)", L238, 0) -> 0 | AH238: =IF(P238="사용자항목6", L238, 0) -> 0 | AI238: =IF(P238="사용자항목7", L238, 0) -> 0 | AJ238: =IF(P238="관급자재대(관급자)", L238, 0) -> 0 | AK238: =IF(P238="관급자재대(관급자)", L238, 0) -> 0 | AL238: =IF(P238="사용자항목10", L238, 0) -> 0 | AM238: =IF(P238="폐기물처리비(일반)", L238, 0) -> 0 | AN238: =IF(P238="폐기물처리비(지정)", L238, 0) -> 0 | AO238: =IF(P238="사용자항목13", L238, 0) -> 0 | AP238: =IF(P238="사용자항목14", L238, 0) -> 0 | AQ238: =IF(P238="사용자항목15", L238, 0) -> 0 | AR238: =IF(P238="사용자항목16", L238, 0) -> 0 | AS238: =IF(P238="사용자항목17", L238, 0) -> 0 | AT238: =IF(P238="사용자항목18", L238, 0) -> 0 | AU238: =IF(P238="사용자항목19", L238, 0) -> 0
A256: 합 계 | F256: =ROUNDDOWN(SUMIF(Q216:Q255, "1", F216:F255), 0) -> 0 | H256: =ROUNDDOWN(SUMIF(Q216:Q255, "1", H216:H255), 0) -> 0 | J256: =ROUNDDOWN(SUMIF(Q216:Q255, "1", J216:J255), 0) -> 0 | L256: =F256+H256+J256 -> 0 | R256: =ROUNDDOWN(SUM(R216:R238), 0) -> 0 | S256: =ROUNDDOWN(SUM(S216:S238), 0) -> 0 | T256: =ROUNDDOWN(SUM(T216:T238), 0) -> 0 | U256: =ROUNDDOWN(SUM(U216:U238), 0) -> 0 | V256: =ROUNDDOWN(SUM(V216:V238), 0) -> 0 | W256: =ROUNDDOWN(SUM(W216:W238), 0) -> 0 | X256: =ROUNDDOWN(SUM(X216:X238), 0) -> 0 | Y256: =ROUNDDOWN(SUM(Y216:Y238), 0) -> 0 | ... AY256: =ROUNDDOWN(SUM(AY216:AY238), 0) -> 0
A257: 0112. 유리공사
A258: 강화유리 | B258: 강화유리, 투명, 8mm | C258: ㎡ | D258: 12.7 | F258: =ROUNDDOWN(D258*E258, 0) -> 0 | H258: =ROUNDDOWN(D258*G258, 0) -> 0 | J258: =ROUNDDOWN(D258*I258, 0) -> 0 | K258: =E258+G258+I258 -> 0 | L258: =F258+H258+J258 -> 0 | M258: 자재 6호 | O258: ="01" -> 01 | P258: 기계경비 | Q258: 1 | R258: =IF(P258="기계경비", J258, 0) -> 0 | S258: =IF(P258="운반비", L258, 0) -> 0 | T258: =IF(P258="작업부산물", F258, 0) -> 0 | U258: =IF(P258="관급", F258, 0) -> 0 | V258: =IF(P258="외주비", J258, 0) -> 0 | W258: =IF(P258="장비비", J258, 0) -> 0 | X258: =IF(P258="폐기물처리비", L258, 0) -> 0 | Y258: =IF(P258="가설비", J258, 0) -> 0 | Z258: =IF(P258="잡비제외분", F258, 0) -> 0 | AA258: =IF(P258="사급자재대", L258, 0) -> 0 | AB258: =IF(P258="관급자재대", L258, 0) -> 0 | AC258: =IF(P258="사용자항목1", L258, 0) -> 0 | AD258: =IF(P258="사용자항목2", L258, 0) -> 0 | AE258: =IF(P258="안전관리비", L258, 0) -> 0 | AF258: =IF(P258="품질관리비", L258, 0) -> 0 | AG258: =IF(P258="작업부산물(철거해체)", L258, 0) -> 0 | AH258: =IF(P258="사용자항목6", L258, 0) -> 0 | AI258: =IF(P258="사용자항목7", L258, 0) -> 0 | AJ258: =IF(P258="관급자재대(관급자)", L258, 0) -> 0 | AK258: =IF(P258="관급자재대(관급자)", L258, 0) -> 0 | AL258: =IF(P258="사용자항목10", L258, 0) -> 0 | AM258: =IF(P258="폐기물처리비(일반)", L258, 0) -> 0 | AN258: =IF(P258="폐기물처리비(지정)", L258, 0) -> 0 | AO258: =IF(P258="사용자항목13", L258, 0) -> 0 | AP258: =IF(P258="사용자항목14", L258, 0) -> 0 | AQ258: =IF(P258="사용자항목15", L258, 0) -> 0 | AR258: =IF(P258="사용자항목16", L258, 0) -> 0 | AS258: =IF(P258="사용자항목17", L258, 0) -> 0 | AT258: =IF(P258="사용자항목18", L258, 0) -> 0 | AU258: =IF(P258="사용자항목19", L258, 0) -> 0
A259: 고단열더블로이복층유리 | B259: 24mm(MCT(HS)+AR+투명(HS)) (5+14+5) | C259: M2 | D259: 627.6 | F259: =ROUNDDOWN(D259*E259, 0) -> 0 | H259: =ROUNDDOWN(D259*G259, 0) -> 0 | J259: =ROUNDDOWN(D259*I259, 0) -> 0 | K259: =E259+G259+I259 -> 0 | L259: =F259+H259+J259 -> 0 | M259: 자재 13호 | O259: ="01" -> 01 | P259: 기계경비 | Q259: 1 | R259: =IF(P259="기계경비", J259, 0) -> 0 | S259: =IF(P259="운반비", L259, 0) -> 0 | T259: =IF(P259="작업부산물", F259, 0) -> 0 | U259: =IF(P259="관급", F259, 0) -> 0 | V259: =IF(P259="외주비", J259, 0) -> 0 | W259: =IF(P259="장비비", J259, 0) -> 0 | X259: =IF(P259="폐기물처리비", L259, 0) -> 0 | Y259: =IF(P259="가설비", J259, 0) -> 0 | Z259: =IF(P259="잡비제외분", F259, 0) -> 0 | AA259: =IF(P259="사급자재대", L259, 0) -> 0 | AB259: =IF(P259="관급자재대", L259, 0) -> 0 | AC259: =IF(P259="사용자항목1", L259, 0) -> 0 | AD259: =IF(P259="사용자항목2", L259, 0) -> 0 | AE259: =IF(P259="안전관리비", L259, 0) -> 0 | AF259: =IF(P259="품질관리비", L259, 0) -> 0 | AG259: =IF(P259="작업부산물(철거해체)", L259, 0) -> 0 | AH259: =IF(P259="사용자항목6", L259, 0) -> 0 | AI259: =IF(P259="사용자항목7", L259, 0) -> 0 | AJ259: =IF(P259="관급자재대(관급자)", L259, 0) -> 0 | AK259: =IF(P259="관급자재대(관급자)", L259, 0) -> 0 | AL259: =IF(P259="사용자항목10", L259, 0) -> 0 | AM259: =IF(P259="폐기물처리비(일반)", L259, 0) -> 0 | AN259: =IF(P259="폐기물처리비(지정)", L259, 0) -> 0 | AO259: =IF(P259="사용자항목13", L259, 0) -> 0 | AP259: =IF(P259="사용자항목14", L259, 0) -> 0 | AQ259: =IF(P259="사용자항목15", L259, 0) -> 0 | AR259: =IF(P259="사용자항목16", L259, 0) -> 0 | AS259: =IF(P259="사용자항목17", L259, 0) -> 0 | AT259: =IF(P259="사용자항목18", L259, 0) -> 0 | AU259: =IF(P259="사용자항목19", L259, 0) -> 0 | AY259: 무성적산
A260: 복층유리 | B260: 복층유리, 로이, 컬러일면반강화, 24mm | C260: ㎡ | D260: 8 | F260: =ROUNDDOWN(D260*E260, 0) -> 0 | H260: =ROUNDDOWN(D260*G260, 0) -> 0 | J260: =ROUNDDOWN(D260*I260, 0) -> 0 | K260: =E260+G260+I260 -> 0 | L260: =F260+H260+J260 -> 0 | M260: 자재 37호 | O260: ="01" -> 01 | P260: 기계경비 | Q260: 1 | R260: =IF(P260="기계경비", J260, 0) -> 0 | S260: =IF(P260="운반비", L260, 0) -> 0 | T260: =IF(P260="작업부산물", F260, 0) -> 0 | U260: =IF(P260="관급", F260, 0) -> 0 | V260: =IF(P260="외주비", J260, 0) -> 0 | W260: =IF(P260="장비비", J260, 0) -> 0 | X260: =IF(P260="폐기물처리비", L260, 0) -> 0 | Y260: =IF(P260="가설비", J260, 0) -> 0 | Z260: =IF(P260="잡비제외분", F260, 0) -> 0 | AA260: =IF(P260="사급자재대", L260, 0) -> 0 | AB260: =IF(P260="관급자재대", L260, 0) -> 0 | AC260: =IF(P260="사용자항목1", L260, 0) -> 0 | AD260: =IF(P260="사용자항목2", L260, 0) -> 0 | AE260: =IF(P260="안전관리비", L260, 0) -> 0 | AF260: =IF(P260="품질관리비", L260, 0) -> 0 | AG260: =IF(P260="작업부산물(철거해체)", L260, 0) -> 0 | AH260: =IF(P260="사용자항목6", L260, 0) -> 0 | AI260: =IF(P260="사용자항목7", L260, 0) -> 0 | AJ260: =IF(P260="관급자재대(관급자)", L260, 0) -> 0 | AK260: =IF(P260="관급자재대(관급자)", L260, 0) -> 0 | AL260: =IF(P260="사용자항목10", L260, 0) -> 0 | AM260: =IF(P260="폐기물처리비(일반)", L260, 0) -> 0 | AN260: =IF(P260="폐기물처리비(지정)", L260, 0) -> 0 | AO260: =IF(P260="사용자항목13", L260, 0) -> 0 | AP260: =IF(P260="사용자항목14", L260, 0) -> 0 | AQ260: =IF(P260="사용자항목15", L260, 0) -> 0 | AR260: =IF(P260="사용자항목16", L260, 0) -> 0 | AS260: =IF(P260="사용자항목17", L260, 0) -> 0 | AT260: =IF(P260="사용자항목18", L260, 0) -> 0 | AU260: =IF(P260="사용자항목19", L260, 0) -> 0
A261: 복층유리 | B261: 복층유리, 로이, 컬러일면반강화, 28mm | C261: ㎡ | D261: 8 | F261: =ROUNDDOWN(D261*E261, 0) -> 0 | H261: =ROUNDDOWN(D261*G261, 0) -> 0 | J261: =ROUNDDOWN(D261*I261, 0) -> 0 | K261: =E261+G261+I261 -> 0 | L261: =F261+H261+J261 -> 0 | M261: 자재 38호 | O261: ="01" -> 01 | P261: 기계경비 | Q261: 1 | R261: =IF(P261="기계경비", J261, 0) -> 0 | S261: =IF(P261="운반비", L261, 0) -> 0 | T261: =IF(P261="작업부산물", F261, 0) -> 0 | U261: =IF(P261="관급", F261, 0) -> 0 | V261: =IF(P261="외주비", J261, 0) -> 0 | W261: =IF(P261="장비비", J261, 0) -> 0 | X261: =IF(P261="폐기물처리비", L261, 0) -> 0 | Y261: =IF(P261="가설비", J261, 0) -> 0 | Z261: =IF(P261="잡비제외분", F261, 0) -> 0 | AA261: =IF(P261="사급자재대", L261, 0) -> 0 | AB261: =IF(P261="관급자재대", L261, 0) -> 0 | AC261: =IF(P261="사용자항목1", L261, 0) -> 0 | AD261: =IF(P261="사용자항목2", L261, 0) -> 0 | AE261: =IF(P261="안전관리비", L261, 0) -> 0 | AF261: =IF(P261="품질관리비", L261, 0) -> 0 | AG261: =IF(P261="작업부산물(철거해체)", L261, 0) -> 0 | AH261: =IF(P261="사용자항목6", L261, 0) -> 0 | AI261: =IF(P261="사용자항목7", L261, 0) -> 0 | AJ261: =IF(P261="관급자재대(관급자)", L261, 0) -> 0 | AK261: =IF(P261="관급자재대(관급자)", L261, 0) -> 0 | AL261: =IF(P261="사용자항목10", L261, 0) -> 0 | AM261: =IF(P261="폐기물처리비(일반)", L261, 0) -> 0 | AN261: =IF(P261="폐기물처리비(지정)", L261, 0) -> 0 | AO261: =IF(P261="사용자항목13", L261, 0) -> 0 | AP261: =IF(P261="사용자항목14", L261, 0) -> 0 | AQ261: =IF(P261="사용자항목15", L261, 0) -> 0 | AR261: =IF(P261="사용자항목16", L261, 0) -> 0 | AS261: =IF(P261="사용자항목17", L261, 0) -> 0 | AT261: =IF(P261="사용자항목18", L261, 0) -> 0 | AU261: =IF(P261="사용자항목19", L261, 0) -> 0
A262: 창호유리설치 / 판유리 | B262: 유리두께 9mm 이하 | C262: M2 | D262: 12.7 | F262: =ROUNDDOWN(D262*E262, 0) -> 0 | H262: =ROUNDDOWN(D262*G262, 0) -> 0 | J262: =ROUNDDOWN(D262*I262, 0) -> 0 | K262: =E262+G262+I262 -> 0 | L262: =F262+H262+J262 -> 0 | M262: 일위 32호 | O262: ="" | P262: 기계경비 | Q262: 1 | R262: =IF(P262="기계경비", J262, 0) -> 0 | S262: =IF(P262="운반비", L262, 0) -> 0 | T262: =IF(P262="작업부산물", F262, 0) -> 0 | U262: =IF(P262="관급", F262, 0) -> 0 | V262: =IF(P262="외주비", J262, 0) -> 0 | W262: =IF(P262="장비비", J262, 0) -> 0 | X262: =IF(P262="폐기물처리비", L262, 0) -> 0 | Y262: =IF(P262="가설비", J262, 0) -> 0 | Z262: =IF(P262="잡비제외분", F262, 0) -> 0 | AA262: =IF(P262="사급자재대", L262, 0) -> 0 | AB262: =IF(P262="관급자재대", L262, 0) -> 0 | AC262: =IF(P262="사용자항목1", L262, 0) -> 0 | AD262: =IF(P262="사용자항목2", L262, 0) -> 0 | AE262: =IF(P262="안전관리비", L262, 0) -> 0 | AF262: =IF(P262="품질관리비", L262, 0) -> 0 | AG262: =IF(P262="작업부산물(철거해체)", L262, 0) -> 0 | AH262: =IF(P262="사용자항목6", L262, 0) -> 0 | AI262: =IF(P262="사용자항목7", L262, 0) -> 0 | AJ262: =IF(P262="관급자재대(관급자)", L262, 0) -> 0 | AK262: =IF(P262="관급자재대(관급자)", L262, 0) -> 0 | AL262: =IF(P262="사용자항목10", L262, 0) -> 0 | AM262: =IF(P262="폐기물처리비(일반)", L262, 0) -> 0 | AN262: =IF(P262="폐기물처리비(지정)", L262, 0) -> 0 | AO262: =IF(P262="사용자항목13", L262, 0) -> 0 | AP262: =IF(P262="사용자항목14", L262, 0) -> 0 | AQ262: =IF(P262="사용자항목15", L262, 0) -> 0 | AR262: =IF(P262="사용자항목16", L262, 0) -> 0 | AS262: =IF(P262="사용자항목17", L262, 0) -> 0 | AT262: =IF(P262="사용자항목18", L262, 0) -> 0 | AU262: =IF(P262="사용자항목19", L262, 0) -> 0 | AY262: ALG00000030S
A263: 창호유리설치 / 복층유리 | B263: 유리두께 24mm 이하 | C263: M2 | D263: 635.6 | F263: =ROUNDDOWN(D263*E263, 0) -> 0 | H263: =ROUNDDOWN(D263*G263, 0) -> 0 | J263: =ROUNDDOWN(D263*I263, 0) -> 0 | K263: =E263+G263+I263 -> 0 | L263: =F263+H263+J263 -> 0 | M263: 일위 33호 | O263: ="" | P263: 기계경비 | Q263: 1 | R263: =IF(P263="기계경비", J263, 0) -> 0 | S263: =IF(P263="운반비", L263, 0) -> 0 | T263: =IF(P263="작업부산물", F263, 0) -> 0 | U263: =IF(P263="관급", F263, 0) -> 0 | V263: =IF(P263="외주비", J263, 0) -> 0 | W263: =IF(P263="장비비", J263, 0) -> 0 | X263: =IF(P263="폐기물처리비", L263, 0) -> 0 | Y263: =IF(P263="가설비", J263, 0) -> 0 | Z263: =IF(P263="잡비제외분", F263, 0) -> 0 | AA263: =IF(P263="사급자재대", L263, 0) -> 0 | AB263: =IF(P263="관급자재대", L263, 0) -> 0 | AC263: =IF(P263="사용자항목1", L263, 0) -> 0 | AD263: =IF(P263="사용자항목2", L263, 0) -> 0 | AE263: =IF(P263="안전관리비", L263, 0) -> 0 | AF263: =IF(P263="품질관리비", L263, 0) -> 0 | AG263: =IF(P263="작업부산물(철거해체)", L263, 0) -> 0 | AH263: =IF(P263="사용자항목6", L263, 0) -> 0 | AI263: =IF(P263="사용자항목7", L263, 0) -> 0 | AJ263: =IF(P263="관급자재대(관급자)", L263, 0) -> 0 | AK263: =IF(P263="관급자재대(관급자)", L263, 0) -> 0 | AL263: =IF(P263="사용자항목10", L263, 0) -> 0 | AM263: =IF(P263="폐기물처리비(일반)", L263, 0) -> 0 | AN263: =IF(P263="폐기물처리비(지정)", L263, 0) -> 0 | AO263: =IF(P263="사용자항목13", L263, 0) -> 0 | AP263: =IF(P263="사용자항목14", L263, 0) -> 0 | AQ263: =IF(P263="사용자항목15", L263, 0) -> 0 | AR263: =IF(P263="사용자항목16", L263, 0) -> 0 | AS263: =IF(P263="사용자항목17", L263, 0) -> 0 | AT263: =IF(P263="사용자항목18", L263, 0) -> 0 | AU263: =IF(P263="사용자항목19", L263, 0) -> 0 | AY263: ALH00500010S
A264: 창호유리설치 / 복층유리 | B264: 유리두께 28mm 이하 | C264: M2 | D264: 8 | F264: =ROUNDDOWN(D264*E264, 0) -> 0 | H264: =ROUNDDOWN(D264*G264, 0) -> 0 | J264: =ROUNDDOWN(D264*I264, 0) -> 0 | K264: =E264+G264+I264 -> 0 | L264: =F264+H264+J264 -> 0 | M264: 일위 34호 | O264: ="" | P264: 기계경비 | Q264: 1 | R264: =IF(P264="기계경비", J264, 0) -> 0 | S264: =IF(P264="운반비", L264, 0) -> 0 | T264: =IF(P264="작업부산물", F264, 0) -> 0 | U264: =IF(P264="관급", F264, 0) -> 0 | V264: =IF(P264="외주비", J264, 0) -> 0 | W264: =IF(P264="장비비", J264, 0) -> 0 | X264: =IF(P264="폐기물처리비", L264, 0) -> 0 | Y264: =IF(P264="가설비", J264, 0) -> 0 | Z264: =IF(P264="잡비제외분", F264, 0) -> 0 | AA264: =IF(P264="사급자재대", L264, 0) -> 0 | AB264: =IF(P264="관급자재대", L264, 0) -> 0 | AC264: =IF(P264="사용자항목1", L264, 0) -> 0 | AD264: =IF(P264="사용자항목2", L264, 0) -> 0 | AE264: =IF(P264="안전관리비", L264, 0) -> 0 | AF264: =IF(P264="품질관리비", L264, 0) -> 0 | AG264: =IF(P264="작업부산물(철거해체)", L264, 0) -> 0 | AH264: =IF(P264="사용자항목6", L264, 0) -> 0 | AI264: =IF(P264="사용자항목7", L264, 0) -> 0 | AJ264: =IF(P264="관급자재대(관급자)", L264, 0) -> 0 | AK264: =IF(P264="관급자재대(관급자)", L264, 0) -> 0 | AL264: =IF(P264="사용자항목10", L264, 0) -> 0 | AM264: =IF(P264="폐기물처리비(일반)", L264, 0) -> 0 | AN264: =IF(P264="폐기물처리비(지정)", L264, 0) -> 0 | AO264: =IF(P264="사용자항목13", L264, 0) -> 0 | AP264: =IF(P264="사용자항목14", L264, 0) -> 0 | AQ264: =IF(P264="사용자항목15", L264, 0) -> 0 | AR264: =IF(P264="사용자항목16", L264, 0) -> 0 | AS264: =IF(P264="사용자항목17", L264, 0) -> 0 | AT264: =IF(P264="사용자항목18", L264, 0) -> 0 | AU264: =IF(P264="사용자항목19", L264, 0) -> 0 | AY264: ALH00600010S
A265: 유리주위 코킹 | B265: 5×5, 실리콘(양면) | C265: M | D265: 36.4 | F265: =ROUNDDOWN(D265*E265, 0) -> 0 | H265: =ROUNDDOWN(D265*G265, 0) -> 0 | J265: =ROUNDDOWN(D265*I265, 0) -> 0 | K265: =E265+G265+I265 -> 0 | L265: =F265+H265+J265 -> 0 | M265: 일위 35호 | O265: ="" | P265: 기계경비 | Q265: 1 | R265: =IF(P265="기계경비", J265, 0) -> 0 | S265: =IF(P265="운반비", L265, 0) -> 0 | T265: =IF(P265="작업부산물", F265, 0) -> 0 | U265: =IF(P265="관급", F265, 0) -> 0 | V265: =IF(P265="외주비", J265, 0) -> 0 | W265: =IF(P265="장비비", J265, 0) -> 0 | X265: =IF(P265="폐기물처리비", L265, 0) -> 0 | Y265: =IF(P265="가설비", J265, 0) -> 0 | Z265: =IF(P265="잡비제외분", F265, 0) -> 0 | AA265: =IF(P265="사급자재대", L265, 0) -> 0 | AB265: =IF(P265="관급자재대", L265, 0) -> 0 | AC265: =IF(P265="사용자항목1", L265, 0) -> 0 | AD265: =IF(P265="사용자항목2", L265, 0) -> 0 | AE265: =IF(P265="안전관리비", L265, 0) -> 0 | AF265: =IF(P265="품질관리비", L265, 0) -> 0 | AG265: =IF(P265="작업부산물(철거해체)", L265, 0) -> 0 | AH265: =IF(P265="사용자항목6", L265, 0) -> 0 | AI265: =IF(P265="사용자항목7", L265, 0) -> 0 | AJ265: =IF(P265="관급자재대(관급자)", L265, 0) -> 0 | AK265: =IF(P265="관급자재대(관급자)", L265, 0) -> 0 | AL265: =IF(P265="사용자항목10", L265, 0) -> 0 | AM265: =IF(P265="폐기물처리비(일반)", L265, 0) -> 0 | AN265: =IF(P265="폐기물처리비(지정)", L265, 0) -> 0 | AO265: =IF(P265="사용자항목13", L265, 0) -> 0 | AP265: =IF(P265="사용자항목14", L265, 0) -> 0 | AQ265: =IF(P265="사용자항목15", L265, 0) -> 0 | AR265: =IF(P265="사용자항목16", L265, 0) -> 0 | AS265: =IF(P265="사용자항목17", L265, 0) -> 0 | AT265: =IF(P265="사용자항목18", L265, 0) -> 0 | AU265: =IF(P265="사용자항목19", L265, 0) -> 0 | AY265: 무성적산
A266: 유리주위 코킹 | B266: 복층유리 5×5,실리콘(양면) | C266: M | D266: 3828 | F266: =ROUNDDOWN(D266*E266, 0) -> 0 | H266: =ROUNDDOWN(D266*G266, 0) -> 0 | J266: =ROUNDDOWN(D266*I266, 0) -> 0 | K266: =E266+G266+I266 -> 0 | L266: =F266+H266+J266 -> 0 | M266: 일위 36호 | O266: ="" | P266: 기계경비 | Q266: 1 | R266: =IF(P266="기계경비", J266, 0) -> 0 | S266: =IF(P266="운반비", L266, 0) -> 0 | T266: =IF(P266="작업부산물", F266, 0) -> 0 | U266: =IF(P266="관급", F266, 0) -> 0 | V266: =IF(P266="외주비", J266, 0) -> 0 | W266: =IF(P266="장비비", J266, 0) -> 0 | X266: =IF(P266="폐기물처리비", L266, 0) -> 0 | Y266: =IF(P266="가설비", J266, 0) -> 0 | Z266: =IF(P266="잡비제외분", F266, 0) -> 0 | AA266: =IF(P266="사급자재대", L266, 0) -> 0 | AB266: =IF(P266="관급자재대", L266, 0) -> 0 | AC266: =IF(P266="사용자항목1", L266, 0) -> 0 | AD266: =IF(P266="사용자항목2", L266, 0) -> 0 | AE266: =IF(P266="안전관리비", L266, 0) -> 0 | AF266: =IF(P266="품질관리비", L266, 0) -> 0 | AG266: =IF(P266="작업부산물(철거해체)", L266, 0) -> 0 | AH266: =IF(P266="사용자항목6", L266, 0) -> 0 | AI266: =IF(P266="사용자항목7", L266, 0) -> 0 | AJ266: =IF(P266="관급자재대(관급자)", L266, 0) -> 0 | AK266: =IF(P266="관급자재대(관급자)", L266, 0) -> 0 | AL266: =IF(P266="사용자항목10", L266, 0) -> 0 | AM266: =IF(P266="폐기물처리비(일반)", L266, 0) -> 0 | AN266: =IF(P266="폐기물처리비(지정)", L266, 0) -> 0 | AO266: =IF(P266="사용자항목13", L266, 0) -> 0 | AP266: =IF(P266="사용자항목14", L266, 0) -> 0 | AQ266: =IF(P266="사용자항목15", L266, 0) -> 0 | AR266: =IF(P266="사용자항목16", L266, 0) -> 0 | AS266: =IF(P266="사용자항목17", L266, 0) -> 0 | AT266: =IF(P266="사용자항목18", L266, 0) -> 0 | AU266: =IF(P266="사용자항목19", L266, 0) -> 0 | AY266: 무성적산
A277: 합 계 | F277: =ROUNDDOWN(SUMIF(Q258:Q276, "1", F258:F276), 0) -> 0 | H277: =ROUNDDOWN(SUMIF(Q258:Q276, "1", H258:H276), 0) -> 0 | J277: =ROUNDDOWN(SUMIF(Q258:Q276, "1", J258:J276), 0) -> 0 | L277: =F277+H277+J277 -> 0 | R277: =ROUNDDOWN(SUM(R258:R266), 0) -> 0 | S277: =ROUNDDOWN(SUM(S258:S266), 0) -> 0 | T277: =ROUNDDOWN(SUM(T258:T266), 0) -> 0 | U277: =ROUNDDOWN(SUM(U258:U266), 0) -> 0 | V277: =ROUNDDOWN(SUM(V258:V266), 0) -> 0 | W277: =ROUNDDOWN(SUM(W258:W266), 0) -> 0 | X277: =ROUNDDOWN(SUM(X258:X266), 0) -> 0 | Y277: =ROUNDDOWN(SUM(Y258:Y266), 0) -> 0 | ... AY277: =ROUNDDOWN(SUM(AY258:AY266), 0) -> 0
A278: 0113. 도장공사
A279: 걸레받이용 페인트칠 | B279: 세라민페인트, 붓칠 2회, H:100, CON'C면 | C279: M | D279: 146.6 | F279: =ROUNDDOWN(D279*E279, 0) -> 0 | H279: =ROUNDDOWN(D279*G279, 0) -> 0 | J279: =ROUNDDOWN(D279*I279, 0) -> 0 | K279: =E279+G279+I279 -> 0 | L279: =F279+H279+J279 -> 0 | M279: 일위 37호 | O279: ="" | P279: 기계경비 | Q279: 1 | R279: =IF(P279="기계경비", J279, 0) -> 0 | S279: =IF(P279="운반비", L279, 0) -> 0 | T279: =IF(P279="작업부산물", F279, 0) -> 0 | U279: =IF(P279="관급", F279, 0) -> 0 | V279: =IF(P279="외주비", J279, 0) -> 0 | W279: =IF(P279="장비비", J279, 0) -> 0 | X279: =IF(P279="폐기물처리비", L279, 0) -> 0 | Y279: =IF(P279="가설비", J279, 0) -> 0 | Z279: =IF(P279="잡비제외분", F279, 0) -> 0 | AA279: =IF(P279="사급자재대", L279, 0) -> 0 | AB279: =IF(P279="관급자재대", L279, 0) -> 0 | AC279: =IF(P279="사용자항목1", L279, 0) -> 0 | AD279: =IF(P279="사용자항목2", L279, 0) -> 0 | AE279: =IF(P279="안전관리비", L279, 0) -> 0 | AF279: =IF(P279="품질관리비", L279, 0) -> 0 | AG279: =IF(P279="작업부산물(철거해체)", L279, 0) -> 0 | AH279: =IF(P279="사용자항목6", L279, 0) -> 0 | AI279: =IF(P279="사용자항목7", L279, 0) -> 0 | AJ279: =IF(P279="관급자재대(관급자)", L279, 0) -> 0 | AK279: =IF(P279="관급자재대(관급자)", L279, 0) -> 0 | AL279: =IF(P279="사용자항목10", L279, 0) -> 0 | AM279: =IF(P279="폐기물처리비(일반)", L279, 0) -> 0 | AN279: =IF(P279="폐기물처리비(지정)", L279, 0) -> 0 | AO279: =IF(P279="사용자항목13", L279, 0) -> 0 | AP279: =IF(P279="사용자항목14", L279, 0) -> 0 | AQ279: =IF(P279="사용자항목15", L279, 0) -> 0 | AR279: =IF(P279="사용자항목16", L279, 0) -> 0 | AS279: =IF(P279="사용자항목17", L279, 0) -> 0 | AT279: =IF(P279="사용자항목18", L279, 0) -> 0 | AU279: =IF(P279="사용자항목19", L279, 0) -> 0
A280: 걸레받이용 페인트칠 | B280: 세라민페인트, 붓칠 2회, H:100, GB면 줄퍼티 | C280: M | D280: 13.9 | F280: =ROUNDDOWN(D280*E280, 0) -> 0 | H280: =ROUNDDOWN(D280*G280, 0) -> 0 | J280: =ROUNDDOWN(D280*I280, 0) -> 0 | K280: =E280+G280+I280 -> 0 | L280: =F280+H280+J280 -> 0 | M280: 일위 38호 | O280: ="" | P280: 기계경비 | Q280: 1 | R280: =IF(P280="기계경비", J280, 0) -> 0 | S280: =IF(P280="운반비", L280, 0) -> 0 | T280: =IF(P280="작업부산물", F280, 0) -> 0 | U280: =IF(P280="관급", F280, 0) -> 0 | V280: =IF(P280="외주비", J280, 0) -> 0 | W280: =IF(P280="장비비", J280, 0) -> 0 | X280: =IF(P280="폐기물처리비", L280, 0) -> 0 | Y280: =IF(P280="가설비", J280, 0) -> 0 | Z280: =IF(P280="잡비제외분", F280, 0) -> 0 | AA280: =IF(P280="사급자재대", L280, 0) -> 0 | AB280: =IF(P280="관급자재대", L280, 0) -> 0 | AC280: =IF(P280="사용자항목1", L280, 0) -> 0 | AD280: =IF(P280="사용자항목2", L280, 0) -> 0 | AE280: =IF(P280="안전관리비", L280, 0) -> 0 | AF280: =IF(P280="품질관리비", L280, 0) -> 0 | AG280: =IF(P280="작업부산물(철거해체)", L280, 0) -> 0 | AH280: =IF(P280="사용자항목6", L280, 0) -> 0 | AI280: =IF(P280="사용자항목7", L280, 0) -> 0 | AJ280: =IF(P280="관급자재대(관급자)", L280, 0) -> 0 | AK280: =IF(P280="관급자재대(관급자)", L280, 0) -> 0 | AL280: =IF(P280="사용자항목10", L280, 0) -> 0 | AM280: =IF(P280="폐기물처리비(일반)", L280, 0) -> 0 | AN280: =IF(P280="폐기물처리비(지정)", L280, 0) -> 0 | AO280: =IF(P280="사용자항목13", L280, 0) -> 0 | AP280: =IF(P280="사용자항목14", L280, 0) -> 0 | AQ280: =IF(P280="사용자항목15", L280, 0) -> 0 | AR280: =IF(P280="사용자항목16", L280, 0) -> 0 | AS280: =IF(P280="사용자항목17", L280, 0) -> 0 | AT280: =IF(P280="사용자항목18", L280, 0) -> 0 | AU280: =IF(P280="사용자항목19", L280, 0) -> 0
A281: 친환경수성페인트 롤러칠 | B281: 내벽 2회, 친환경, CON'C면 | C281: M2 | D281: 0.6 | F281: =ROUNDDOWN(D281*E281, 0) -> 0 | H281: =ROUNDDOWN(D281*G281, 0) -> 0 | J281: =ROUNDDOWN(D281*I281, 0) -> 0 | K281: =E281+G281+I281 -> 0 | L281: =F281+H281+J281 -> 0 | M281: 일위 39호 | O281: ="" | P281: 기계경비 | Q281: 1 | R281: =IF(P281="기계경비", J281, 0) -> 0 | S281: =IF(P281="운반비", L281, 0) -> 0 | T281: =IF(P281="작업부산물", F281, 0) -> 0 | U281: =IF(P281="관급", F281, 0) -> 0 | V281: =IF(P281="외주비", J281, 0) -> 0 | W281: =IF(P281="장비비", J281, 0) -> 0 | X281: =IF(P281="폐기물처리비", L281, 0) -> 0 | Y281: =IF(P281="가설비", J281, 0) -> 0 | Z281: =IF(P281="잡비제외분", F281, 0) -> 0 | AA281: =IF(P281="사급자재대", L281, 0) -> 0 | AB281: =IF(P281="관급자재대", L281, 0) -> 0 | AC281: =IF(P281="사용자항목1", L281, 0) -> 0 | AD281: =IF(P281="사용자항목2", L281, 0) -> 0 | AE281: =IF(P281="안전관리비", L281, 0) -> 0 | AF281: =IF(P281="품질관리비", L281, 0) -> 0 | AG281: =IF(P281="작업부산물(철거해체)", L281, 0) -> 0 | AH281: =IF(P281="사용자항목6", L281, 0) -> 0 | AI281: =IF(P281="사용자항목7", L281, 0) -> 0 | AJ281: =IF(P281="관급자재대(관급자)", L281, 0) -> 0 | AK281: =IF(P281="관급자재대(관급자)", L281, 0) -> 0 | AL281: =IF(P281="사용자항목10", L281, 0) -> 0 | AM281: =IF(P281="폐기물처리비(일반)", L281, 0) -> 0 | AN281: =IF(P281="폐기물처리비(지정)", L281, 0) -> 0 | AO281: =IF(P281="사용자항목13", L281, 0) -> 0 | AP281: =IF(P281="사용자항목14", L281, 0) -> 0 | AQ281: =IF(P281="사용자항목15", L281, 0) -> 0 | AR281: =IF(P281="사용자항목16", L281, 0) -> 0 | AS281: =IF(P281="사용자항목17", L281, 0) -> 0 | AT281: =IF(P281="사용자항목18", L281, 0) -> 0 | AU281: =IF(P281="사용자항목19", L281, 0) -> 0
A282: 친환경수성페인트 롤러칠 | B282: 내벽 2회, 친환경, GB면 줄퍼티 | C282: M2 | D282: 36.1 | F282: =ROUNDDOWN(D282*E282, 0) -> 0 | H282: =ROUNDDOWN(D282*G282, 0) -> 0 | J282: =ROUNDDOWN(D282*I282, 0) -> 0 | K282: =E282+G282+I282 -> 0 | L282: =F282+H282+J282 -> 0 | M282: 일위 40호 | O282: ="" | P282: 기계경비 | Q282: 1 | R282: =IF(P282="기계경비", J282, 0) -> 0 | S282: =IF(P282="운반비", L282, 0) -> 0 | T282: =IF(P282="작업부산물", F282, 0) -> 0 | U282: =IF(P282="관급", F282, 0) -> 0 | V282: =IF(P282="외주비", J282, 0) -> 0 | W282: =IF(P282="장비비", J282, 0) -> 0 | X282: =IF(P282="폐기물처리비", L282, 0) -> 0 | Y282: =IF(P282="가설비", J282, 0) -> 0 | Z282: =IF(P282="잡비제외분", F282, 0) -> 0 | AA282: =IF(P282="사급자재대", L282, 0) -> 0 | AB282: =IF(P282="관급자재대", L282, 0) -> 0 | AC282: =IF(P282="사용자항목1", L282, 0) -> 0 | AD282: =IF(P282="사용자항목2", L282, 0) -> 0 | AE282: =IF(P282="안전관리비", L282, 0) -> 0 | AF282: =IF(P282="품질관리비", L282, 0) -> 0 | AG282: =IF(P282="작업부산물(철거해체)", L282, 0) -> 0 | AH282: =IF(P282="사용자항목6", L282, 0) -> 0 | AI282: =IF(P282="사용자항목7", L282, 0) -> 0 | AJ282: =IF(P282="관급자재대(관급자)", L282, 0) -> 0 | AK282: =IF(P282="관급자재대(관급자)", L282, 0) -> 0 | AL282: =IF(P282="사용자항목10", L282, 0) -> 0 | AM282: =IF(P282="폐기물처리비(일반)", L282, 0) -> 0 | AN282: =IF(P282="폐기물처리비(지정)", L282, 0) -> 0 | AO282: =IF(P282="사용자항목13", L282, 0) -> 0 | AP282: =IF(P282="사용자항목14", L282, 0) -> 0 | AQ282: =IF(P282="사용자항목15", L282, 0) -> 0 | AR282: =IF(P282="사용자항목16", L282, 0) -> 0 | AS282: =IF(P282="사용자항목17", L282, 0) -> 0 | AT282: =IF(P282="사용자항목18", L282, 0) -> 0 | AU282: =IF(P282="사용자항목19", L282, 0) -> 0
A283: 재도장 친환경수성페인트 롤러칠 | B283: 콘크리트·모르타르면, 내벽 2회 + 바탕처리 | C283: M2 | D283: 324.4 | F283: =ROUNDDOWN(D283*E283, 0) -> 0 | H283: =ROUNDDOWN(D283*G283, 0) -> 0 | J283: =ROUNDDOWN(D283*I283, 0) -> 0 | K283: =E283+G283+I283 -> 0 | L283: =F283+H283+J283 -> 0 | M283: 일위 41호 | O283: ="" | P283: 기계경비 | Q283: 1 | R283: =IF(P283="기계경비", J283, 0) -> 0 | S283: =IF(P283="운반비", L283, 0) -> 0 | T283: =IF(P283="작업부산물", F283, 0) -> 0 | U283: =IF(P283="관급", F283, 0) -> 0 | V283: =IF(P283="외주비", J283, 0) -> 0 | W283: =IF(P283="장비비", J283, 0) -> 0 | X283: =IF(P283="폐기물처리비", L283, 0) -> 0 | Y283: =IF(P283="가설비", J283, 0) -> 0 | Z283: =IF(P283="잡비제외분", F283, 0) -> 0 | AA283: =IF(P283="사급자재대", L283, 0) -> 0 | AB283: =IF(P283="관급자재대", L283, 0) -> 0 | AC283: =IF(P283="사용자항목1", L283, 0) -> 0 | AD283: =IF(P283="사용자항목2", L283, 0) -> 0 | AE283: =IF(P283="안전관리비", L283, 0) -> 0 | AF283: =IF(P283="품질관리비", L283, 0) -> 0 | AG283: =IF(P283="작업부산물(철거해체)", L283, 0) -> 0 | AH283: =IF(P283="사용자항목6", L283, 0) -> 0 | AI283: =IF(P283="사용자항목7", L283, 0) -> 0 | AJ283: =IF(P283="관급자재대(관급자)", L283, 0) -> 0 | AK283: =IF(P283="관급자재대(관급자)", L283, 0) -> 0 | AL283: =IF(P283="사용자항목10", L283, 0) -> 0 | AM283: =IF(P283="폐기물처리비(일반)", L283, 0) -> 0 | AN283: =IF(P283="폐기물처리비(지정)", L283, 0) -> 0 | AO283: =IF(P283="사용자항목13", L283, 0) -> 0 | AP283: =IF(P283="사용자항목14", L283, 0) -> 0 | AQ283: =IF(P283="사용자항목15", L283, 0) -> 0 | AR283: =IF(P283="사용자항목16", L283, 0) -> 0 | AS283: =IF(P283="사용자항목17", L283, 0) -> 0 | AT283: =IF(P283="사용자항목18", L283, 0) -> 0 | AU283: =IF(P283="사용자항목19", L283, 0) -> 0
A284: 아크릴수성페인트칠 | B284: 큐피트 크린솔(무광) 2회,바탕처리 포함 | C284: M2 | D284: 935.9 | F284: =ROUNDDOWN(D284*E284, 0) -> 0 | H284: =ROUNDDOWN(D284*G284, 0) -> 0 | J284: =ROUNDDOWN(D284*I284, 0) -> 0 | K284: =E284+G284+I284 -> 0 | L284: =F284+H284+J284 -> 0 | M284: 일위 42호 | O284: ="01" -> 01 | P284: 기계경비 | Q284: 1 | R284: =IF(P284="기계경비", J284, 0) -> 0 | S284: =IF(P284="운반비", L284, 0) -> 0 | T284: =IF(P284="작업부산물", F284, 0) -> 0 | U284: =IF(P284="관급", F284, 0) -> 0 | V284: =IF(P284="외주비", J284, 0) -> 0 | W284: =IF(P284="장비비", J284, 0) -> 0 | X284: =IF(P284="폐기물처리비", L284, 0) -> 0 | Y284: =IF(P284="가설비", J284, 0) -> 0 | Z284: =IF(P284="잡비제외분", F284, 0) -> 0 | AA284: =IF(P284="사급자재대", L284, 0) -> 0 | AB284: =IF(P284="관급자재대", L284, 0) -> 0 | AC284: =IF(P284="사용자항목1", L284, 0) -> 0 | AD284: =IF(P284="사용자항목2", L284, 0) -> 0 | AE284: =IF(P284="안전관리비", L284, 0) -> 0 | AF284: =IF(P284="품질관리비", L284, 0) -> 0 | AG284: =IF(P284="작업부산물(철거해체)", L284, 0) -> 0 | AH284: =IF(P284="사용자항목6", L284, 0) -> 0 | AI284: =IF(P284="사용자항목7", L284, 0) -> 0 | AJ284: =IF(P284="관급자재대(관급자)", L284, 0) -> 0 | AK284: =IF(P284="관급자재대(관급자)", L284, 0) -> 0 | AL284: =IF(P284="사용자항목10", L284, 0) -> 0 | AM284: =IF(P284="폐기물처리비(일반)", L284, 0) -> 0 | AN284: =IF(P284="폐기물처리비(지정)", L284, 0) -> 0 | AO284: =IF(P284="사용자항목13", L284, 0) -> 0 | AP284: =IF(P284="사용자항목14", L284, 0) -> 0 | AQ284: =IF(P284="사용자항목15", L284, 0) -> 0 | AR284: =IF(P284="사용자항목16", L284, 0) -> 0 | AS284: =IF(P284="사용자항목17", L284, 0) -> 0 | AT284: =IF(P284="사용자항목18", L284, 0) -> 0 | AU284: =IF(P284="사용자항목19", L284, 0) -> 0 | AY284: 무성적산
...

Sheet 일위대가목록
A1: 일 위 대 가 표 목 록
A2: 공사명 : (대학혁신지원사업) 스미스관 교육 환경개선 공사
A3: 호 표 | B3: 품 명 | C3: 규 격 | D3: 단위 | E3: 수량 | F3: 재 료 비 | H3: 노 무 비 | J3: 경 비 | L3: 합 계 | N3: 비 고
F4: 단 가 | G4: 금 액 | H4: 단 가 | I4: 금 액 | J4: 단 가 | K4: 금 액 | L4: 단 가 | M4: 금 액 | O4: 구분
A5: 일위 1호 | B5: 이동식강관말비계 | C5: 1개월,1단(2m) | D5: 1대 | E5: 1 | F5: =일위대가표!F17 -> 0 | G5: =E5*F5 -> 0 | H5: =일위대가표!H17 -> 0 | I5: =E5*H5 -> 0 | J5: =일위대가표!J17 -> 0 | K5: =E5*J5 -> 0 | L5: =F5+H5+J5 -> 0 | M5: =G5+I5+K5 -> 0 | N5: 공통2-7-6,2-2-5/26보완
A6: 일위 2호 | B6: 고소작업장비(스카이) | C6: 5TON(40m급) | D6: 일 | E6: 1 | F6: =일위대가표!F21 -> 0 | G6: =E6*F6 -> 0 | H6: =일위대가표!H21 -> 0 | I6: =E6*H6 -> 0 | J6: =일위대가표!J21 -> 0 | K6: =E6*J6 -> 0 | L6: =F6+H6+J6 -> 0 | M6: =G6+I6+K6 -> 0
A7: 일위 3호 | B7: 장비기초대 설치 | C7: 6,600×1,300×200,와이어메쉬 #8-150×150 | D7: 개소 | E7: 1 | F7: =일위대가표!F28 -> 0 | G7: =E7*F7 -> 0 | H7: =일위대가표!H28 -> 0 | I7: =E7*H7 -> 0 | J7: =일위대가표!J28 -> 0 | K7: =E7*J7 -> 0 | L7: =F7+H7+J7 -> 0 | M7: =G7+I7+K7 -> 0
A8: 일위 4호 | B8: 시멘트벽돌 쌓기 | C8: 0.5B, 3.6m 이하 | D8: M2 | E8: 1 | F8: =일위대가표!F33 -> 0 | G8: =E8*F8 -> 0 | H8: =일위대가표!H33 -> 0 | I8: =E8*H8 -> 0 | J8: =일위대가표!J33 -> 0 | K8: =E8*J8 -> 0 | L8: =F8+H8+J8 -> 0 | M8: =G8+I8+K8 -> 0 | O8: 무성적산
A9: 일위 5호 | B9: 벽돌소운반 | C9: 인력, 1층 | D9: 천매 | E9: 1 | F9: =일위대가표!F37 -> 0 | G9: =E9*F9 -> 0 | H9: =일위대가표!H37 -> 0 | I9: =E9*H9 -> 0 | J9: =일위대가표!J37 -> 0 | K9: =E9*J9 -> 0 | L9: =F9+H9+J9 -> 0 | M9: =G9+I9+K9 -> 0 | N9: 공통1-2-7.4
A10: 일위 6호 | B10: 벽돌소운반 | C10: 인력, 3층 | D10: 천매 | E10: 1 | F10: =일위대가표!F41 -> 0 | G10: =E10*F10 -> 0 | H10: =일위대가표!H41 -> 0 | I10: =E10*H10 -> 0 | J10: =일위대가표!J41 -> 0 | K10: =E10*J10 -> 0 | L10: =F10+H10+J10 -> 0 | M10: =G10+I10+K10 -> 0 | N10: 공통1-2-7.4
A11: 일위 7호 | B11: 시멘트벽돌 쌓기 | C11: 1.0B, 3.6m 이하 | D11: M2 | E11: 1 | F11: =일위대가표!F46 -> 0 | G11: =E11*F11 -> 0 | H11: =일위대가표!H46 -> 0 | I11: =E11*H11 -> 0 | J11: =일위대가표!J46 -> 0 | K11: =E11*J11 -> 0 | L11: =F11+H11+J11 -> 0 | M11: =G11+I11+K11 -> 0 | O11: 무성적산
A12: 일위 8호 | B12: 철근콘크리트인방 | C12: 200×200 | D12: M | E12: 1 | F12: =일위대가표!F56 -> 0 | G12: =E12*F12 -> 0 | H12: =일위대가표!H56 -> 0 | I12: =E12*H12 -> 0 | J12: =일위대가표!J56 -> 0 | K12: =E12*J12 -> 0 | L12: =F12+H12+J12 -> 0 | M12: =G12+I12+K12 -> 0 | O12: 무성적산
A13: 일위 9호 | B13: 화강석붙임(수전턱,습식) | C13: 수마,인조대리석 120×20mm,모르타르 30mm | D13: M | E13: 1 | F13: =일위대가표!F62 -> 0 | G13: =E13*F13 -> 0 | H13: =일위대가표!H62 -> 0 | I13: =E13*H13 -> 0 | J13: =일위대가표!J62 -> 0 | K13: =E13*J13 -> 0 | L13: =F13+H13+J13 -> 0 | M13: =G13+I13+K13 -> 0 | O13: 무성적산
A14: 일위 10호 | B14: 벽,띠장설치(미송) | C14: 30×30,@450×450 | D14: M2 | E14: 1 | F14: =일위대가표!F67 -> 0 | G14: =E14*F14 -> 0 | H14: =일위대가표!H67 -> 0 | I14: =E14*H14 -> 0 | J14: =일위대가표!J67 -> 0 | K14: =E14*J14 -> 0 | L14: =F14+H14+J14 -> 0 | M14: =G14+I14+K14 -> 0 | N14: 건축12-6-1 | O14: 무성적산
A15: 일위 11호 | B15: 수밀코킹(실리콘) | C15: 10mm, 창호주위(양면) | D15: M | E15: 1 | F15: =일위대가표!F72 -> 0 | G15: =E15*F15 -> 0 | H15: =일위대가표!H72 -> 0 | I15: =E15*H15 -> 0 | J15: =일위대가표!J72 -> 0 | K15: =E15*J15 -> 0 | L15: =F15+H15+J15 -> 0 | M15: =G15+I15+K15 -> 0 | O15: 무성적산
A16: 일위 12호 | B16: 구멍뚫기(코어드릴) | C16: D150, 콘크리트 150㎜ | D16: 개소 | E16: 1 | F16: =일위대가표!F78 -> 0 | G16: =E16*F16 -> 0 | H16: =일위대가표!H78 -> 0 | I16: =E16*H16 -> 0 | J16: =일위대가표!J78 -> 0 | K16: =E16*J16 -> 0 | L16: =F16+H16+J16 -> 0 | M16: =G16+I16+K16 -> 0 | N16: 설비9-3-2
A17: 일위 13호 | B17: 루프드레인설치 | C17: 수직형 150mm | D17: 개소 | E17: 1 | F17: =일위대가표!F84 -> 0 | G17: =E17*F17 -> 0 | H17: =일위대가표!H84 -> 0 | I17: =E17*H17 -> 0 | J17: =일위대가표!J84 -> 0 | K17: =E17*J17 -> 0 | L17: =F17+H17+J17 -> 0 | M17: =G17+I17+K17 -> 0 | N17: 건축7-3-1
A18: 일위 14호 | B18: 스텐레스선홈통 | C18: Ø150 | D18: M | E18: 1 | F18: =일위대가표!F92 -> 0 | G18: =E18*F18 -> 0 | H18: =일위대가표!H92 -> 0 | I18: =E18*H18 -> 0 | J18: =일위대가표!J92 -> 0 | K18: =E18*J18 -> 0 | L18: =F18+H18+J18 -> 0 | M18: =G18+I18+K18 -> 0 | N18: 건축7-2-3
A19: 일위 15호 | B19: 처마홈통설치(스텐) | C19: (200+200+300+500+300)×1.5t | D19: M | E19: 1 | F19: =일위대가표!F97 -> 0 | G19: =E19*F19 -> 0 | H19: =일위대가표!H97 -> 0 | I19: =E19*H19 -> 0 | J19: =일위대가표!J97 -> 0 | K19: =E19*J19 -> 0 | L19: =F19+H19+J19 -> 0 | M19: =G19+I19+K19 -> 0 | O19: 무성적산
A20: 일위 16호 | B20: ㄱ형강(철강앵글)설치(현장제작) | C20: ㄱ형강, 등변, 100×100×7mm, 방청페인트 | D20: M | E20: 1 | F20: =일위대가표!F104 -> 0 | G20: =E20*F20 -> 0 | H20: =일위대가표!H104 -> 0 | I20: =E20*H20 -> 0 | J20: =일위대가표!J104 -> 0 | K20: =E20*J20 -> 0 | L20: =F20+H20+J20 -> 0 | M20: =G20+I20+K20 -> 0
A21: 일위 17호 | B21: 아연도각형강관설치 2.3T(현장제작) | C21: 아연도각관, 50×50×2.3t | D21: M | E21: 1 | F21: =일위대가표!F110 -> 0 | G21: =E21*F21 -> 0 | H21: =일위대가표!H110 -> 0 | I21: =E21*H21 -> 0 | J21: =일위대가표!J110 -> 0 | K21: =E21*J21 -> 0 | L21: =F21+H21+J21 -> 0 | M21: =G21+I21+K21 -> 0
A22: 일위 18호 | B22: 샌드위치(단열)패널설치 | C22: 지붕, 50T:준불연,징크판넬 | D22: M2 | E22: 1 | F22: =일위대가표!F116 -> 0 | G22: =E22*F22 -> 0 | H22: =일위대가표!H116 -> 0 | I22: =E22*H22 -> 0 | J22: =일위대가표!J116 -> 0 | K22: =E22*J22 -> 0 | L22: =F22+H22+J22 -> 0 | M22: =G22+I22+K22 -> 0 | O22: 무성적산
A23: 일위 19호 | B23: 징크판넬 설치 | C23: 후레싱,0.45T W=300,시공비포함 | D23: M | E23: 1 | F23: =일위대가표!F120 -> 0 | G23: =E23*F23 -> 0 | H23: =일위대가표!H120 -> 0 | I23: =E23*H23 -> 0 | J23: =일위대가표!J120 -> 0 | K23: =E23*J23 -> 0 | L23: =F23+H23+J23 -> 0 | M23: =G23+I23+K23 -> 0 | O23: 무성적산
A24: 일위 20호 | B24: 징크판넬 설치 | C24: 후레싱,0.45T W=400,시공비포함 | D24: M | E24: 1 | F24: =일위대가표!F124 -> 0 | G24: =E24*F24 -> 0 | H24: =일위대가표!H124 -> 0 | I24: =E24*H24 -> 0 | J24: =일위대가표!J124 -> 0 | K24: =E24*J24 -> 0 | L24: =F24+H24+J24 -> 0 | M24: =G24+I24+K24 -> 0 | O24: 무성적산
A25: 일위 21호 | B25: 천정틀설치(각형강관) | C25: □-50×50×2.3t @450×600 (현장제작) | D25: M2 | E25: 1 | F25: =일위대가표!F128 -> 0 | G25: =E25*F25 -> 0 | H25: =일위대가표!H128 -> 0 | I25: =E25*H25 -> 0 | J25: =일위대가표!J128 -> 0 | K25: =E25*J25 -> 0 | L25: =F25+H25+J25 -> 0 | M25: =G25+I25+K25 -> 0 | O25: 무성적산
A26: 일위 22호 | B26: 갈바륨 설치 | C26: 갈바륨,1.6T+분체도장 | D26: M2 | E26: 1 | F26: =일위대가표!F134 -> 0 | G26: =E26*F26 -> 0 | H26: =일위대가표!H134 -> 0 | I26: =E26*H26 -> 0 | J26: =일위대가표!J134 -> 0 | K26: =E26*J26 -> 0 | L26: =F26+H26+J26 -> 0 | M26: =G26+I26+K26 -> 0 | O26: 무성적산
A27: 일위 23호 | B27: 모르타르 바름 | C27: 내벽,18mm(초벌+정벌),3.6m 이하 | D27: M2 | E27: 1 | F27: =일위대가표!F139 -> 0 | G27: =E27*F27 -> 0 | H27: =일위대가표!H139 -> 0 | I27: =E27*H27 -> 0 | J27: =일위대가표!J139 -> 0 | K27: =E27*J27 -> 0 | L27: =F27+H27+J27 -> 0 | M27: =G27+I27+K27 -> 0 | O27: 무성적산
A28: 일위 24호 | B28: 모르타르 바름 | C28: 외벽,18mm(초벌+정벌),3.6m 이하 | D28: M2 | E28: 1 | F28: =일위대가표!F144 -> 0 | G28: =E28*F28 -> 0 | H28: =일위대가표!H144 -> 0 | I28: =E28*H28 -> 0 | J28: =일위대가표!J144 -> 0 | K28: =E28*J28 -> 0 | L28: =F28+H28+J28 -> 0 | M28: =G28+I28+K28 -> 0 | O28: 무성적산
A29: 일위 25호 | B29: 창호주위 모르타르 충전 | D29: M | E29: 1 | F29: =일위대가표!F152 -> 0 | G29: =E29*F29 -> 0 | H29: =일위대가표!H152 -> 0 | I29: =E29*H29 -> 0 | J29: =일위대가표!J152 -> 0 | K29: =E29*J29 -> 0 | L29: =F29+H29+J29 -> 0 | M29: =G29+I29+K29 -> 0 | N29: 건축9-3-1 | O29: AGH11000020S
A30: 일위 26호 | B30: SSD - 1 | C30: 1,050 × 2,700 (이설.재설치) | D30: 개소 | E30: 1 | F30: =일위대가표!F157 -> 0 | G30: =E30*F30 -> 0 | H30: =일위대가표!H157 -> 0 | I30: =E30*H30 -> 0 | J30: =일위대가표!J157 -> 0 | K30: =E30*J30 -> 0 | L30: =F30+H30+J30 -> 0 | M30: =G30+I30+K30 -> 0
A31: 일위 27호 | B31: SSD - 2 | C31: 1,050 × 2,700 (이설.재설치) | D31: 개소 | E31: 1 | F31: =일위대가표!F162 -> 0 | G31: =E31*F31 -> 0 | H31: =일위대가표!H162 -> 0 | I31: =E31*H31 -> 0 | J31: =일위대가표!J162 -> 0 | K31: =E31*J31 -> 0 | L31: =F31+H31+J31 -> 0 | M31: =G31+I31+K31 -> 0
A32: 일위 28호 | B32: P D - 1 | C32: 900 × 2,100 (140T,발포문틀) | D32: 개소 | E32: 1 | F32: =일위대가표!F166 -> 0 | G32: =E32*F32 -> 0 | H32: =일위대가표!H166 -> 0 | I32: =E32*H32 -> 0 | J32: =일위대가표!J166 -> 0 | K32: =E32*J32 -> 0 | L32: =F32+H32+J32 -> 0 | M32: =G32+I32+K32 -> 0
A33: 일위 29호 | B33: S W - 1 | C33: 5,450 × 2,550 (45×100×1.6T GALV,PVC랩핑,방염) | D33: 개소 | E33: 1 | F33: =일위대가표!F170 -> 0 | G33: =E33*F33 -> 0 | H33: =일위대가표!H170 -> 0 | I33: =E33*H33 -> 0 | J33: =일위대가표!J170 -> 0 | K33: =E33*J33 -> 0 | L33: =F33+H33+J33 -> 0 | M33: =G33+I33+K33 -> 0
A34: 일위 30호 | B34: 플로어힌지 설치 | C34: 강화유리문용 | D34: 개소 | E34: 1 | F34: =일위대가표!F175 -> 0 | G34: =E34*F34 -> 0 | H34: =일위대가표!H175 -> 0 | I34: =E34*H34 -> 0 | J34: =일위대가표!J175 -> 0 | K34: =E34*J34 -> 0 | L34: =F34+H34+J34 -> 0 | M34: =G34+I34+K34 -> 0 | O34: 무성적산
A35: 일위 31호 | B35: 도아록 설치 | C35: 일반도어록 레바형(목재창호) | D35: 개소 | E35: 1 | F35: =일위대가표!F180 -> 0 | G35: =E35*F35 -> 0 | H35: =일위대가표!H180 -> 0 | I35: =E35*H35 -> 0 | J35: =일위대가표!J180 -> 0 | K35: =E35*J35 -> 0 | L35: =F35+H35+J35 -> 0 | M35: =G35+I35+K35 -> 0 | N35: 건축17-3 | O35: 무성적산
A36: 일위 32호 | B36: 창호유리설치 / 판유리 | C36: 유리두께 9mm 이하 | D36: M2 | E36: 1 | F36: =일위대가표!F185 -> 0 | G36: =E36*F36 -> 0 | H36: =일위대가표!H185 -> 0 | I36: =E36*H36 -> 0 | J36: =일위대가표!J185 -> 0 | K36: =E36*J36 -> 0 | L36: =F36+H36+J36 -> 0 | M36: =G36+I36+K36 -> 0 | N36: 건축10-3-1 | O36: ALG00000030S
A37: 일위 33호 | B37: 창호유리설치 / 복층유리 | C37: 유리두께 24mm 이하 | D37: M2 | E37: 1 | F37: =일위대가표!F190 -> 0 | G37: =E37*F37 -> 0 | H37: =일위대가표!H190 -> 0 | I37: =E37*H37 -> 0 | J37: =일위대가표!J190 -> 0 | K37: =E37*J37 -> 0 | L37: =F37+H37+J37 -> 0 | M37: =G37+I37+K37 -> 0 | N37: 건축10-3-1 | O37: ALH00500010S
A38: 일위 34호 | B38: 창호유리설치 / 복층유리 | C38: 유리두께 28mm 이하 | D38: M2 | E38: 1 | F38: =일위대가표!F195 -> 0 | G38: =E38*F38 -> 0 | H38: =일위대가표!H195 -> 0 | I38: =E38*H38 -> 0 | J38: =일위대가표!J195 -> 0 | K38: =E38*J38 -> 0 | L38: =F38+H38+J38 -> 0 | M38: =G38+I38+K38 -> 0 | N38: 건축10-3-1 | O38: ALH00600010S
A39: 일위 35호 | B39: 유리주위 코킹 | C39: 5×5, 실리콘(양면) | D39: M | E39: 1 | F39: =일위대가표!F199 -> 0 | G39: =E39*F39 -> 0 | H39: =일위대가표!H199 -> 0 | I39: =E39*H39 -> 0 | J39: =일위대가표!J199 -> 0 | K39: =E39*J39 -> 0 | L39: =F39+H39+J39 -> 0 | M39: =G39+I39+K39 -> 0 | O39: 무성적산
A40: 일위 36호 | B40: 유리주위 코킹 | C40: 복층유리 5×5,실리콘(양면) | D40: M | E40: 1 | F40: =일위대가표!F203 -> 0 | G40: =E40*F40 -> 0 | H40: =일위대가표!H203 -> 0 | I40: =E40*H40 -> 0 | J40: =일위대가표!J203 -> 0 | K40: =E40*J40 -> 0 | L40: =F40+H40+J40 -> 0 | M40: =G40+I40+K40 -> 0 | N40: 건축10-3-1 | O40: 무성적산
A41: 일위 37호 | B41: 걸레받이용 페인트칠 | C41: 세라민페인트, 붓칠 2회, H:100, CON'C면 | D41: M | E41: 1 | F41: =일위대가표!F208 -> 0 | G41: =E41*F41 -> 0 | H41: =일위대가표!H208 -> 0 | I41: =E41*H41 -> 0 | J41: =일위대가표!J208 -> 0 | K41: =E41*J41 -> 0 | L41: =F41+H41+J41 -> 0 | M41: =G41+I41+K41 -> 0
A42: 일위 38호 | B42: 걸레받이용 페인트칠 | C42: 세라민페인트, 붓칠 2회, H:100, GB면 줄퍼티 | D42: M | E42: 1 | F42: =일위대가표!F213 -> 0 | G42: =E42*F42 -> 0 | H42: =일위대가표!H213 -> 0 | I42: =E42*H42 -> 0 | J42: =일위대가표!J213 -> 0 | K42: =E42*J42 -> 0 | L42: =F42+H42+J42 -> 0 | M42: =G42+I42+K42 -> 0
A43: 일위 39호 | B43: 친환경수성페인트 롤러칠 | C43: 내벽 2회, 친환경, CON'C면 | D43: M2 | E43: 1 | F43: =일위대가표!F218 -> 0 | G43: =E43*F43 -> 0 | H43: =일위대가표!H218 -> 0 | I43: =E43*H43 -> 0 | J43: =일위대가표!J218 -> 0 | K43: =E43*J43 -> 0 | L43: =F43+H43+J43 -> 0 | M43: =G43+I43+K43 -> 0 | N43: 건축11-2-2
A44: 일위 40호 | B44: 친환경수성페인트 롤러칠 | C44: 내벽 2회, 친환경, GB면 줄퍼티 | D44: M2 | E44: 1 | F44: =일위대가표!F223 -> 0 | G44: =E44*F44 -> 0 | H44: =일위대가표!H223 -> 0 | I44: =E44*H44 -> 0 | J44: =일위대가표!J223 -> 0 | K44: =E44*J44 -> 0 | L44: =F44+H44+J44 -> 0 | M44: =G44+I44+K44 -> 0 | N44: 건축11-2-2
A45: 일위 41호 | B45: 재도장 친환경수성페인트 롤러칠 | C45: 콘크리트·모르타르면, 내벽 2회 + 바탕처리 | D45: M2 | E45: 1 | F45: =일위대가표!F228 -> 0 | G45: =E45*F45 -> 0 | H45: =일위대가표!H228 -> 0 | I45: =E45*H45 -> 0 | J45: =일위대가표!J228 -> 0 | K45: =E45*J45 -> 0 | L45: =F45+H45+J45 -> 0 | M45: =G45+I45+K45 -> 0 | N45: 건축11-2-2,유지3-3-1
A46: 일위 42호 | B46: 아크릴수성페인트칠 | C46: 큐피트 크린솔(무광) 2회,바탕처리 포함 | D46: M2 | E46: 1 | F46: =일위대가표!F231 -> 3173 | G46: =E46*F46 -> 3173 | H46: =일위대가표!H231 -> 12100 | I46: =E46*H46 -> 12100 | J46: =일위대가표!J231 -> 0 | K46: =E46*J46 -> 0 | L46: =F46+H46+J46 -> 15273 | M46: =G46+I46+K46 -> 15273 | O46: 무성적산
A47: 일위 43호 | B47: 조합페인트(붓칠) | C47: 철재면 2회 2급 | D47: M2 | E47: 1 | F47: =일위대가표!F239 -> 0 | G47: =E47*F47 -> 0 | H47: =일위대가표!H239 -> 0 | I47: =E47*H47 -> 0 | J47: =일위대가표!J239 -> 0 | K47: =E47*J47 -> 0 | L47: =F47+H47+J47 -> 0 | M47: =G47+I47+K47 -> 0 | N47: 건축11-2-4
A48: 일위 44호 | B48: 비닐타일 깔기 | C48: 비닐타일, 3×450×450mm, 데코타일 | D48: M2 | E48: 1 | F48: =일위대가표!F244 -> 0 | G48: =E48*F48 -> 0 | H48: =일위대가표!H244 -> 0 | I48: =E48*H48 -> 0 | J48: =일위대가표!J244 -> 0 | K48: =E48*J48 -> 0 | L48: =F48+H48+J48 -> 0 | M48: =G48+I48+K48 -> 0 | N48: 건축5-1-1
A49: 일위 45호 | B49: 벽,석고판붙임 | C49: 바탕용,일반 9.5×2PL(나사본드붙임) | D49: M2 | E49: 1 | F49: =일위대가표!F249 -> 0 | G49: =E49*F49 -> 0 | H49: =일위대가표!H249 -> 0 | I49: =E49*H49 -> 0 | J49: =일위대가표!J249 -> 0 | K49: =E49*J49 -> 0 | L49: =F49+H49+J49 -> 0 | M49: =G49+I49+K49 -> 0 | N49: 건축20-2-3 | O49: 무성적산
A50: 일위 46호 | B50: 경량칸막이 설치 (C-STUD100×45×0.8T,W=150) | C50: 일반 12.5t 2겹 양면+유리면 50mm (DW 1) | D50: M2 | E50: 1 | F50: =일위대가표!F255 -> 0 | G50: =E50*F50 -> 0 | H50: =일위대가표!H255 -> 0 | I50: =E50*H50 -> 0 | J50: =일위대가표!J255 -> 0 | K50: =E50*J50 -> 0 | L50: =F50+H50+J50 -> 0 | M50: =G50+I50+K50 -> 0 | O50: 무성적산
A51: 일위 47호 | B51: 창호주위 발포우레탄 충전 | C51: 바탕정리, 발포우레탄 충전, 마무리작업 | D51: M | E51: 1 | F51: =일위대가표!F259 -> 0 | G51: =E51*F51 -> 0 | H51: =일위대가표!H259 -> 0 | I51: =E51*H51 -> 0 | J51: =일위대가표!J259 -> 0 | K51: =E51*J51 -> 0 | L51: =F51+H51+J51 -> 0 | M51: =G51+I51+K51 -> 0 | N51: 건축9-3-2 | O51: 무성적산
A52: 일위 48호 | B52: SAW CUT | C52: 콘크리트 | D52: M | E52: 1 | F52: =일위대가표!F267 -> 0 | G52: =E52*F52 -> 0 | H52: =일위대가표!H267 -> 0 | I52: =E52*H52 -> 0 | J52: =일위대가표!J267 -> 0 | K52: =E52*J52 -> 0 | L52: =F52+H52+J52 -> 0 | M52: =G52+I52+K52 -> 0
A53: 일위 49호 | B53: 철근콘크리트 철거 | C53: 소형브레이커(공압식) | D53: M3 | E53: 1 | F53: =일위대가표!F275 -> 0 | G53: =E53*F53 -> 0 | H53: =일위대가표!H275 -> 0 | I53: =E53*H53 -> 0 | J53: =일위대가표!J275 -> 0 | K53: =E53*J53 -> 0 | L53: =F53+H53+J53 -> 0 | M53: =G53+I53+K53 -> 0
A54: 일위 50호 | B54: 벽돌및블럭벽 철거 | C54: 소형브레이커(공압식) | D54: M3 | E54: 1 | F54: =일위대가표!F279 -> 0 | G54: =E54*F54 -> 0 | H54: =일위대가표!H279 -> 0 | I54: =E54*H54 -> 0 | J54: =일위대가표!J279 -> 0 | K54: =E54*J54 -> 0 | L54: =F54+H54+J54 -> 0 | M54: =G54+I54+K54 -> 0 | O54: 무성적산
A55: 일위 51호 | B55: 바닥 철거 | C55: 비닐타일 | D55: M2 | E55: 1 | F55: =일위대가표!F283 -> 0 | G55: =E55*F55 -> 0 | H55: =일위대가표!H283 -> 0 | I55: =E55*H55 -> 0 | J55: =일위대가표!J283 -> 0 | K55: =E55*J55 -> 0 | L55: =F55+H55+J55 -> 0 | M55: =G55+I55+K55 -> 0 | O55: 무성적산
A56: 일위 52호 | B56: 바닥 철거 | C56: 카펫타일 철거 | D56: M2 | E56: 1 | F56: =일위대가표!F287 -> 0 | G56: =E56*F56 -> 0 | H56: =일위대가표!H287 -> 0 | I56: =E56*H56 -> 0 | J56: =일위대가표!J287 -> 0 | K56: =E56*J56 -> 0 | L56: =F56+H56+J56 -> 0 | M56: =G56+I56+K56 -> 0 | O56: 무성적산
A57: 일위 53호 | B57: 벽 철거(복합 칸막이,스터드) | C57: 해체재 재사용 안 함 | D57: M2 | E57: 1 | F57: =일위대가표!F291 -> 0 | G57: =E57*F57 -> 0 | H57: =일위대가표!H291 -> 0 | I57: =E57*H57 -> 0 | J57: =일위대가표!J291 -> 0 | K57: =E57*J57 -> 0 | L57: =F57+H57+J57 -> 0 | M57: =G57+I57+K57 -> 0 | O57: 무성적산
A58: 일위 54호 | B58: 천장 철거(천정재,텍스+경량철골) | C58: 해체재 재사용 안 함 (12.0T 기준) | D58: M2 | E58: 1 | F58: =일위대가표!F296 -> 0 | G58: =E58*F58 -> 0 | H58: =일위대가표!H296 -> 0 | I58: =E58*H58 -> 0 | J58: =일위대가표!J296 -> 0 | K58: =E58*J58 -> 0 | L58: =F58+H58+J58 -> 0 | M58: =G58+I58+K58 -> 0 | O58: 무성적산
A59: 일위 55호 | B59: 칠판및게시판철거 | D59: M2 | E59: 1 | F59: =일위대가표!F300 -> 0 | G59: =E59*F59 -> 0 | H59: =일위대가표!H300 -> 0 | I59: =E59*H59 -> 0 | J59: =일위대가표!J300 -> 0 | K59: =E59*J59 -> 0 | L59: =F59+H59+J59 -> 0 | M59: =G59+I59+K59 -> 0 | O59: 무성적산
A60: 일위 56호 | B60: 창호 철거 | C60: 알미늄 창호 | D60: M2 | E60: 1 | F60: =일위대가표!F304 -> 0 | G60: =E60*F60 -> 0 | H60: =일위대가표!H304 -> 0 | I60: =E60*H60 -> 0 | J60: =일위대가표!J304 -> 0 | K60: =E60*J60 -> 0 | L60: =F60+H60+J60 -> 0 | M60: =G60+I60+K60 -> 0 | O60: 무성적산
A61: 일위 57호 | B61: 창호 철거 | C61: 목재 창호 | D61: M2 | E61: 1 | F61: =일위대가표!F308 -> 0 | G61: =E61*F61 -> 0 | H61: =일위대가표!H308 -> 0 | I61: =E61*H61 -> 0 | J61: =일위대가표!J308 -> 0 | K61: =E61*J61 -> 0 | L61: =F61+H61+J61 -> 0 | M61: =G61+I61+K61 -> 0 | O61: 무성적산
A62: 일위 58호 | B62: 창호 철거 | C62: 프라스틱 창호 | D62: M2 | E62: 1 | F62: =일위대가표!F312 -> 0 | G62: =E62*F62 -> 0 | H62: =일위대가표!H312 -> 0 | I62: =E62*H62 -> 0 | J62: =일위대가표!J312 -> 0 | K62: =E62*J62 -> 0 | L62: =F62+H62+J62 -> 0 | M62: =G62+I62+K62 -> 0 | O62: 무성적산
A63: 일위 59호 | B63: 비닐 보양 | C63: (석면자재이동구간 바닥),0.15mm×2겹 | D63: M2 | E63: 1 | F63: =일위대가표!F317 -> 0 | G63: =E63*F63 -> 0 | H63: =일위대가표!H317 -> 0 | I63: =E63*H63 -> 0 | J63: =일위대가표!J317 -> 0 | K63: =E63*J63 -> 0 | L63: =F63+H63+J63 -> 0 | M63: =G63+I63+K63 -> 0 | N63: 공통 2-9-2 | O63: 무성적산
A64: 일위 60호 | B64: 비닐 보양 | C64: (석면자재이동구간 벽,천장),0.08mm×2겹 | D64: M2 | E64: 1 | F64: =일위대가표!F322 -> 0 | G64: =E64*F64 -> 0 | H64: =일위대가표!H322 -> 0 | I64: =E64*H64 -> 0 | J64: =일위대가표!J322 -> 0 | K64: =E64*J64 -> 0 | L64: =F64+H64+J64 -> 0 | M64: =G64+I64+K64 -> 0 | N64: 공통 2-9-2 | O64: 무성적산
A65: 일위 61호 | B65: 석면텍스 철거 | C65: 습윤,보양,개인보호장구,소모품등일체포함(비계및청소제외) | D65: M2 | E65: 1 | F65: =일위대가표!F331 -> 0 | G65: =E65*F65 -> 0 | H65: =일위대가표!H331 -> 0 | I65: =E65*H65 -> 0 | J65: =일위대가표!J331 -> 0 | K65: =E65*J65 -> 0 | L65: =F65+H65+J65 -> 0 | M65: =G65+I65+K65 -> 0
A66: 일위 62호 | B66: 경량철골천정틀 철거 | C66: 일괄철거(M-BAR,캐링,마이너등)잔여석면불순물제거포함 | D66: M2 | E66: 1 | F66: =일위대가표!F335 -> 0 | G66: =E66*F66 -> 0 | H66: =일위대가표!H335 -> 0 | I66: =E66*H66 -> 0 | J66: =일위대가표!J335 -> 0 | K66: =E66*J66 -> 0 | L66: =F66+H66+J66 -> 0 | M66: =G66+I66+K66 -> 0 | O66: 무성적산
A67: 일위 63호 | B67: 석면비산농도측정비(500M2 이상해당) | C67: 일당 | D67: 일 | E67: 1 | F67: =일위대가표!F339 -> 0 | G67: =E67*F67 -> 0 | H67: =일위대가표!H339 -> 0 | I67: =E67*H67 -> 0 | J67: =일위대가표!J339 -> 0 | K67: =E67*J67 -> 0 | L67: =F67+H67+J67 -> 0 | M67: =G67+I67+K67 -> 0
A68: 일위 64호 | B68: 창호주위 발포우레탄 충전 | C68: 바탕정리, 발포우레탄 충전, 마무리작업 | D68: 10m | E68: 1 | F68: =일위대가표!F345 -> 0 | G68: =E68*F68 -> 0 | H68: =일위대가표!H345 -> 0 | I68: =E68*H68 -> 0 | J68: =일위대가표!J345 -> 0 | K68: =E68*J68 -> 0 | L68: =F68+H68+J68 -> 0 | M68: =G68+I68+K68 -> 0 | N68: 건축9-3-2
A69: 일위 65호 | B69: 수밀코킹(시공비) | C69: (양면),재료비 별도 | D69: M | E69: 1 | F69: =일위대가표!F349 -> 0 | G69: =E69*F69 -> 0 | H69: =일위대가표!H349 -> 0 | I69: =E69*H69 -> 0 | J69: =일위대가표!J349 -> 0 | K69: =E69*J69 -> 0 | L69: =F69+H69+J69 -> 0 | M69: =G69+I69+K69 -> 0 | O69: 무성적산
A70: 일위 66호 | B70: 도어록 설치 / 일반도어록 목재창호 | C70: 재료비 별도 | D70: 10개소 | E70: 1 | F70: =일위대가표!F354 -> 0 | G70: =E70*F70 -> 0 | H70: =일위대가표!H354 -> 0 | I70: =E70*H70 -> 0 | J70: =일위대가표!J354 -> 0 | K70: =E70*J70 -> 0 | L70: =F70+H70+J70 -> 0 | M70: =G70+I70+K70 -> 0 | N70: 건축10-2-3 | O70: ALF13100010S
A71: 일위 67호 | B71: 불소수지페인트 | C71: 철부 2회 | D71: M2 | E71: 1 | F71: =일위대가표!F362 -> 0 | G71: =E71*F71 -> 0 | H71: =일위대가표!H362 -> 0 | I71: =E71*H71 -> 0 | J71: =일위대가표!J362 -> 0 | K71: =E71*J71 -> 0 | L71: =F71+H71+J71 -> 0 | M71: =G71+I71+K71 -> 0 | N71: 건축11-2-4참고
A72: 일위 68호 | B72: 잡철물 제작 및 설치 | C72: 경량철재, 규격철물 설치 | D72: TON | E72: 1 | F72: =일위대가표!F371 -> 0 | G72: =E72*F72 -> 0 | H72: =일위대가표!H371 -> 0 | I72: =E72*H72 -> 0 | J72: =일위대가표!J371 -> 0 | K72: =E72*J72 -> 0 | L72: =F72+H72+J72 -> 0 | M72: =G72+I72+K72 -> 0 | N72: 건축8-3-1
A73: 일위 69호 | B73: 잡철물 제작 및 설치 | C73: 경량철재, 규격철물 설치 | D73: kg | E73: 1 | F73: =일위대가표!F375 -> 0 | G73: =E73*F73 -> 0 | H73: =일위대가표!H375 -> 0 | I73: =E73*H73 -> 0 | J73: =일위대가표!J375 -> 0 | K73: =E73*J73 -> 0 | L73: =F73+H73+J73 -> 0 | M73: =G73+I73+K73 -> 0 | N73: 건축8-3-1
A74: 일위 70호 | B74: 벽,석고판붙임 | C74: 바탕용,일반12.5×1PL(본드붙임) | D74: M2 | E74: 1 | F74: =일위대가표!F380 -> 0 | G74: =E74*F74 -> 0 | H74: =일위대가표!H380 -> 0 | I74: =E74*H74 -> 0 | J74: =일위대가표!J380 -> 0 | K74: =E74*J74 -> 0 | L74: =F74+H74+J74 -> 0 | M74: =G74+I74+K74 -> 0 | N74: 건축20-2-3 | O74: 무성적산
A75: 일위 71호 | B75: 석고판(접착제) 설치 | D75: M2 | E75: 1 | F75: =일위대가표!F387 -> 0 | G75: =E75*F75 -> 0 | H75: =일위대가표!H387 -> 0 | I75: =E75*H75 -> 0 | J75: =일위대가표!J387 -> 0 | K75: =E75*J75 -> 0 | L75: =F75+H75+J75 -> 0 | M75: =G75+I75+K75 -> 0 | N75: 건축5-3-2※ | O75: AOC31100040S
A76: 일위 72호 | B76: 유리섬유 설치 | C76: 벽체:50㎜ | D76: M2 | E76: 1 | F76: =일위대가표!F393 -> 0 | G76: =E76*F76 -> 0 | H76: =일위대가표!H393 -> 0 | I76: =E76*H76 -> 0 | J76: =일위대가표!J393 -> 0 | K76: =E76*J76 -> 0 | L76: =F76+H76+J76 -> 0 | M76: =G76+I76+K76 -> 0 | O76: 무성적산
A77: 일위 73호 | B77: 인조광물섬유판 설치(공간넣기, 벽) | C77: 50mm 이하 | D77: M2 | E77: 1 | F77: =일위대가표!F398 -> 0 | G77: =E77*F77 -> 0 | H77: =일위대가표!H398 -> 0 | I77: =E77*H77 -> 0 | J77: =일위대가표!J398 -> 0 | K77: =E77*J77 -> 0 | L77: =F77+H77+J77 -> 0 | M77: =G77+I77+K77 -> 0 | N77: (건축5-3-2) | O77: AOD21000010S
A78: 일위 74호 | B78: 벽,석고판붙임 | C78: 바탕용,일반 12.5×2PL(나사본드붙임) | D78: M2 | E78: 1 | F78: =일위대가표!F403 -> 0 | G78: =E78*F78 -> 0 | H78: =일위대가표!H403 -> 0 | I78: =E78*H78 -> 0 | J78: =일위대가표!J403 -> 0 | K78: =E78*J78 -> 0 | L78: =F78+H78+J78 -> 0 | M78: =G78+I78+K78 -> 0 | N78: 건축20-2-3 | O78: 무성적산
A79: 일위 75호 | B79: 벽,석고판붙임 | C79: 바탕용,일반12.5×1PL(나사고정) | D79: M2 | E79: 1 | F79: =일위대가표!F408 -> 0 | G79: =E79*F79 -> 0 | H79: =일위대가표!H408 -> 0 | I79: =E79*H79 -> 0 | J79: =일위대가표!J408 -> 0 | K79: =E79*J79 -> 0 | L79: =F79+H79+J79 -> 0 | M79: =G79+I79+K79 -> 0 | N79: 건축20-2-3 | O79: 무성적산
A80: 일위 76호 | B80: 석고판(나사고정) 설치 - 바탕용 | C80: 벽, 1겹 붙임 | D80: M2 | E80: 1 | F80: =일위대가표!F414 -> 0 | G80: =E80*F80 -> 0 | H80: =일위대가표!H414 -> 0 | I80: =E80*H80 -> 0 | J80: =일위대가표!J414 -> 0 | K80: =E80*J80 -> 0 | L80: =F80+H80+J80 -> 0 | M80: =G80+I80+K80 -> 0 | N80: 건축5-3-1 | O80: AOC31100010S
A81: 일위 77호 | B81: 메탈 스터드(C-100) 설치 | C81: 100×45 @450 | D81: M2 | E81: 1 | F81: =일위대가표!F425 -> 0 | G81: =E81*F81 -> 0 | H81: =일위대가표!H425 -> 0 | I81: =E81*H81 -> 0 | J81: =일위대가표!J425 -> 0 | K81: =E81*J81 -> 0 | L81: =F81+H81+J81 -> 0 | M81: =G81+I81+K81 -> 0 | N81: 2023 실내건축협회 | O81: 실내건축
A82: 일위 78호 | B82: 녹막이페인트칠 | C82: 1회.1종 | D82: M2 | E82: 1 | F82: =일위대가표!F431 -> 0 | G82: =E82*F82 -> 0 | H82: =일위대가표!H431 -> 0 | I82: =E82*H82 -> 0 | J82: =일위대가표!J431 -> 0 | K82: =E82*J82 -> 0 | L82: =F82+H82+J82 -> 0 | M82: =G82+I82+K82 -> 0 | N82: 건축11-2-6
A83: 일위 79호 | B83: 잡철물 제작 및 설치(현장제작 설치) | C83: 일반철재 | D83: kg | E83: 1 | F83: =일위대가표!F440 -> 0 | G83: =E83*F83 -> 0 | H83: =일위대가표!H440 -> 0 | I83: =E83*H83 -> 0 | J83: =일위대가표!J440 -> 0 | K83: =E83*J83 -> 0 | L83: =F83+H83+J83 -> 0 | M83: =G83+I83+K83 -> 0 | N83: 건축8-3-1
A84: 일위 80호 | B84: 녹막이 페인트칠 | C84: 철재면, 1회 | D84: M2 | E84: 1 | F84: =일위대가표!F446 -> 0 | G84: =E84*F84 -> 0 | H84: =일위대가표!H446 -> 0 | I84: =E84*H84 -> 0 | J84: =일위대가표!J446 -> 0 | K84: =E84*J84 -> 0 | L84: =F84+H84+J84 -> 0 | M84: =G84+I84+K84 -> 0 | N84: 건축11-2-6 | O84: ANA00000010S
A85: 일위 81호 | B85: 각형강관설치 2.3T(현장제작) | C85: 각형강관, 50×50×2.3t, 방청페인트 | D85: M | E85: 1 | F85: =일위대가표!F453 -> 0 | G85: =E85*F85 -> 0 | H85: =일위대가표!H453 -> 0 | I85: =E85*H85 -> 0 | J85: =일위대가표!J453 -> 0 | K85: =E85*J85 -> 0 | L85: =F85+H85+J85 -> 0 | M85: =G85+I85+K85 -> 0
A86: 일위 82호 | B86: 콘크리트·모르타르면 바탕만들기 | D86: M2 | E86: 1 | F86: =일위대가표!F460 -> 0 | G86: =E86*F86 -> 0 | H86: =일위대가표!H460 -> 0 | I86: =E86*H86 -> 0 | J86: =일위대가표!J460 -> 0 | K86: =E86*J86 -> 0 | L86: =F86+H86+J86 -> 0 | M86: =G86+I86+K86 -> 0 | N86: 건축11-1-1
A87: 일위 83호 | B87: 걸레받이용 페인트칠 | C87: 붓칠, 2회, 노무비 | D87: M2 | E87: 1 | F87: =일위대가표!F466 -> 0 | G87: =E87*F87 -> 0 | H87: =일위대가표!H466 -> 0 | I87: =E87*H87 -> 0 | J87: =일위대가표!J466 -> 0 | K87: =E87*J87 -> 0 | L87: =F87+H87+J87 -> 0 | M87: =G87+I87+K87 -> 0 | N87: 건축11-2-10 | O87: ANB31600010S
A88: 일위 84호 | B88: 걸레받이용 페인트칠 | C88: 세라민페인트, 붓칠 2회 | D88: M2 | E88: 1 | F88: =일위대가표!F473 -> 0 | G88: =E88*F88 -> 0 | H88: =일위대가표!H473 -> 0 | I88: =E88*H88 -> 0 | J88: =일위대가표!J473 -> 0 | K88: =E88*J88 -> 0 | L88: =F88+H88+J88 -> 0 | M88: =G88+I88+K88 -> 0
A89: 일위 85호 | B89: 수성페인트 롤러칠 | C89: 2회 | D89: M2 | E89: 1 | F89: =일위대가표!F481 -> 0 | G89: =E89*F89 -> 0 | H89: =일위대가표!H481 -> 0 | I89: =E89*H89 -> 0 | J89: =일위대가표!J481 -> 0 | K89: =E89*J89 -> 0 | L89: =F89+H89+J89 -> 0 | M89: =G89+I89+K89 -> 0 | N89: 건축11-2-2 | O89: ANC13200050S
A90: 일위 86호 | B90: 재도장 시 바탕처리 | C90: 콘크리트,모르타르면 | D90: M2 | E90: 1 | F90: =일위대가표!F487 -> 0 | G90: =E90*F90 -> 0 | H90: =일위대가표!H487 -> 0 | I90: =E90*H90 -> 0 | J90: =일위대가표!J487 -> 0 | K90: =E90*J90 -> 0 | L90: =F90+H90+J90 -> 0 | M90: =G90+I90+K90 -> 0 | N90: 유지3-3-1 | O90: AQA80001000S
A91: 일위 87호 | B91: 친환경수성페인트 롤러칠 | C91: 내벽 2회, 친환경 | D91: M2 | E91: 1 | F91: =일위대가표!F492 -> 0 | G91: =E91*F91 -> 0 | H91: =일위대가표!H492 -> 0 | I91: =E91*H91 -> 0 | J91: =일위대가표!J492 -> 0 | K91: =E91*J91 -> 0 | L91: =F91+H91+J91 -> 0 | M91: =G91+I91+K91 -> 0 | N91: 건축11-2-2
A92: 일위 88호 | B92: PVC계 바닥재 설치 - 타일 | C92: 주재료 제외 | D92: M2 | E92: 1 | F92: =일위대가표!F498 -> 0 | G92: =E92*F92 -> 0 | H92: =일위대가표!H498 -> 0 | I92: =E92*H92 -> 0 | J92: =일위대가표!J498 -> 0 | K92: =E92*J92 -> 0 | L92: =F92+H92+J92 -> 0 | M92: =G92+I92+K92 -> 0 | N92: 건축5-1-1 | O92: AOA11200010S
A93: 일위 89호 | B93: 습식공법 - 화강석 | C93: 바닥, 자재 별도 | D93: M2 | E93: 1 | F93: =일위대가표!F504 -> 0 | G93: =E93*F93 -> 0 | H93: =일위대가표!H504 -> 0 | I93: =E93*H93 -> 0 | J93: =일위대가표!J504 -> 0 | K93: =E93*J93 -> 0 | L93: =F93+H93+J93 -> 0 | M93: =G93+I93+K93 -> 0
A94: 일위 90호 | B94: 모르타르 배합(배합품 포함) | C94: 배합용적비1:3, 시멘트, 모래 별도 | D94: M3 | E94: 1 | F94: =일위대가표!F510 -> 0 | G94: =E94*F94 -> 0 | H94: =일위대가표!H510 -> 0 | I94: =E94*H94 -> 0 | J94: =일위대가표!J510 -> 0 | K94: =E94*J94 -> 0 | L94: =F94+H94+J94 -> 0 | M94: =G94+I94+K94 -> 0 | N94: 건축9-1-1
A95: 일위 91호 | B95: 모르타르 배합공 | C95: 모래체가름 포함 | D95: M3 | E95: 1 | F95: =일위대가표!F514 -> 0 | G95: =E95*F95 -> 0 | H95: =일위대가표!H514 -> 0 | I95: =E95*H95 -> 0 | J95: =일위대가표!J514 -> 0 | K95: =E95*J95 -> 0 | L95: =F95+H95+J95 -> 0 | M95: =G95+I95+K95 -> 0 | N95: 건축9-1-1
A96: 일위 92호 | B96: 모르타르 바름 | C96: 벽 2회, 3.6m이하 | D96: M2 | E96: 1 | F96: =일위대가표!F520 -> 0 | G96: =E96*F96 -> 0 | H96: =일위대가표!H520 -> 0 | I96: =E96*H96 -> 0 | J96: =일위대가표!J520 -> 0 | K96: =E96*J96 -> 0 | L96: =F96+H96+J96 -> 0 | M96: =G96+I96+K96 -> 0 | N96: 건축9-1-2
A97: 일위 93호 | B97: 석고보드면 바탕만들기 | C97: 줄퍼티 | D97: M2 | E97: 1 | F97: =일위대가표!F528 -> 0 | G97: =E97*F97 -> 0 | H97: =일위대가표!H528 -> 0 | I97: =E97*H97 -> 0 | J97: =일위대가표!J528 -> 0 | K97: =E97*J97 -> 0 | L97: =F97+H97+J97 -> 0 | M97: =G97+I97+K97 -> 0 | N97: 건축11-1-2
A98: 일위 94호 | B98: 레디믹스트콘크리트 타설 | C98: 인력운반타설, 무근구조물 | D98: M3 | E98: 1 | F98: =일위대가표!F534 -> 0 | G98: =E98*F98 -> 0 | H98: =일위대가표!H534 -> 0 | I98: =E98*H98 -> 0 | J98: =일위대가표!J534 -> 0 | K98: =E98*J98 -> 0 | L98: =F98+H98+J98 -> 0 | M98: =G98+I98+K98 -> 0 | N98: 공통6-1-1(레미콘無)
A99: 일위 95호 | B99: 합판거푸집 - 자재비 | C99: 4회 | D99: M2 | E99: 1 | F99: =일위대가표!F541 -> 0 | G99: =E99*F99 -> 0 | H99: =일위대가표!H541 -> 0 | I99: =E99*H99 -> 0 | J99: =일위대가표!J541 -> 0 | K99: =E99*J99 -> 0 | L99: =F99+H99+J99 -> 0 | M99: =G99+I99+K99 -> 0 | N99: 공통6-3-1.2 | O99: ADA20100020S
A100: 일위 96호 | B100: 합판거푸집 - 인력투입 | C100: 보통, 수직고 7m까지 | D100: M2 | E100: 1 | F100: =일위대가표!F547 -> 0 | G100: =E100*F100 -> 0 | H100: =일위대가표!H547 -> 0 | I100: =E100*H100 -> 0 | J100: =일위대가표!J547 -> 0 | K100: =E100*J100 -> 0 | L100: =F100+H100+J100 -> 0 | M100: =G100+I100+K100 -> 0 | N100: 공통6-3-1.3 | O100: ADA20100040S
...

Sheet 일위대가표
A1: 일 위 대 가 명 세 서
A2: 공사명 : (대학혁신지원사업) 스미스관 교육 환경개선 공사
A3: 품 명 | B3: 규 격 | C3: 단위 | D3: 수 량 | E3: 재 료 비 | G3: 노 무 비 | I3: 경 비 | K3: 합 계 | M3: 비 고
E4: 단 가 | F4: 금 액 | G4: 단 가 | H4: 금 액 | I4: 단 가 | J4: 금 액 | K4: 단 가 | L4: 금 액 | N4: 손료요율 | O4: 손료구분 | P4: 적용구분 | Q4: 합계구분 | R4: 품목구분 | S4: 조달코드 | T4: 구분
A5: [일위 1호] - [이동식강관말비계 1개월,1단(2m) 1대] | M5: 공통2-7-6,2-2-5/26보완
A6: 비계안정장치 | B6: 비계안정장치, 비계기본틀, 기둥, 1.2×1.7m | C6: 개 | D6: 0.046666 | F6: =ROUNDDOWN(D6*E6, 1) -> 0 | H6: =ROUNDDOWN(D6*G6, 1) -> 0 | J6: =ROUNDDOWN(D6*I6, 1) -> 0 | K6: =E6+G6+I6 -> 0 | L6: =F6+H6+J6 -> 0 | M6: 자재 46호 | O6: 01 | P6: 기계경비 | Q6: 1
A7: 비계안정장치 | B7: 비계안정장치, 가새, L=1518-2개 | C7: 조 | D7: 0.046666 | F7: =ROUNDDOWN(D7*E7, 1) -> 0 | H7: =ROUNDDOWN(D7*G7, 1) -> 0 | J7: =ROUNDDOWN(D7*I7, 1) -> 0 | K7: =E7+G7+I7 -> 0 | L7: =F7+H7+J7 -> 0 | M7: 자재 44호 | O7: 01 | P7: 기계경비 | Q7: 1
A8: 비계안정장치 | B8: 비계안정장치, 수평띠장, 1829mm | C8: 개 | D8: 0.093333 | F8: =ROUNDDOWN(D8*E8, 1) -> 0 | H8: =ROUNDDOWN(D8*G8, 1) -> 0 | J8: =ROUNDDOWN(D8*I8, 1) -> 0 | K8: =E8+G8+I8 -> 0 | L8: =F8+H8+J8 -> 0 | M8: 자재 50호 | O8: 01 | P8: 기계경비 | Q8: 1
A9: 비계안정장치 | B9: 비계안정장치, 손잡이기둥 | C9: 개 | D9: 0.093333 | F9: =ROUNDDOWN(D9*E9, 1) -> 0 | H9: =ROUNDDOWN(D9*G9, 1) -> 0 | J9: =ROUNDDOWN(D9*I9, 1) -> 0 | K9: =E9+G9+I9 -> 0 | L9: =F9+H9+J9 -> 0 | M9: 자재 49호 | O9: 01 | P9: 기계경비 | Q9: 1
A10: 비계안정장치 | B10: 비계안정장치, 손잡이, 1229mm | C10: 개 | D10: 0.046666 | F10: =ROUNDDOWN(D10*E10, 1) -> 0 | H10: =ROUNDDOWN(D10*G10, 1) -> 0 | J10: =ROUNDDOWN(D10*I10, 1) -> 0 | K10: =E10+G10+I10 -> 0 | L10: =F10+H10+J10 -> 0 | M10: 자재 47호 | O10: 01 | P10: 기계경비 | Q10: 1
A11: 비계안정장치 | B11: 비계안정장치, 손잡이, 1829mm | C11: 개 | D11: 0.093333 | F11: =ROUNDDOWN(D11*E11, 1) -> 0 | H11: =ROUNDDOWN(D11*G11, 1) -> 0 | J11: =ROUNDDOWN(D11*I11, 1) -> 0 | K11: =E11+G11+I11 -> 0 | L11: =F11+H11+J11 -> 0 | M11: 자재 48호 | O11: 01 | P11: 기계경비 | Q11: 1
A12: 비계안정장치 | B12: 비계안정장치, 바퀴 | C12: 개 | D12: 0.12 | F12: =ROUNDDOWN(D12*E12, 1) -> 0 | H12: =ROUNDDOWN(D12*G12, 1) -> 0 | J12: =ROUNDDOWN(D12*I12, 1) -> 0 | K12: =E12+G12+I12 -> 0 | L12: =F12+H12+J12 -> 0 | M12: 자재 45호 | O12: 01 | P12: 기계경비 | Q12: 1
A13: 비계안정장치 | B13: 비계안정장치, 쟈키 | C13: 개 | D13: 0.12 | F13: =ROUNDDOWN(D13*E13, 1) -> 0 | H13: =ROUNDDOWN(D13*G13, 1) -> 0 | J13: =ROUNDDOWN(D13*I13, 1) -> 0 | K13: =E13+G13+I13 -> 0 | L13: =F13+H13+J13 -> 0 | M13: 자재 51호 | O13: 01 | P13: 기계경비 | Q13: 1
A14: 계단식발판 | B14: 계단식발판, 볼록철판, 0.4×1829mm | C14: 매 | D14: 0.21 | F14: =ROUNDDOWN(D14*E14, 1) -> 0 | H14: =ROUNDDOWN(D14*G14, 1) -> 0 | J14: =ROUNDDOWN(D14*I14, 1) -> 0 | K14: =E14+G14+I14 -> 0 | L14: =F14+H14+J14 -> 0 | M14: 자재 12호 | O14: 01 | P14: 기계경비 | Q14: 1
A15: 비계공 | B15: 일반공사 직종 | C15: 인 | D15: 0.2 | F15: =ROUNDDOWN(D15*E15, 1) -> 0 | H15: =ROUNDDOWN(D15*G15, 1) -> 0 | J15: =ROUNDDOWN(D15*I15, 1) -> 0 | K15: =E15+G15+I15 -> 0 | L15: =F15+H15+J15 -> 0 | M15: 노임 8호 | O15: 02 | P15: 기계경비 | Q15: 1
A16: 보통인부 | B16: 일반공사 직종 | C16: 인 | D16: 0.112 | F16: =ROUNDDOWN(D16*E16, 1) -> 0 | H16: =ROUNDDOWN(D16*G16, 1) -> 0 | J16: =ROUNDDOWN(D16*I16, 1) -> 0 | K16: =E16+G16+I16 -> 0 | L16: =F16+H16+J16 -> 0 | M16: 노임 7호 | O16: 02 | P16: 기계경비 | Q16: 1
A17: 합 계 | F17: =ROUNDDOWN(SUMIF(Q6:Q16, "1", F6:F16), 0) -> 0 | H17: =ROUNDDOWN(SUMIF(Q6:Q16, "1", H6:H16), 0) -> 0 | J17: =ROUNDDOWN(SUMIF(Q6:Q16, "1", J6:J16), 0) -> 0 | L17: =F17+H17+J17 -> 0
A19: [일위 2호] - [고소작업장비(스카이) 5TON(40m급) 일]
A20: 고소작업대임대료 | B20: 스카이, 5.0톤(45m급) | C20: 일 | D20: 1 | F20: =ROUNDDOWN(D20*E20, 1) -> 0 | H20: =ROUNDDOWN(D20*G20, 1) -> 0 | J20: =ROUNDDOWN(D20*I20, 1) -> 0 | K20: =E20+G20+I20 -> 0 | L20: =F20+H20+J20 -> 0 | M20: 경비 5호 | O20: 03 | P20: 기계경비 | Q20: 1
A21: 합 계 | F21: =ROUNDDOWN(SUMIF(Q20:Q20, "1", F20:F20), 0) -> 0 | H21: =ROUNDDOWN(SUMIF(Q20:Q20, "1", H20:H20), 0) -> 0 | J21: =ROUNDDOWN(SUMIF(Q20:Q20, "1", J20:J20), 0) -> 0 | L21: =F21+H21+J21 -> 0
A23: [일위 3호] - [장비기초대 설치 6,600×1,300×200,와이어메쉬 #8-150×150 개소]
A24: 레미콘 | B24: 레미콘, 대구, 25-18-12 | C24: ㎥ | D24: 1.75032 | F24: =ROUNDDOWN(D24*E24, 1) -> 0 | H24: =ROUNDDOWN(D24*G24, 1) -> 0 | J24: =ROUNDDOWN(D24*I24, 1) -> 0 | K24: =E24+G24+I24 -> 0 | L24: =F24+H24+J24 -> 0 | M24: 자재 24호 | O24: 01 | P24: 기계경비 | Q24: 1
A25: 레디믹스트콘크리트 타설 | B25: 인력운반타설, 무근구조물 | C25: M3 | D25: 1.716 | F25: =ROUNDDOWN(D25*E25, 1) -> 0 | H25: =ROUNDDOWN(D25*G25, 1) -> 0 | J25: =ROUNDDOWN(D25*I25, 1) -> 0 | K25: =E25+G25+I25 -> 0 | L25: =F25+H25+J25 -> 0 | M25: 일위 94호 | P25: 기계경비 | Q25: 1
A26: 합판거푸집 설치 및 해체 | B26: 보통 4회, 수직고 7m까지 | C26: M2 | D26: 3.16 | F26: =ROUNDDOWN(D26*E26, 1) -> 0 | H26: =ROUNDDOWN(D26*G26, 1) -> 0 | J26: =ROUNDDOWN(D26*I26, 1) -> 0 | K26: =E26+G26+I26 -> 0 | L26: =F26+H26+J26 -> 0 | M26: 일위 97호 | P26: 기계경비 | Q26: 1 | T26: ADA20100060S
A27: 와이어메쉬깔기 | B27: #8 -150*150 | C27: M2 | D27: 8.58 | F27: =ROUNDDOWN(D27*E27, 1) -> 0 | H27: =ROUNDDOWN(D27*G27, 1) -> 0 | J27: =ROUNDDOWN(D27*I27, 1) -> 0 | K27: =E27+G27+I27 -> 0 | L27: =F27+H27+J27 -> 0 | M27: 일위136호 | P27: 기계경비 | Q27: 1
A28: 합 계 | F28: =ROUNDDOWN(SUMIF(Q24:Q27, "1", F24:F27), 0) -> 0 | H28: =ROUNDDOWN(SUMIF(Q24:Q27, "1", H24:H27), 0) -> 0 | J28: =ROUNDDOWN(SUMIF(Q24:Q27, "1", J24:J27), 0) -> 0 | L28: =F28+H28+J28 -> 0
A30: [일위 4호] - [시멘트벽돌 쌓기 0.5B, 3.6m 이하 M2]
A31: 모르타르 배합(배합품 포함) | B31: 배합용적비1:3, 시멘트, 모래 별도 | C31: M3 | D31: 0.019 | F31: =ROUNDDOWN(D31*E31, 1) -> 0 | H31: =ROUNDDOWN(D31*G31, 1) -> 0 | J31: =ROUNDDOWN(D31*I31, 1) -> 0 | K31: =E31+G31+I31 -> 0 | L31: =F31+H31+J31 -> 0 | M31: 일위 90호 | P31: 기계경비 | Q31: 1
A32: 시멘트벽돌 쌓기(노무비) | B32: 0.5B, 3.6m 이하 | C32: M2 | D32: 1 | F32: =ROUNDDOWN(D32*E32, 1) -> 0 | H32: =ROUNDDOWN(D32*G32, 1) -> 0 | J32: =ROUNDDOWN(D32*I32, 1) -> 0 | K32: =E32+G32+I32 -> 0 | L32: =F32+H32+J32 -> 0 | M32: 일위106호 | P32: 기계경비 | Q32: 1
A33: 합 계 | F33: =ROUNDDOWN(SUMIF(Q31:Q32, "1", F31:F32), 0) -> 0 | H33: =ROUNDDOWN(SUMIF(Q31:Q32, "1", H31:H32), 0) -> 0 | J33: =ROUNDDOWN(SUMIF(Q31:Q32, "1", J31:J32), 0) -> 0 | L33: =F33+H33+J33 -> 0
A35: [일위 5호] - [벽돌소운반 인력, 1층 천매] | M35: 공통1-2-7.4
A36: 보통인부 | B36: 일반공사 직종 | C36: 인 | D36: 0.352 | F36: =ROUNDDOWN(D36*E36, 1) -> 0 | H36: =ROUNDDOWN(D36*G36, 1) -> 0 | J36: =ROUNDDOWN(D36*I36, 1) -> 0 | K36: =E36+G36+I36 -> 0 | L36: =F36+H36+J36 -> 0 | M36: 노임 7호 | O36: 02 | P36: 기계경비 | Q36: 1
A37: 합 계 | F37: =ROUNDDOWN(SUMIF(Q36:Q36, "1", F36:F36), 0) -> 0 | H37: =ROUNDDOWN(SUMIF(Q36:Q36, "1", H36:H36), 0) -> 0 | J37: =ROUNDDOWN(SUMIF(Q36:Q36, "1", J36:J36), 0) -> 0 | L37: =F37+H37+J37 -> 0
A39: [일위 6호] - [벽돌소운반 인력, 3층 천매] | M39: 공통1-2-7.4
A40: 보통인부 | B40: 일반공사 직종 | C40: 인 | D40: 0.592 | F40: =ROUNDDOWN(D40*E40, 1) -> 0 | H40: =ROUNDDOWN(D40*G40, 1) -> 0 | J40: =ROUNDDOWN(D40*I40, 1) -> 0 | K40: =E40+G40+I40 -> 0 | L40: =F40+H40+J40 -> 0 | M40: 노임 7호 | O40: 02 | P40: 기계경비 | Q40: 1
A41: 합 계 | F41: =ROUNDDOWN(SUMIF(Q40:Q40, "1", F40:F40), 0) -> 0 | H41: =ROUNDDOWN(SUMIF(Q40:Q40, "1", H40:H40), 0) -> 0 | J41: =ROUNDDOWN(SUMIF(Q40:Q40, "1", J40:J40), 0) -> 0 | L41: =F41+H41+J41 -> 0
A43: [일위 7호] - [시멘트벽돌 쌓기 1.0B, 3.6m 이하 M2]
A44: 모르타르 배합(배합품 포함) | B44: 배합용적비1:3, 시멘트, 모래 별도 | C44: M3 | D44: 0.049 | F44: =ROUNDDOWN(D44*E44, 1) -> 0 | H44: =ROUNDDOWN(D44*G44, 1) -> 0 | J44: =ROUNDDOWN(D44*I44, 1) -> 0 | K44: =E44+G44+I44 -> 0 | L44: =F44+H44+J44 -> 0 | M44: 일위 90호 | P44: 기계경비 | Q44: 1
A45: 시멘트벽돌 쌓기(노무비) | B45: 1.0B, 3.6m 이하 | C45: M2 | D45: 1 | F45: =ROUNDDOWN(D45*E45, 1) -> 0 | H45: =ROUNDDOWN(D45*G45, 1) -> 0 | J45: =ROUNDDOWN(D45*I45, 1) -> 0 | K45: =E45+G45+I45 -> 0 | L45: =F45+H45+J45 -> 0 | M45: 일위133호 | P45: 기계경비 | Q45: 1
A46: 합 계 | F46: =ROUNDDOWN(SUMIF(Q44:Q45, "1", F44:F45), 0) -> 0 | H46: =ROUNDDOWN(SUMIF(Q44:Q45, "1", H44:H45), 0) -> 0 | J46: =ROUNDDOWN(SUMIF(Q44:Q45, "1", J44:J45), 0) -> 0 | L46: =F46+H46+J46 -> 0
A48: [일위 8호] - [철근콘크리트인방 200×200 M]
A49: 레미콘(대구권) | B49: 25-24-150 | C49: M3 | D49: 0.04 | F49: =ROUNDDOWN(D49*E49, 1) -> 0 | H49: =ROUNDDOWN(D49*G49, 1) -> 0 | J49: =ROUNDDOWN(D49*I49, 1) -> 0 | K49: =E49+G49+I49 -> 0 | L49: =F49+H49+J49 -> 0 | M49: 자재 25호 | O49: 01 | P49: 기계경비 | Q49: 1 | T49: 관급
A50: 레디믹스트콘크리트 타설(인력운반 타설) | B50: 소형구조물 | C50: M3 | D50: 0.04 | F50: =ROUNDDOWN(D50*E50, 1) -> 0 | H50: =ROUNDDOWN(D50*G50, 1) -> 0 | J50: =ROUNDDOWN(D50*I50, 1) -> 0 | K50: =E50+G50+I50 -> 0 | L50: =F50+H50+J50 -> 0 | M50: 일위134호 | P50: 기계경비 | Q50: 1 | T50: ADF00000030S
A51: 합판거푸집 | B51: 매우복잡/소규모, 0-7m이하 | C51: M2 | D51: 0.6 | F51: =ROUNDDOWN(D51*E51, 1) -> 0 | H51: =ROUNDDOWN(D51*G51, 1) -> 0 | J51: =ROUNDDOWN(D51*I51, 1) -> 0 | K51: =E51+G51+I51 -> 0 | L51: =F51+H51+J51 -> 0 | M51: 일위129호 | O51: 01 | P51: 기계경비 | Q51: 1
A52: 이형철근 | B52: HD-10 SD400 | C52: TON | D52: 0.0023 | F52: =ROUNDDOWN(D52*E52, 1) -> 0 | H52: =ROUNDDOWN(D52*G52, 1) -> 0 | J52: =ROUNDDOWN(D52*I52, 1) -> 0 | K52: =E52+G52+I52 -> 0 | L52: =F52+H52+J52 -> 0 | M52: 자재 72호 | O52: 01 | P52: 기계경비 | Q52: 1 | T52: 관급
A53: 이형철근 | B53: HD-16 SD400 | C53: TON | D53: 0.0064 | F53: =ROUNDDOWN(D53*E53, 1) -> 0 | H53: =ROUNDDOWN(D53*G53, 1) -> 0 | J53: =ROUNDDOWN(D53*I53, 1) -> 0 | K53: =E53+G53+I53 -> 0 | L53: =F53+H53+J53 -> 0 | M53: 자재 73호 | O53: 01 | P53: 기계경비 | Q53: 1 | T53: 관급
A54: 철강설 | B54: 철강설, 고철, 작업설부산물 | C54: kg | D54: 0.18 | F54: =ROUNDDOWN(D54*E54, 1) -> 0 | H54: =ROUNDDOWN(D54*G54, 1) -> 0 | J54: =ROUNDDOWN(D54*I54, 1) -> 0 | K54: =E54+G54+I54 -> 0 | L54: =F54+H54+J54 -> 0 | M54: 자재 81호 | O54: 01 | P54: 기계경비 | Q54: 1
A55: 철근 현장가공 및 조립(건축) | B55: 보통가공 및 조립 | C55: TON | D55: 0.0084 | F55: =ROUNDDOWN(D55*E55, 1) -> 0 | H55: =ROUNDDOWN(D55*G55, 1) -> 0 | J55: =ROUNDDOWN(D55*I55, 1) -> 0 | K55: =E55+G55+I55 -> 0 | L55: =F55+H55+J55 -> 0 | M55: 일위135호 | P55: 기계경비 | Q55: 1 | T55: ADB00000030S
A56: 합 계 | F56: =ROUNDDOWN(SUMIF(Q49:Q55, "1", F49:F55), 0) -> 0 | H56: =ROUNDDOWN(SUMIF(Q49:Q55, "1", H49:H55), 0) -> 0 | J56: =ROUNDDOWN(SUMIF(Q49:Q55, "1", J49:J55), 0) -> 0 | L56: =F56+H56+J56 -> 0
A58: [일위 9호] - [화강석붙임(수전턱,습식) 수마,인조대리석 120×20mm,모르타르 30mm M]
A59: 미라톤 | B59: 네오칼라 20mm | C59: M2 | D59: 0.154 | F59: =ROUNDDOWN(D59*E59, 1) -> 0 | H59: =ROUNDDOWN(D59*G59, 1) -> 0 | J59: =ROUNDDOWN(D59*I59, 1) -> 0 | K59: =E59+G59+I59 -> 0 | L59: =F59+H59+J59 -> 0 | M59: 자재 32호 | O59: 01 | P59: 기계경비 | Q59: 1
A60: 모르타르 배합(배합품 포함) | B60: 배합용적비1:3, 시멘트, 모래 별도 | C60: M3 | D60: 0.0036 | F60: =ROUNDDOWN(D60*E60, 1) -> 0 | H60: =ROUNDDOWN(D60*G60, 1) -> 0 | J60: =ROUNDDOWN(D60*I60, 1) -> 0 | K60: =E60+G60+I60 -> 0 | L60: =F60+H60+J60 -> 0 | M60: 일위 90호 | P60: 기계경비 | Q60: 1
A61: 습식공법 - 화강석 | B61: 바닥, 자재 별도 | C61: M2 | D61: 0.12 | F61: =ROUNDDOWN(D61*E61, 1) -> 0 | H61: =ROUNDDOWN(D61*G61, 1) -> 0 | J61: =ROUNDDOWN(D61*I61, 1) -> 0 | K61: =E61+G61+I61 -> 0 | L61: =F61+H61+J61 -> 0 | M61: 일위 89호 | P61: 기계경비 | Q61: 1
A62: 합 계 | F62: =ROUNDDOWN(SUMIF(Q59:Q61, "1", F59:F61), 0) -> 0 | H62: =ROUNDDOWN(SUMIF(Q59:Q61, "1", H59:H61), 0) -> 0 | J62: =ROUNDDOWN(SUMIF(Q59:Q61, "1", J59:J61), 0) -> 0 | L62: =F62+H62+J62 -> 0
A64: [일위 10호] - [벽,띠장설치(미송) 30×30,@450×450 M2] | M64: 건축12-6-1
A65: 각재 | B65: 각재, 미송 | C65: 재 | D65: 1.26 | F65: =ROUNDDOWN(D65*E65, 1) -> 0 | H65: =ROUNDDOWN(D65*G65, 1) -> 0 | J65: =ROUNDDOWN(D65*I65, 1) -> 0 | K65: =E65+G65+I65 -> 0 | L65: =F65+H65+J65 -> 0 | M65: 자재 3호 | O65: 01 | P65: 기계경비 | Q65: 1
A66: 벽체틀 설치 | B66: 자재 별도 | C66: M2 | D66: 1 | F66: =ROUNDDOWN(D66*E66, 1) -> 0 | H66: =ROUNDDOWN(D66*G66, 1) -> 0 | J66: =ROUNDDOWN(D66*I66, 1) -> 0 | K66: =E66+G66+I66 -> 0 | L66: =F66+H66+J66 -> 0 | M66: 일위107호 | P66: 기계경비 | Q66: 1 | T66: AIB30000010S
A67: 합 계 | F67: =ROUNDDOWN(SUMIF(Q65:Q66, "1", F65:F66), 0) -> 0 | H67: =ROUNDDOWN(SUMIF(Q65:Q66, "1", H65:H66), 0) -> 0 | J67: =ROUNDDOWN(SUMIF(Q65:Q66, "1", J65:J66), 0) -> 0 | L67: =F67+H67+J67 -> 0
A69: [일위 11호] - [수밀코킹(실리콘) 10mm, 창호주위(양면) M]
A70: 실링재 | B70: 실링재, 실리콘, 비초산, 유리용, 창호주위 | C70: L | D70: 0.12 | F70: =ROUNDDOWN(D70*E70, 1) -> 0 | H70: =ROUNDDOWN(D70*G70, 1) -> 0 | J70: =ROUNDDOWN(D70*I70, 1) -> 0 | K70: =E70+G70+I70 -> 0 | L70: =F70+H70+J70 -> 0 | M70: 자재 65호 | O70: 01 | P70: 기계경비 | Q70: 1
A71: 수밀코킹(시공비) | B71: (양면),재료비 별도 | C71: M | D71: 1 | F71: =ROUNDDOWN(D71*E71, 1) -> 0 | H71: =ROUNDDOWN(D71*G71, 1) -> 0 | J71: =ROUNDDOWN(D71*I71, 1) -> 0 | K71: =E71+G71+I71 -> 0 | L71: =F71+H71+J71 -> 0 | M71: 일위 65호 | P71: 기계경비 | Q71: 1 | T71: 무성적산
A72: 합 계 | F72: =ROUNDDOWN(SUMIF(Q70:Q71, "1", F70:F71), 0) -> 0 | H72: =ROUNDDOWN(SUMIF(Q70:Q71, "1", H70:H71), 0) -> 0 | J72: =ROUNDDOWN(SUMIF(Q70:Q71, "1", J70:J71), 0) -> 0 | L72: =F72+H72+J72 -> 0
A74: [일위 12호] - [구멍뚫기(코어드릴) D150, 콘크리트 150㎜ 개소] | M74: 설비9-3-2
A75: 착암공 | B75: 일반공사 직종 | C75: 인 | D75: 0.168 | F75: =ROUNDDOWN(D75*E75, 1) -> 0 | H75: =ROUNDDOWN(D75*G75, 1) -> 0 | J75: =ROUNDDOWN(D75*I75, 1) -> 0 | K75: =E75+G75+I75 -> 0 | L75: =F75+H75+J75 -> 0 | M75: 노임 15호 | O75: 02 | P75: 기계경비 | Q75: 1
A76: 보통인부 | B76: 일반공사 직종 | C76: 인 | D76: 0.168 | F76: =ROUNDDOWN(D76*E76, 1) -> 0 | H76: =ROUNDDOWN(D76*G76, 1) -> 0 | J76: =ROUNDDOWN(D76*I76, 1) -> 0 | K76: =E76+G76+I76 -> 0 | L76: =F76+H76+J76 -> 0 | M76: 노임 7호 | O76: 02 | P76: 기계경비 | Q76: 1
A77: 공구손료 | B77: ="인력품의 " & N77*100 & "%" -> 인력품의 2% | C77: 식 | D77: 1 | F77: =ROUNDDOWN((E77)*N77, 1) -> 0 | H77: 0 | J77: 0 | K77: =E77+G77+I77 -> 0 | L77: =F77+H77+J77 -> 0 | N77: 0.02 | P77: 기계경비 | Q77: 1 | R77: 23 | S77: A0200000000 | T77: 재료비
A78: 합 계 | F78: =ROUNDDOWN(SUMIF(Q75:Q77, "1", F75:F77), 0) -> 0 | H78: =ROUNDDOWN(SUMIF(Q75:Q77, "1", H75:H77), 0) -> 0 | J78: =ROUNDDOWN(SUMIF(Q75:Q77, "1", J75:J77), 0) -> 0 | L78: =F78+H78+J78 -> 0
A80: [일위 13호] - [루프드레인설치 수직형 150mm 개소] | M80: 건축7-3-1
A81: 루프드레인 | B81: 루프드레인, ISRD1610, 150mm | C81: 개 | D81: 1 | F81: =ROUNDDOWN(D81*E81, 1) -> 0 | H81: =ROUNDDOWN(D81*G81, 1) -> 0 | J81: =ROUNDDOWN(D81*I81, 1) -> 0 | K81: =E81+G81+I81 -> 0 | L81: =F81+H81+J81 -> 0 | M81: 자재 26호 | O81: 01 | P81: 기계경비 | Q81: 1
A82: 잡재료비 | B82: ="주재료비의 " & N82*100 & "%" -> 주재료비의 2% | C82: 식 | D82: 1 | F82: =ROUNDDOWN((E82)*N82, 1) -> 0 | H82: 0 | J82: 0 | K82: =E82+G82+I82 -> 0 | L82: =F82+H82+J82 -> 0 | N82: 0.02 | P82: 기계경비 | Q82: 1 | R82: 20 | S82: A0100000000 | T82: 재료비
A83: 루프드레인설치 | B83: 재료별도 | C83: 개소 | D83: 1 | F83: =ROUNDDOWN(D83*E83, 1) -> 0 | H83: =ROUNDDOWN(D83*G83, 1) -> 0 | J83: =ROUNDDOWN(D83*I83, 1) -> 0 | K83: =E83+G83+I83 -> 0 | L83: =F83+H83+J83 -> 0 | M83: 일위125호 | P83: 기계경비 | Q83: 1
A84: 합 계 | F84: =ROUNDDOWN(SUMIF(Q81:Q83, "1", F81:F83), 0) -> 0 | H84: =ROUNDDOWN(SUMIF(Q81:Q83, "1", H81:H83), 0) -> 0 | J84: =ROUNDDOWN(SUMIF(Q81:Q83, "1", J81:J83), 0) -> 0 | L84: =F84+H84+J84 -> 0
A86: [일위 14호] - [스텐레스선홈통 Ø150 M] | M86: 건축7-2-3
A87: 배관용스테인리스강관 | B87: 배관용스테인리스강관, Φ150×2.0mm | C87: m | D87: 1.05 | F87: =ROUNDDOWN(D87*E87, 1) -> 0 | H87: =ROUNDDOWN(D87*G87, 1) -> 0 | J87: =ROUNDDOWN(D87*I87, 1) -> 0 | K87: =E87+G87+I87 -> 0 | L87: =F87+H87+J87 -> 0 | M87: 자재 36호 | O87: 01 | P87: 기계경비 | Q87: 1
A88: 일반철물 | B88: 일반철물, 선홈통지지철물, STS | C88: 개 | D88: 0.65 | F88: =ROUNDDOWN(D88*E88, 1) -> 0 | H88: =ROUNDDOWN(D88*G88, 1) -> 0 | J88: =ROUNDDOWN(D88*I88, 1) -> 0 | K88: =E88+G88+I88 -> 0 | L88: =F88+H88+J88 -> 0 | M88: 자재 76호 | O88: 01 | P88: 기계경비 | Q88: 1
A89: 배관공 | B89: 일반공사 직종 | C89: 인 | D89: 0.072 | F89: =ROUNDDOWN(D89*E89, 1) -> 0 | H89: =ROUNDDOWN(D89*G89, 1) -> 0 | J89: =ROUNDDOWN(D89*I89, 1) -> 0 | K89: =E89+G89+I89 -> 0 | L89: =F89+H89+J89 -> 0 | M89: 노임 6호 | O89: 02 | P89: 기계경비 | Q89: 1
A90: 보통인부 | B90: 일반공사 직종 | C90: 인 | D90: 0.016 | F90: =ROUNDDOWN(D90*E90, 1) -> 0 | H90: =ROUNDDOWN(D90*G90, 1) -> 0 | J90: =ROUNDDOWN(D90*I90, 1) -> 0 | K90: =E90+G90+I90 -> 0 | L90: =F90+H90+J90 -> 0 | M90: 노임 7호 | O90: 02 | P90: 기계경비 | Q90: 1
A91: 공구손료 및 경장비의 기계경비 | B91: ="인력품의 " & N91*100 & "%" -> 인력품의 2% | C91: 식 | D91: 1 | F91: 0 | H91: 0 | J91: =ROUNDDOWN((I91)*N91, 1) -> 0 | K91: =E91+G91+I91 -> 0 | L91: =F91+H91+J91 -> 0 | N91: 0.02 | P91: 기계경비 | Q91: 1 | R91: 25 | S91: A0200000000 | T91: 경비
A92: 합 계 | F92: =ROUNDDOWN(SUMIF(Q87:Q91, "1", F87:F91), 0) -> 0 | H92: =ROUNDDOWN(SUMIF(Q87:Q91, "1", H87:H91), 0) -> 0 | J92: =ROUNDDOWN(SUMIF(Q87:Q91, "1", J87:J91), 0) -> 0 | L92: =F92+H92+J92 -> 0
A94: [일위 15호] - [처마홈통설치(스텐) (200+200+300+500+300)×1.5t M]
A95: 스텐강판설치(규격철물) | B95: 스테인리스강판, STS304, 1.5mm | C95: M2 | D95: 1.5 | F95: =ROUNDDOWN(D95*E95, 1) -> 0 | H95: =ROUNDDOWN(D95*G95, 1) -> 0 | J95: =ROUNDDOWN(D95*I95, 1) -> 0 | K95: =E95+G95+I95 -> 0 | L95: =F95+H95+J95 -> 0 | M95: 일위102호 | P95: 기계경비 | Q95: 1
A96: ㄱ형강(철강앵글)설치(현장제작) | B96: ㄱ형강, 등변, 40×40×5mm, 방청+유성페인트 | C96: M | D96: 1.5 | F96: =ROUNDDOWN(D96*E96, 1) -> 0 | H96: =ROUNDDOWN(D96*G96, 1) -> 0 | J96: =ROUNDDOWN(D96*I96, 1) -> 0 | K96: =E96+G96+I96 -> 0 | L96: =F96+H96+J96 -> 0 | M96: 일위103호 | P96: 기계경비 | Q96: 1
A97: 합 계 | F97: =ROUNDDOWN(SUMIF(Q95:Q96, "1", F95:F96), 0) -> 0 | H97: =ROUNDDOWN(SUMIF(Q95:Q96, "1", H95:H96), 0) -> 0 | J97: =ROUNDDOWN(SUMIF(Q95:Q96, "1", J95:J96), 0) -> 0 | L97: =F97+H97+J97 -> 0
A99: [일위 16호] - [ㄱ형강(철강앵글)설치(현장제작) ㄱ형강, 등변, 100×100×7mm, 방청페인트 M]
A100: ㄱ형강 | B100: ㄱ형강, 등변, 100×100×7mm | C100: kg | D100: 11.23 | F100: =ROUNDDOWN(D100*E100, 1) -> 0 | H100: =ROUNDDOWN(D100*G100, 1) -> 0 | J100: =ROUNDDOWN(D100*I100, 1) -> 0 | K100: =E100+G100+I100 -> 0 | L100: =F100+H100+J100 -> 0 | M100: 자재 1호 | O100: 01 | P100: 기계경비 | Q100: 1
A101: 잡철물 제작 및 설치(현장제작 설치) | B101: 일반철재 | C101: kg | D101: 10.7 | F101: =ROUNDDOWN(D101*E101, 1) -> 0 | H101: =ROUNDDOWN(D101*G101, 1) -> 0 | J101: =ROUNDDOWN(D101*I101, 1) -> 0 | K101: =E101+G101+I101 -> 0 | L101: =F101+H101+J101 -> 0 | M101: 일위 79호 | P101: 기계경비 | Q101: 1
A102: 녹막이페인트칠 | B102: 1회.1종 | C102: M2 | D102: 0.4 | F102: =ROUNDDOWN(D102*E102, 1) -> 0 | H102: =ROUNDDOWN(D102*G102, 1) -> 0 | J102: =ROUNDDOWN(D102*I102, 1) -> 0 | K102: =E102+G102+I102 -> 0 | L102: =F102+H102+J102 -> 0 | M102: 일위 78호 | P102: 기계경비 | Q102: 1
A103: 철강설 | B103: 철강설, 고철, 작업설부산물 | C103: kg | D103: 0.352 | F103: =ROUNDDOWN(D103*E103, 1) -> 0 | H103: =ROUNDDOWN(D103*G103, 1) -> 0 | J103: =ROUNDDOWN(D103*I103, 1) -> 0 | K103: =E103+G103+I103 -> 0 | L103: =F103+H103+J103 -> 0 | M103: 자재 81호 | O103: 01 | P103: 기계경비 | Q103: 1
A104: 합 계 | F104: =ROUNDDOWN(SUMIF(Q100:Q103, "1", F100:F103), 0) -> 0 | H104: =ROUNDDOWN(SUMIF(Q100:Q103, "1", H100:H103), 0) -> 0 | J104: =ROUNDDOWN(SUMIF(Q100:Q103, "1", J100:J103), 0) -> 0 | L104: =F104+H104+J104 -> 0
A106: [일위 17호] - [아연도각형강관설치 2.3T(현장제작) 아연도각관, 50×50×2.3t M]
A107: 기계구조용합금강강관 | B107: 기계구조용합금강강관, 아연도각관, 50×50×2.3mm | C107: m | D107: 1.05 | F107: =ROUNDDOWN(D107*E107, 1) -> 0 | H107: =ROUNDDOWN(D107*G107, 1) -> 0 | J107: =ROUNDDOWN(D107*I107, 1) -> 0 | K107: =E107+G107+I107 -> 0 | L107: =F107+H107+J107 -> 0 | M107: 자재 15호 | O107: 01 | P107: 기계경비 | Q107: 1
A108: 잡철물 제작 및 설치(현장제작 설치) | B108: 일반철재 | C108: kg | D108: 3.34 | F108: =ROUNDDOWN(D108*E108, 1) -> 0 | H108: =ROUNDDOWN(D108*G108, 1) -> 0 | J108: =ROUNDDOWN(D108*I108, 1) -> 0 | K108: =E108+G108+I108 -> 0 | L108: =F108+H108+J108 -> 0 | M108: 일위 79호 | P108: 기계경비 | Q108: 1
A109: 철강설 | B109: 철강설, 고철, 작업설부산물 | C109: kg | D109: 0.116 | F109: =ROUNDDOWN(D109*E109, 1) -> 0 | H109: =ROUNDDOWN(D109*G109, 1) -> 0 | J109: =ROUNDDOWN(D109*I109, 1) -> 0 | K109: =E109+G109+I109 -> 0 | L109: =F109+H109+J109 -> 0 | M109: 자재 81호 | O109: 01 | P109: 기계경비 | Q109: 1
A110: 합 계 | F110: =ROUNDDOWN(SUMIF(Q107:Q109, "1", F107:F109), 0) -> 0 | H110: =ROUNDDOWN(SUMIF(Q107:Q109, "1", H107:H109), 0) -> 0 | J110: =ROUNDDOWN(SUMIF(Q107:Q109, "1", J107:J109), 0) -> 0 | L110: =F110+H110+J110 -> 0
A112: [일위 18호] - [샌드위치(단열)패널설치 지붕, 50T:준불연,징크판넬 M2]
A113: 샌드위치패널 | B113: 준불연 EPS 패널, 벽체 징크판넬 50T | C113: M2 | D113: 1.05 | F113: =ROUNDDOWN(D113*E113, 1) -> 0 | H113: =ROUNDDOWN(D113*G113, 1) -> 0 | J113: =ROUNDDOWN(D113*I113, 1) -> 0 | K113: =E113+G113+I113 -> 0 | L113: =F113+H113+J113 -> 0 | M113: 자재 52호 | O113: 01 | P113: 기계경비 | Q113: 1 | T113: 무성적산
A114: 잡재료비 | B114: ="주재료비의 " & N114*100 & "%" -> 주재료비의 5% | C114: 식 | D114: 1 | F114: =ROUNDDOWN((E114)*N114, 1) -> 0 | H114: 0 | J114: 0 | K114: =E114+G114+I114 -> 0 | L114: =F114+H114+J114 -> 0 | N114: 0.05 | P114: 기계경비 | Q114: 1 | R114: 20 | S114: A0100000000 | T114: 재료비
A115: 샌드위치(단열)패널 설치 - 지붕 | B115: 두께 50~100mm 기준 | C115: M2 | D115: 1 | F115: =ROUNDDOWN(D115*E115, 1) -> 0 | H115: =ROUNDDOWN(D115*G115, 1) -> 0 | J115: =ROUNDDOWN(D115*I115, 1) -> 0 | K115: =E115+G115+I115 -> 0 | L115: =F115+H115+J115 -> 0 | M115: 일위 98호 | P115: 기계경비 | Q115: 1 | T115: AOJ41500010S
A116: 합 계 | F116: =ROUNDDOWN(SUMIF(Q113:Q115, "1", F113:F115), 0) -> 0 | H116: =ROUNDDOWN(SUMIF(Q113:Q115, "1", H113:H115), 0) -> 0 | J116: =ROUNDDOWN(SUMIF(Q113:Q115, "1", J113:J115), 0) -> 0 | L116: =F116+H116+J116 -> 0
A118: [일위 19호] - [징크판넬 설치 후레싱,0.45T W=300,시공비포함 M]
...

Sheet 중기경비목록
A1: 중 기 경 비 목 록
A2: 공사명 : (대학혁신지원사업) 스미스관 교육 환경개선 공사
A3: 호 표 | B3: 품 명 | C3: 규 격 | D3: 단위 | E3: 수량 | F3: 재 료 비 | H3: 노 무 비 | J3: 경 비 | L3: 합 계 | N3: 비 고
F4: 단 가 | G4: 금 액 | H4: 단 가 | I4: 금 액 | J4: 단 가 | K4: 금 액 | L4: 단 가 | M4: 금 액 | O4: 구분
A5: 중기 1호 | B5: 석면폐기물상차비 | C5: 2.0톤(지게차) | D5: HR | E5: 1 | F5: =중기경비!F16 -> 0 | G5: =E5*F5 -> 0 | H5: =중기경비!H16 -> 0 | I5: =E5*H5 -> 0 | J5: =중기경비!J16 -> 0 | K5: =E5*J5 -> 0 | L5: =F5+H5+J5 -> 0 | M5: =G5+I5+K5 -> 0 | N5: 토목9-2,9-3 | O5: 경북교
A6: 중기 2호 | B6: 크레인(타이어) | C6: 20ton | D6: HR | E6: 1 | F6: =중기경비!F29 -> 0 | G6: =E6*F6 -> 0 | H6: =중기경비!H29 -> 0 | I6: =E6*H6 -> 0 | J6: =중기경비!J29 -> 0 | K6: =E6*J6 -> 0 | L6: =F6+H6+J6 -> 0 | M6: =G6+I6+K6 -> 0 | N6: 공통8-4-3,8-3-3(2104)
A7: 중기 3호 | B7: 공기압축기(이동식) | C7: 3.5㎥/min | D7: HR | E7: 1 | F7: =중기경비!F42 -> 0 | G7: =E7*F7 -> 0 | H7: =중기경비!H42 -> 0 | I7: =E7*H7 -> 0 | J7: =중기경비!J42 -> 0 | K7: =E7*J7 -> 0 | L7: =F7+H7+J7 -> 0 | M7: =G7+I7+K7 -> 0 | N7: 공통8-4-6,8-3-6(5205)
A8: 중기 4호 | B8: 소형브레이커(공압식) | C8: 1.3㎥/min | D8: HR | E8: 1 | F8: =중기경비!F48 -> 0 | G8: =E8*F8 -> 0 | H8: =중기경비!H48 -> 0 | I8: =E8*H8 -> 0 | J8: =중기경비!J48 -> 0 | K8: =E8*J8 -> 0 | L8: =F8+H8+J8 -> 0 | M8: =G8+I8+K8 -> 0 | N8: 공통8-3-6(5210)
A9: 중기 5호 | B9: 커터(콘크리트 및 아스팔트용) | C9: 320∼400mm | D9: HR | E9: 1 | F9: =중기경비!F61 -> 0 | G9: =E9*F9 -> 0 | H9: =중기경비!H61 -> 0 | I9: =E9*H9 -> 0 | J9: =중기경비!J61 -> 0 | K9: =E9*J9 -> 0 | L9: =F9+H9+J9 -> 0 | M9: =G9+I9+K9 -> 0 | N9: 공통8-4-5,8-3-5(4430)
A10: 중기 6호 | B10: 소형브레이커(공압식) | C10: 1.3㎥/min | D10: HR | E10: 1 | F10: =중기경비!F67 -> 0 | G10: =E10*F10 -> 0 | H10: =중기경비!H67 -> 0 | I10: =E10*H10 -> 0 | J10: =중기경비!J67 -> 0 | K10: =E10*J10 -> 0 | L10: =F10+H10+J10 -> 0 | M10: =G10+I10+K10 -> 0 | N10: 공통8-3-6(5210) | O10: 1750

Sheet 중기경비
A1: 중 기 경 비
A2: 공사명 : (대학혁신지원사업) 스미스관 교육 환경개선 공사
A3: 품 명 | B3: 규 격 | C3: 단위 | D3: 수 량 | E3: 재 료 비 | G3: 노 무 비 | I3: 경 비 | K3: 합 계 | M3: 비 고
E4: 단 가 | F4: 금 액 | G4: 단 가 | H4: 금 액 | I4: 단 가 | J4: 금 액 | K4: 단 가 | L4: 금 액 | N4: 손료요율 | O4: 손료구분 | P4: 적용구분 | Q4: 합계구분 | R4: 품목구분 | S4: 조달코드 | T4: 구분
A5: [중기 1호] - [석면폐기물상차비 2.0톤(지게차) HR] | M5: 토목9-2,9-3
A6: [경 비] | F6: =ROUNDDOWN(D6*E6, 1) -> 0 | H6: =ROUNDDOWN(D6*G6, 1) -> 0 | J6: =ROUNDDOWN(D6*I6, 1) -> 0 | K6: =E6+G6+I6 -> 0 | L6: =F6+H6+J6 -> 0
A7: 지게차 | B7: 2ton | C7: 대 | D7: 0.00015 | F7: =ROUNDDOWN(D7*E7, 1) -> 0 | H7: =ROUNDDOWN(D7*G7, 1) -> 0 | J7: =ROUNDDOWN(D7*I7, 1) -> 0 | K7: =E7+G7+I7 -> 0 | L7: =F7+H7+J7 -> 0 | M7: 경비 18호 | O7: 03 | P7: 기계경비 | Q7: 1
A8: 소 계 | F8: =SUMIF(Q6:Q7, "1", F6:F7) -> 0 | H8: =SUMIF(Q6:Q7, "1", H6:H7) -> 0 | J8: =SUMIF(Q6:Q7, "1", J6:J7) -> 0 | K8: =E8+G8+I8 -> 0 | L8: =F8+H8+J8 -> 0
A9: [재료비] | F9: =ROUNDDOWN(D9*E9, 1) -> 0 | H9: =ROUNDDOWN(D9*G9, 1) -> 0 | J9: =ROUNDDOWN(D9*I9, 1) -> 0 | K9: =E9+G9+I9 -> 0 | L9: =F9+H9+J9 -> 0
A10: 경유 | B10: 저유황 | C10: L | D10: 4 | F10: =ROUNDDOWN(D10*E10, 1) -> 0 | H10: =ROUNDDOWN(D10*G10, 1) -> 0 | J10: =ROUNDDOWN(D10*I10, 1) -> 0 | K10: =E10+G10+I10 -> 0 | L10: =F10+H10+J10 -> 0 | M10: 자재 11호 | O10: 01 | P10: 기계경비 | Q10: 1
A11: 잡품 | B11: ="주연료비의 " & N11*100 & "%" -> 주연료비의 37% | C11: 식 | D11: 1 | F11: =ROUNDDOWN((E11)*N11, 1) -> 0 | H11: 0 | J11: 0 | K11: =E11+G11+I11 -> 0 | L11: =F11+H11+J11 -> 0 | N11: 0.37 | P11: 기계경비 | Q11: 1 | R11: 20 | S11: A0100000000
A12: 소 계 | F12: =SUMIF(Q9:Q11, "1", F9:F11) -> 0 | H12: =SUMIF(Q9:Q11, "1", H9:H11) -> 0 | J12: =SUMIF(Q9:Q11, "1", J9:J11) -> 0 | K12: =E12+G12+I12 -> 0 | L12: =F12+H12+J12 -> 0
A13: [노무비] | F13: =ROUNDDOWN(D13*E13, 1) -> 0 | H13: =ROUNDDOWN(D13*G13, 1) -> 0 | J13: =ROUNDDOWN(D13*I13, 1) -> 0 | K13: =E13+G13+I13 -> 0 | L13: =F13+H13+J13 -> 0
A14: 건설기계운전사 | B14: 일반공사 직종 | C14: 인 | D14: 0.1666667 | F14: =ROUNDDOWN(D14*E14, 1) -> 0 | H14: =ROUNDDOWN(D14*G14, 1) -> 0 | J14: =ROUNDDOWN(D14*I14, 1) -> 0 | K14: =E14+G14+I14 -> 0 | L14: =F14+H14+J14 -> 0 | M14: 노임 1호 | O14: 02 | P14: 기계경비 | Q14: 1
A15: 소 계 | F15: =SUMIF(Q13:Q14, "1", F13:F14) -> 0 | H15: =SUMIF(Q13:Q14, "1", H13:H14) -> 0 | J15: =SUMIF(Q13:Q14, "1", J13:J14) -> 0 | K15: =E15+G15+I15 -> 0 | L15: =F15+H15+J15 -> 0
A16: 합 계 | F16: =ROUNDDOWN(SUMIF(Q6:Q15, "1", F6:F15), 0) -> 0 | H16: =ROUNDDOWN(SUMIF(Q6:Q15, "1", H6:H15), 0) -> 0 | J16: =ROUNDDOWN(SUMIF(Q6:Q15, "1", J6:J15), 0) -> 0 | L16: =F16+H16+J16 -> 0
A18: [중기 2호] - [크레인(타이어) 20ton HR] | M18: 공통8-4-3,8-3-3(2104)
A19: [경 비] | F19: =ROUNDDOWN(D19*E19, 1) -> 0 | H19: =ROUNDDOWN(D19*G19, 1) -> 0 | J19: =ROUNDDOWN(D19*I19, 1) -> 0 | K19: =E19+G19+I19 -> 0 | L19: =F19+H19+J19 -> 0
A20: 크레인(타이어) | B20: 20 ton | C20: 대 | D20: 0.0002298 | F20: =ROUNDDOWN(D20*E20, 1) -> 0 | H20: =ROUNDDOWN(D20*G20, 1) -> 0 | J20: =ROUNDDOWN(D20*I20, 1) -> 0 | K20: =E20+G20+I20 -> 0 | L20: =F20+H20+J20 -> 0 | M20: 경비 20호 | O20: 03 | P20: 기계경비 | Q20: 1
A21: 소 계 | F21: =SUMIF(Q19:Q20, "1", F19:F20) -> 0 | H21: =SUMIF(Q19:Q20, "1", H19:H20) -> 0 | J21: =SUMIF(Q19:Q20, "1", J19:J20) -> 0 | K21: =E21+G21+I21 -> 0 | L21: =F21+H21+J21 -> 0
A22: [재료비] | F22: =ROUNDDOWN(D22*E22, 1) -> 0 | H22: =ROUNDDOWN(D22*G22, 1) -> 0 | J22: =ROUNDDOWN(D22*I22, 1) -> 0 | K22: =E22+G22+I22 -> 0 | L22: =F22+H22+J22 -> 0
A23: 경유 | B23: 경유, 저유황 | C23: L | D23: 5.4 | F23: =ROUNDDOWN(D23*E23, 1) -> 0 | H23: =ROUNDDOWN(D23*G23, 1) -> 0 | J23: =ROUNDDOWN(D23*I23, 1) -> 0 | K23: =E23+G23+I23 -> 0 | L23: =F23+H23+J23 -> 0 | M23: 자재 10호 | O23: 01 | P23: 기계경비 | Q23: 1
A24: 잡품 | B24: ="주연료비의 " & N24*100 & "%" -> 주연료비의 39% | C24: 식 | D24: 1 | F24: =ROUNDDOWN((E24)*N24, 1) -> 0 | H24: 0 | J24: 0 | K24: =E24+G24+I24 -> 0 | L24: =F24+H24+J24 -> 0 | M24: 재료비->재료비 | N24: 0.39 | P24: 기계경비 | Q24: 1 | R24: 20 | S24: A0100000000 | T24: 재료비
A25: 소 계 | F25: =SUMIF(Q22:Q24, "1", F22:F24) -> 0 | H25: =SUMIF(Q22:Q24, "1", H22:H24) -> 0 | J25: =SUMIF(Q22:Q24, "1", J22:J24) -> 0 | K25: =E25+G25+I25 -> 0 | L25: =F25+H25+J25 -> 0
A26: [노무비] | F26: =ROUNDDOWN(D26*E26, 1) -> 0 | H26: =ROUNDDOWN(D26*G26, 1) -> 0 | J26: =ROUNDDOWN(D26*I26, 1) -> 0 | K26: =E26+G26+I26 -> 0 | L26: =F26+H26+J26 -> 0
