Workbook

Sheet 원가계산서
A1: 공 사 원 가 계 산 서
A2: 공사명 : (대학혁신지원사업) 스미스관 교육 환경개선 공사
A3: 구 분 비 목 | D3: 구 성 비 | E3: 금 액 | F3: 비 고
A5: 순 공 사 원 가 | B5: 재료비 | C5: 직 접 재 료 비 | E5: =ROUNDDOWN(집계표!F25-집계표!AV25, 0) -> 0 | G5: A1 | H5: 0 | I5: =E5 -> 0
C6: 간 접 재 료 비 | E6: =ROUNDDOWN(E5*H6, 0) -> 0 | G6: A2 | H6: 0 | I6: =E6 -> 0
C7: 작업설.부산물 등(△) | E7: =집계표!T25 -> 0 | G7: A3 | H7: 0 | I7: =E7 -> 0
C8: 소 계 | E8: =SUM(E5:E6)-ABS(E7) -> 0 | G8: A | H8: 0 | I8: =E8 -> 0
B9: 노무비 | C9: 직 접 노 무 비 | E9: =ROUNDDOWN(집계표!H25, 0) -> 0 | G9: B1 | H9: 0 | I9: =E9 -> 0
C10: 간 접 노 무 비 | D10: ="직.노*"&H10*100&"%" -> 직.노*5% | E10: =ROUNDDOWN(E9*H10, 0) -> 0 | G10: B2 | H10: 0.05 | I10: =E10 -> 0
C11: 소 계 | E11: =SUM(E9:E10) -> 0 | G11: B | H11: 0 | I11: =E11 -> 0
B12: 경 비 | C12: 기 계 경 비 | E12: =ROUNDDOWN(집계표!J25, 0) -> 0 | G12: C4 | H12: 0 | I12: =E12 -> 0
C13: 산 재 보 험 료 | D13: ="(노)*"&H13*100&"%" -> (노)*3.56% | E13: =ROUNDDOWN((E11)*H13, 0) -> 0 | G13: C10 | H13: 0.0356 | I13: =E13 -> 0
C14: 고 용 보 험 료 | D14: ="(노)*"&H14*100&"%" -> (노)*1.01% | E14: =ROUNDDOWN((E11)*H14, 0) -> 0 | G14: C11 | H14: 0.0101 | I14: =E14 -> 0
C15: 건 강 보 험 료 | D15: ="(직.노)*"&H15*100&"%" -> (직.노)*3.595% | E15: =ROUNDDOWN((E9)*H15, 0) -> 0 | G15: C12 | H15: 0.03595 | I15: =E15 -> 0
C16: 연 금 보 험 료 | D16: ="(직.노)*"&H16*100&"%" -> (직.노)*4.75% | E16: =ROUNDDOWN((E9)*H16, 0) -> 0 | G16: C13 | H16: 0.0475 | I16: =E16 -> 0
C17: 노인 장기 요양보험료 | D17: ="(건강보험료)*"&H17*100&"%" -> (건강보험료)*13.14% | E17: =ROUNDDOWN((E15)*H17, 0) -> 0 | G17: C14 | H17: 0.1314 | I17: =E17 -> 0
C18: 산업 안전 보건관리비 | D18: ="(재+직.노+(-0)/1.1)*"&H18*100&"%"&"+4,325,000 < ((재+직.노)*2.28%+0,0)*1.2" -> (재+직.노+(-0)/1.1)*2.28%+4,325,000 < ((재+직.노)*2.28%+0,0)*1.2 | E18: =ROUNDDOWN((E8+E9+(0-0)/1.1)*H18+0, 0) -> 0 | F18: 24,128,387 < 28,954,065 | G18: C16 | H18: 0.0228 | I18: =E18 -> 0
C19: 기 타 경 비 | D19: ="(재+노)*"&H19*100&"%" -> (재+노)*3% | E19: =ROUNDDOWN((E8+E11)*H19, 0) -> 0 | G19: C20 | H19: 0.03 | I19: =E19 -> 0
C20: 환 경 보 전 비 | D20: ="(재+직.노+기.경)*"&H20*100&"%" -> (재+직.노+기.경)*0.5% | E20: =ROUNDDOWN((E8+E9+E12)*H20, 0) -> 0 | G20: C25 | H20: 0.005 | I20: =E20 -> 0
C21: 건설하도급보증수수료 | D21: ="(재+직.노+기.경)*"&H21*100&"%" -> (재+직.노+기.경)*0.081% | E21: =ROUNDDOWN((E8+E9+E12)*H21, 0) -> 0 | G21: C30 | H21: 0.00081 | I21: =E21 -> 0
C22: 공사 이행 보증수수료 | D22: ="(재+직.노+기.경)*"&H22*100&"%"&"*(6/12)" -> (재+직.노+기.경)*0.0108%*(6/12) | E22: =ROUNDDOWN((E8+E9+E12)*H22*(6/12), 0) -> 0 | G22: C31 | H22: 0.000108 | I22: =E22 -> 0
C23: 건설기계대여보증수수료 | D23: ="(재+직.노+기.경)*"&H23*100&"%" -> (재+직.노+기.경)*0.07% | E23: =ROUNDDOWN((E8+E9+E12)*H23, 0) -> 0 | G23: C32 | H23: 0.0007 | I23: =E23 -> 0
C24: 안 전 관 리 비 | E24: =ROUNDDOWN(집계표!AE25, 0) -> 0 | G24: C17 | H24: 0 | I24: =E24 -> 0
C25: 품 질 관 리 비 | E25: =ROUNDDOWN(집계표!AF25, 0) -> 0 | G25: C18 | H25: 0 | I25: =E25 -> 0
C26: 석 면 분 담 금 | D26: ="노*"&H26*100&"%" -> 노*0.006% | E26: =ROUNDDOWN(E11*H26, 0) -> 0 | G26: C21 | H26: 6e-05 | I26: =E26 -> 0
C27: 임 금 채 권 부 담 금 | D27: ="노*"&H27*100&"%" -> 노*0.09% | E27: =ROUNDDOWN(E11*H27, 0) -> 0 | G27: C22 | H27: 0.0009 | I27: =E27 -> 0
C28: 소 계 | E28: =SUM(E12:E27) -> 0 | G28: C | H28: 0 | I28: =E28 -> 0
B29: 계 | E29: =E8+E11+E28 -> 0 | G29: X | H29: 0 | I29: =E29 -> 0
A30: 일 반 관 리 비 | D30: ="(재+노+경)*"&H30*100&"%" -> (재+노+경)*4% | E30: =ROUNDDOWN((E8+E11+E28)*H30, 0) -> 0 | G30: D | H30: 0.04 | I30: =E30 -> 0
A31: 이 윤 | D31: ="(노+경+일)*"&H31*100&"%" -> (노+경+일)*9.48% | E31: =E34-E33-E32-0-E30-E29 -> 0 | G31: E | H31: 0.0948 | I31: =(I11+I28+I30)*H31 -> 0
A32: 폐기물 처리비 (일반) | E32: =ROUNDDOWN(집계표!AM25, 0) -> 0 | G32: L4 | H32: 0 | I32: =E32 -> 0
A33: 폐기물 처리비 (지정) | E33: =ROUNDDOWN(집계표!AN25, 0) -> 0 | G33: L5 | H33: 0 | I33: =E33 -> 0
A34: 총 원 가 | E34: =ROUNDDOWN(E36-E35, 0) -> 0 | G34: F | H34: 0 | I34: =SUM(I29:I33) -> 0
A35: 부 가 가 치 세 | D35: ="(총원가)*"&H35*100&"%" -> (총원가)*10% | E35: =ROUNDDOWN(((E36)/110)*10, 0) -> 0 | G35: H | H35: 0.1 | I35: =ROUNDDOWN((I34)*H35, 0) -> 0
A36: 도 급 금 액 | E36: =INT(I36/1000)*1000 -> 0 | G36: Y | H36: 0 | I36: =I34+I35 -> 0
A37: 총 공 사 금 액 | E37: =ROUNDDOWN(E36+0+0+0, 0) -> 0 | H37: 0 | I37: =I36+0+0+0 -> 0

Sheet 집계표
A1: 집 계 표
A2: 공사명 : (대학혁신지원사업) 스미스관 교육 환경개선 공사
A3: 품 명 | B3: 규 격 | C3: 단위 | D3: 수 량 | E3: 재 료 비 | G3: 노 무 비 | I3: 경 비 | K3: 합 계 | M3: 비고
E4: 단 가 | F4: 금 액 | G4: 단 가 | H4: 금 액 | I4: 단 가 | J4: 금 액 | K4: 단 가 | L4: 금 액 | N4: 손료요율 | O4: 손료구분 | P4: 적용구분 | Q4: 합계구분 | R4: 기계경비 | S4: 운반비 | T4: 작업부산물 | U4: 관급 | V4: 외주비 | W4: 장비비 | X4: 폐기물처리비 | Y4: 가설비 | Z4: 잡비제외분 | AA4: 사급자재대 | AB4: 관급자재대 | AC4: 사용자항목1 | AD4: 사용자항목2 | AE4: 안전관리비 | AF4: 품질관리비 | AG4: 작업부산물(철거해체) | AH4: 사용자항목6 | AI4: 사용자항목7 | AJ4: 관급자재대(관급자) | AK4: 관급자재대(관급자) | AL4: 사용자항목10 | AM4: 폐기물처리비(일반) | AN4: 폐기물처리비(지정) | AO4: 사용자항목13 | AP4: 사용자항목14 | AQ4: 사용자항목15 | AR4: 사용자항목16 | AS4: 사용자항목17 | AT4: 사용자항목18 | AU4: 사용자항목19 | AV4: 간접재료비 | AW4: 품목구분 | AX4: 조달코드 | AY4: 구분
A5: 01. 건축공사 | C5: 식 | D5: 1 | E5: =F46 -> 0 | F5: =D5*E5 -> 0 | G5: =H46 -> 0 | H5: =D5*G5 -> 0 | I5: =J46 -> 0 | J5: =D5*I5 -> 0 | K5: =E5+G5+I5 -> 0 | L5: =F5+H5+J5 -> 0 | Q5: 1 | R5: =D5*R46 -> 0 | S5: =D5*S46 -> 0 | T5: =D5*T46 -> 0 | U5: =D5*U46 -> 0 | V5: =D5*V46 -> 0 | W5: =D5*W46 -> 0 | X5: =D5*X46 -> 0 | Y5: =D5*Y46 -> 0 | Z5: =D5*Z46 -> 0 | AA5: =D5*AA46 -> 0 | AB5: =D5*AB46 -> 0 | AC5: =D5*AC46 -> 0 | AD5: =D5*AD46 -> 0 | AE5: =D5*AE46 -> 0 | AF5: =D5*AF46 -> 0 | AG5: =D5*AG46 -> 0 | AH5: =D5*AH46 -> 0 | AI5: =D5*AI46 -> 0 | AJ5: =D5*AJ46 -> 0 | AK5: =D5*AK46 -> 0 | AL5: =D5*AL46 -> 0 | AM5: =D5*AM46 -> 0 | AN5: =D5*AN46 -> 0 | AO5: =D5*AO46 -> 0 | AP5: =D5*AP46 -> 0 | AQ5: =D5*AQ46 -> 0 | AR5: =D5*AR46 -> 0 | AS5: =D5*AS46 -> 0 | AT5: =D5*AT46 -> 0 | AU5: =D5*AU46 -> 0 | AV5: =D5*AV46 -> 0
A6: 02. 인테리어공사 | C6: 식 | D6: 1 | E6: =F67 -> 0 | F6: =D6*E6 -> 0 | G6: =H67 -> 0 | H6: =D6*G6 -> 0 | I6: =J67 -> 0 | J6: =D6*I6 -> 0 | K6: =E6+G6+I6 -> 0 | L6: =F6+H6+J6 -> 0 | Q6: 1 | R6: =D6*R67 -> 0 | S6: =D6*S67 -> 0 | T6: =D6*T67 -> 0 | U6: =D6*U67 -> 0 | V6: =D6*V67 -> 0 | W6: =D6*W67 -> 0 | X6: =D6*X67 -> 0 | Y6: =D6*Y67 -> 0 | Z6: =D6*Z67 -> 0 | AA6: =D6*AA67 -> 0 | AB6: =D6*AB67 -> 0 | AC6: =D6*AC67 -> 0 | AD6: =D6*AD67 -> 0 | AE6: =D6*AE67 -> 0 | AF6: =D6*AF67 -> 0 | AG6: =D6*AG67 -> 0 | AH6: =D6*AH67 -> 0 | AI6: =D6*AI67 -> 0 | AJ6: =D6*AJ67 -> 0 | AK6: =D6*AK67 -> 0 | AL6: =D6*AL67 -> 0 | AM6: =D6*AM67 -> 0 | AN6: =D6*AN67 -> 0 | AO6: =D6*AO67 -> 0 | AP6: =D6*AP67 -> 0 | AQ6: =D6*AQ67 -> 0 | AR6: =D6*AR67 -> 0 | AS6: =D6*AS67 -> 0 | AT6: =D6*AT67 -> 0 | AU6: =D6*AU67 -> 0 | AV6: =D6*AV67 -> 0
A7: 03. 안전관리비 | C7: 식 | D7: 1 | E7: =내역서!F466 -> 0 | F7: =D7*E7 -> 0 | G7: =내역서!H466 -> 0 | H7: =D7*G7 -> 0 | I7: =내역서!J466 -> 0 | J7: =D7*I7 -> 0 | K7: =E7+G7+I7 -> 0 | L7: =F7+H7+J7 -> 0 | M7: 합계제외 | R7: =D7*내역서!R466 -> 0 | S7: =D7*내역서!S466 -> 0 | T7: =D7*내역서!T466 -> 0 | U7: =D7*내역서!U466 -> 0 | V7: =D7*내역서!V466 -> 0 | W7: =D7*내역서!W466 -> 0 | X7: =D7*내역서!X466 -> 0 | Y7: =D7*내역서!Y466 -> 0 | Z7: =D7*내역서!Z466 -> 0 | AA7: =D7*내역서!AA466 -> 0 | AB7: =D7*내역서!AB466 -> 0 | AC7: =D7*내역서!AC466 -> 0 | AD7: =D7*내역서!AD466 -> 0 | AE7: =D7*내역서!AE466 -> 0 | AF7: =D7*내역서!AF466 -> 0 | AG7: =D7*내역서!AG466 -> 0 | AH7: =D7*내역서!AH466 -> 0 | AI7: =D7*내역서!AI466 -> 0 | AJ7: =D7*내역서!AJ466 -> 0 | AK7: =D7*내역서!AK466 -> 0 | AL7: =D7*내역서!AL466 -> 0 | AM7: =D7*내역서!AM466 -> 0 | AN7: =D7*내역서!AN466 -> 0 | AO7: =D7*내역서!AO466 -> 0 | AP7: =D7*내역서!AP466 -> 0 | AQ7: =D7*내역서!AQ466 -> 0 | AR7: =D7*내역서!AR466 -> 0 | AS7: =D7*내역서!AS466 -> 0 | AT7: =D7*내역서!AT466 -> 0 | AU7: =D7*내역서!AU466 -> 0 | AV7: =D7*내역서!AV466 -> 0
A8: 04. 품질관리비 | C8: 식 | D8: 1 | E8: =내역서!F487 -> 0 | F8: =D8*E8 -> 0 | G8: =내역서!H487 -> 0 | H8: =D8*G8 -> 0 | I8: =내역서!J487 -> 0 | J8: =D8*I8 -> 0 | K8: =E8+G8+I8 -> 0 | L8: =F8+H8+J8 -> 0 | M8: 합계제외 | R8: =D8*내역서!R487 -> 0 | S8: =D8*내역서!S487 -> 0 | T8: =D8*내역서!T487 -> 0 | U8: =D8*내역서!U487 -> 0 | V8: =D8*내역서!V487 -> 0 | W8: =D8*내역서!W487 -> 0 | X8: =D8*내역서!X487 -> 0 | Y8: =D8*내역서!Y487 -> 0 | Z8: =D8*내역서!Z487 -> 0 | AA8: =D8*내역서!AA487 -> 0 | AB8: =D8*내역서!AB487 -> 0 | AC8: =D8*내역서!AC487 -> 0 | AD8: =D8*내역서!AD487 -> 0 | AE8: =D8*내역서!AE487 -> 0 | AF8: =D8*내역서!AF487 -> 0 | AG8: =D8*내역서!AG487 -> 0 | AH8: =D8*내역서!AH487 -> 0 | AI8: =D8*내역서!AI487 -> 0 | AJ8: =D8*내역서!AJ487 -> 0 | AK8: =D8*내역서!AK487 -> 0 | AL8: =D8*내역서!AL487 -> 0 | AM8: =D8*내역서!AM487 -> 0 | AN8: =D8*내역서!AN487 -> 0 | AO8: =D8*내역서!AO487 -> 0 | AP8: =D8*내역서!AP487 -> 0 | AQ8: =D8*내역서!AQ487 -> 0 | AR8: =D8*내역서!AR487 -> 0 | AS8: =D8*내역서!AS487 -> 0 | AT8: =D8*내역서!AT487 -> 0 | AU8: =D8*내역서!AU487 -> 0 | AV8: =D8*내역서!AV487 -> 0
A25: 합 계 | F25: =SUMIF(Q5:Q8, "1", F5:F8) -> 0 | H25: =SUMIF(Q5:Q8, "1", H5:H8) -> 0 | J25: =SUMIF(Q5:Q8, "1", J5:J8) -> 0 | L25: =F25+H25+J25 -> 0 | R25: =SUM(R5:R8) -> 0 | S25: =SUM(S5:S8) -> 0 | T25: =SUM(T5:T8) -> 0 | U25: =SUM(U5:U8) -> 0 | V25: =SUM(V5:V8) -> 0 | W25: =SUM(W5:W8) -> 0 | X25: =SUM(X5:X8) -> 0 | Y25: =SUM(Y5:Y8) -> 0 | ... AY25: =SUM(AY5:AY8) -> 0
A26: 01. 건축공사
A27: 0101. 가설공사 | C27: 식 | D27: 1 | E27: =내역서!F25 -> 0 | F27: =D27*E27 -> 0 | G27: =내역서!H25 -> 0 | H27: =D27*G27 -> 0 | I27: =내역서!J25 -> 0 | J27: =D27*I27 -> 0 | K27: =E27+G27+I27 -> 0 | L27: =F27+H27+J27 -> 0 | Q27: 1 | R27: =D27*내역서!R25 -> 0 | S27: =D27*내역서!S25 -> 0 | T27: =D27*내역서!T25 -> 0 | U27: =D27*내역서!U25 -> 0 | V27: =D27*내역서!V25 -> 0 | W27: =D27*내역서!W25 -> 0 | X27: =D27*내역서!X25 -> 0 | Y27: =D27*내역서!Y25 -> 0 | Z27: =D27*내역서!Z25 -> 0 | AA27: =D27*내역서!AA25 -> 0 | AB27: =D27*내역서!AB25 -> 0 | AC27: =D27*내역서!AC25 -> 0 | AD27: =D27*내역서!AD25 -> 0 | AE27: =D27*내역서!AE25 -> 0 | AF27: =D27*내역서!AF25 -> 0 | AG27: =D27*내역서!AG25 -> 0 | AH27: =D27*내역서!AH25 -> 0 | AI27: =D27*내역서!AI25 -> 0 | AJ27: =D27*내역서!AJ25 -> 0 | AK27: =D27*내역서!AK25 -> 0 | AL27: =D27*내역서!AL25 -> 0 | AM27: =D27*내역서!AM25 -> 0 | AN27: =D27*내역서!AN25 -> 0 | AO27: =D27*내역서!AO25 -> 0 | AP27: =D27*내역서!AP25 -> 0 | AQ27: =D27*내역서!AQ25 -> 0 | AR27: =D27*내역서!AR25 -> 0 | AS27: =D27*내역서!AS25 -> 0 | AT27: =D27*내역서!AT25 -> 0 | AU27: =D27*내역서!AU25 -> 0 | AV27: =D27*내역서!AV25 -> 0
A28: 0102. 철근콘크리트공사 | C28: 식 | D28: 1 | E28: =내역서!F46 -> 0 | F28: =D28*E28 -> 0 | G28: =내역서!H46 -> 0 | H28: =D28*G28 -> 0 | I28: =내역서!J46 -> 0 | J28: =D28*I28 -> 0 | K28: =E28+G28+I28 -> 0 | L28: =F28+H28+J28 -> 0 | Q28: 1 | R28: =D28*내역서!R46 -> 0 | S28: =D28*내역서!S46 -> 0 | T28: =D28*내역서!T46 -> 0 | U28: =D28*내역서!U46 -> 0 | V28: =D28*내역서!V46 -> 0 | W28: =D28*내역서!W46 -> 0 | X28: =D28*내역서!X46 -> 0 | Y28: =D28*내역서!Y46 -> 0 | Z28: =D28*내역서!Z46 -> 0 | AA28: =D28*내역서!AA46 -> 0 | AB28: =D28*내역서!AB46 -> 0 | AC28: =D28*내역서!AC46 -> 0 | AD28: =D28*내역서!AD46 -> 0 | AE28: =D28*내역서!AE46 -> 0 | AF28: =D28*내역서!AF46 -> 0 | AG28: =D28*내역서!AG46 -> 0 | AH28: =D28*내역서!AH46 -> 0 | AI28: =D28*내역서!AI46 -> 0 | AJ28: =D28*내역서!AJ46 -> 0 | AK28: =D28*내역서!AK46 -> 0 | AL28: =D28*내역서!AL46 -> 0 | AM28: =D28*내역서!AM46 -> 0 | AN28: =D28*내역서!AN46 -> 0 | AO28: =D28*내역서!AO46 -> 0 | AP28: =D28*내역서!AP46 -> 0 | AQ28: =D28*내역서!AQ46 -> 0 | AR28: =D28*내역서!AR46 -> 0 | AS28: =D28*내역서!AS46 -> 0 | AT28: =D28*내역서!AT46 -> 0 | AU28: =D28*내역서!AU46 -> 0 | AV28: =D28*내역서!AV46 -> 0
A29: 0103. 조적공사 | C29: 식 | D29: 1 | E29: =내역서!F67 -> 0 | F29: =D29*E29 -> 0 | G29: =내역서!H67 -> 0 | H29: =D29*G29 -> 0 | I29: =내역서!J67 -> 0 | J29: =D29*I29 -> 0 | K29: =E29+G29+I29 -> 0 | L29: =F29+H29+J29 -> 0 | Q29: 1 | R29: =D29*내역서!R67 -> 0 | S29: =D29*내역서!S67 -> 0 | T29: =D29*내역서!T67 -> 0 | U29: =D29*내역서!U67 -> 0 | V29: =D29*내역서!V67 -> 0 | W29: =D29*내역서!W67 -> 0 | X29: =D29*내역서!X67 -> 0 | Y29: =D29*내역서!Y67 -> 0 | Z29: =D29*내역서!Z67 -> 0 | AA29: =D29*내역서!AA67 -> 0 | AB29: =D29*내역서!AB67 -> 0 | AC29: =D29*내역서!AC67 -> 0 | AD29: =D29*내역서!AD67 -> 0 | AE29: =D29*내역서!AE67 -> 0 | AF29: =D29*내역서!AF67 -> 0 | AG29: =D29*내역서!AG67 -> 0 | AH29: =D29*내역서!AH67 -> 0 | AI29: =D29*내역서!AI67 -> 0 | AJ29: =D29*내역서!AJ67 -> 0 | AK29: =D29*내역서!AK67 -> 0 | AL29: =D29*내역서!AL67 -> 0 | AM29: =D29*내역서!AM67 -> 0 | AN29: =D29*내역서!AN67 -> 0 | AO29: =D29*내역서!AO67 -> 0 | AP29: =D29*내역서!AP67 -> 0 | AQ29: =D29*내역서!AQ67 -> 0 | AR29: =D29*내역서!AR67 -> 0 | AS29: =D29*내역서!AS67 -> 0 | AT29: =D29*내역서!AT67 -> 0 | AU29: =D29*내역서!AU67 -> 0 | AV29: =D29*내역서!AV67 -> 0
A30: 0104. 돌및타일공사 | C30: 식 | D30: 1 | E30: =내역서!F88 -> 0 | F30: =D30*E30 -> 0 | G30: =내역서!H88 -> 0 | H30: =D30*G30 -> 0 | I30: =내역서!J88 -> 0 | J30: =D30*I30 -> 0 | K30: =E30+G30+I30 -> 0 | L30: =F30+H30+J30 -> 0 | Q30: 1 | R30: =D30*내역서!R88 -> 0 | S30: =D30*내역서!S88 -> 0 | T30: =D30*내역서!T88 -> 0 | U30: =D30*내역서!U88 -> 0 | V30: =D30*내역서!V88 -> 0 | W30: =D30*내역서!W88 -> 0 | X30: =D30*내역서!X88 -> 0 | Y30: =D30*내역서!Y88 -> 0 | Z30: =D30*내역서!Z88 -> 0 | AA30: =D30*내역서!AA88 -> 0 | AB30: =D30*내역서!AB88 -> 0 | AC30: =D30*내역서!AC88 -> 0 | AD30: =D30*내역서!AD88 -> 0 | AE30: =D30*내역서!AE88 -> 0 | AF30: =D30*내역서!AF88 -> 0 | AG30: =D30*내역서!AG88 -> 0 | AH30: =D30*내역서!AH88 -> 0 | AI30: =D30*내역서!AI88 -> 0 | AJ30: =D30*내역서!AJ88 -> 0 | AK30: =D30*내역서!AK88 -> 0 | AL30: =D30*내역서!AL88 -> 0 | AM30: =D30*내역서!AM88 -> 0 | AN30: =D30*내역서!AN88 -> 0 | AO30: =D30*내역서!AO88 -> 0 | AP30: =D30*내역서!AP88 -> 0 | AQ30: =D30*내역서!AQ88 -> 0 | AR30: =D30*내역서!AR88 -> 0 | AS30: =D30*내역서!AS88 -> 0 | AT30: =D30*내역서!AT88 -> 0 | AU30: =D30*내역서!AU88 -> 0 | AV30: =D30*내역서!AV88 -> 0
A31: 0105. 목 공 사 | C31: 식 | D31: 1 | E31: =내역서!F109 -> 0 | F31: =D31*E31 -> 0 | G31: =내역서!H109 -> 0 | H31: =D31*G31 -> 0 | I31: =내역서!J109 -> 0 | J31: =D31*I31 -> 0 | K31: =E31+G31+I31 -> 0 | L31: =F31+H31+J31 -> 0 | Q31: 1 | R31: =D31*내역서!R109 -> 0 | S31: =D31*내역서!S109 -> 0 | T31: =D31*내역서!T109 -> 0 | U31: =D31*내역서!U109 -> 0 | V31: =D31*내역서!V109 -> 0 | W31: =D31*내역서!W109 -> 0 | X31: =D31*내역서!X109 -> 0 | Y31: =D31*내역서!Y109 -> 0 | Z31: =D31*내역서!Z109 -> 0 | AA31: =D31*내역서!AA109 -> 0 | AB31: =D31*내역서!AB109 -> 0 | AC31: =D31*내역서!AC109 -> 0 | AD31: =D31*내역서!AD109 -> 0 | AE31: =D31*내역서!AE109 -> 0 | AF31: =D31*내역서!AF109 -> 0 | AG31: =D31*내역서!AG109 -> 0 | AH31: =D31*내역서!AH109 -> 0 | AI31: =D31*내역서!AI109 -> 0 | AJ31: =D31*내역서!AJ109 -> 0 | AK31: =D31*내역서!AK109 -> 0 | AL31: =D31*내역서!AL109 -> 0 | AM31: =D31*내역서!AM109 -> 0 | AN31: =D31*내역서!AN109 -> 0 | AO31: =D31*내역서!AO109 -> 0 | AP31: =D31*내역서!AP109 -> 0 | AQ31: =D31*내역서!AQ109 -> 0 | AR31: =D31*내역서!AR109 -> 0 | AS31: =D31*내역서!AS109 -> 0 | AT31: =D31*내역서!AT109 -> 0 | AU31: =D31*내역서!AU109 -> 0 | AV31: =D31*내역서!AV109 -> 0
A32: 0106. 방수공사 | C32: 식 | D32: 1 | E32: =내역서!F130 -> 0 | F32: =D32*E32 -> 0 | G32: =내역서!H130 -> 0 | H32: =D32*G32 -> 0 | I32: =내역서!J130 -> 0 | J32: =D32*I32 -> 0 | K32: =E32+G32+I32 -> 0 | L32: =F32+H32+J32 -> 0 | Q32: 1 | R32: =D32*내역서!R130 -> 0 | S32: =D32*내역서!S130 -> 0 | T32: =D32*내역서!T130 -> 0 | U32: =D32*내역서!U130 -> 0 | V32: =D32*내역서!V130 -> 0 | W32: =D32*내역서!W130 -> 0 | X32: =D32*내역서!X130 -> 0 | Y32: =D32*내역서!Y130 -> 0 | Z32: =D32*내역서!Z130 -> 0 | AA32: =D32*내역서!AA130 -> 0 | AB32: =D32*내역서!AB130 -> 0 | AC32: =D32*내역서!AC130 -> 0 | AD32: =D32*내역서!AD130 -> 0 | AE32: =D32*내역서!AE130 -> 0 | AF32: =D32*내역서!AF130 -> 0 | AG32: =D32*내역서!AG130 -> 0 | AH32: =D32*내역서!AH130 -> 0 | AI32: =D32*내역서!AI130 -> 0 | AJ32: =D32*내역서!AJ130 -> 0 | AK32: =D32*내역서!AK130 -> 0 | AL32: =D32*내역서!AL130 -> 0 | AM32: =D32*내역서!AM130 -> 0 | AN32: =D32*내역서!AN130 -> 0 | AO32: =D32*내역서!AO130 -> 0 | AP32: =D32*내역서!AP130 -> 0 | AQ32: =D32*내역서!AQ130 -> 0 | AR32: =D32*내역서!AR130 -> 0 | AS32: =D32*내역서!AS130 -> 0 | AT32: =D32*내역서!AT130 -> 0 | AU32: =D32*내역서!AU130 -> 0 | AV32: =D32*내역서!AV130 -> 0
A33: 0107. 지붕및홈통공사 | C33: 식 | D33: 1 | E33: =내역서!F151 -> 0 | F33: =D33*E33 -> 0 | G33: =내역서!H151 -> 0 | H33: =D33*G33 -> 0 | I33: =내역서!J151 -> 0 | J33: =D33*I33 -> 0 | K33: =E33+G33+I33 -> 0 | L33: =F33+H33+J33 -> 0 | Q33: 1 | R33: =D33*내역서!R151 -> 0 | S33: =D33*내역서!S151 -> 0 | T33: =D33*내역서!T151 -> 0 | U33: =D33*내역서!U151 -> 0 | V33: =D33*내역서!V151 -> 0 | W33: =D33*내역서!W151 -> 0 | X33: =D33*내역서!X151 -> 0 | Y33: =D33*내역서!Y151 -> 0 | Z33: =D33*내역서!Z151 -> 0 | AA33: =D33*내역서!AA151 -> 0 | AB33: =D33*내역서!AB151 -> 0 | AC33: =D33*내역서!AC151 -> 0 | AD33: =D33*내역서!AD151 -> 0 | AE33: =D33*내역서!AE151 -> 0 | AF33: =D33*내역서!AF151 -> 0 | AG33: =D33*내역서!AG151 -> 0 | AH33: =D33*내역서!AH151 -> 0 | AI33: =D33*내역서!AI151 -> 0 | AJ33: =D33*내역서!AJ151 -> 0 | AK33: =D33*내역서!AK151 -> 0 | AL33: =D33*내역서!AL151 -> 0 | AM33: =D33*내역서!AM151 -> 0 | AN33: =D33*내역서!AN151 -> 0 | AO33: =D33*내역서!AO151 -> 0 | AP33: =D33*내역서!AP151 -> 0 | AQ33: =D33*내역서!AQ151 -> 0 | AR33: =D33*내역서!AR151 -> 0 | AS33: =D33*내역서!AS151 -> 0 | AT33: =D33*내역서!AT151 -> 0 | AU33: =D33*내역서!AU151 -> 0 | AV33: =D33*내역서!AV151 -> 0
A34: 0108. 판넬공사 | C34: 식 | D34: 1 | E34: =내역서!F172 -> 0 | F34: =D34*E34 -> 0 | G34: =내역서!H172 -> 0 | H34: =D34*G34 -> 0 | I34: =내역서!J172 -> 0 | J34: =D34*I34 -> 0 | K34: =E34+G34+I34 -> 0 | L34: =F34+H34+J34 -> 0 | Q34: 1 | R34: =D34*내역서!R172 -> 0 | S34: =D34*내역서!S172 -> 0 | T34: =D34*내역서!T172 -> 0 | U34: =D34*내역서!U172 -> 0 | V34: =D34*내역서!V172 -> 0 | W34: =D34*내역서!W172 -> 0 | X34: =D34*내역서!X172 -> 0 | Y34: =D34*내역서!Y172 -> 0 | Z34: =D34*내역서!Z172 -> 0 | AA34: =D34*내역서!AA172 -> 0 | AB34: =D34*내역서!AB172 -> 0 | AC34: =D34*내역서!AC172 -> 0 | AD34: =D34*내역서!AD172 -> 0 | AE34: =D34*내역서!AE172 -> 0 | AF34: =D34*내역서!AF172 -> 0 | AG34: =D34*내역서!AG172 -> 0 | AH34: =D34*내역서!AH172 -> 0 | AI34: =D34*내역서!AI172 -> 0 | AJ34: =D34*내역서!AJ172 -> 0 | AK34: =D34*내역서!AK172 -> 0 | AL34: =D34*내역서!AL172 -> 0 | AM34: =D34*내역서!AM172 -> 0 | AN34: =D34*내역서!AN172 -> 0 | AO34: =D34*내역서!AO172 -> 0 | AP34: =D34*내역서!AP172 -> 0 | AQ34: =D34*내역서!AQ172 -> 0 | AR34: =D34*내역서!AR172 -> 0 | AS34: =D34*내역서!AS172 -> 0 | AT34: =D34*내역서!AT172 -> 0 | AU34: =D34*내역서!AU172 -> 0 | AV34: =D34*내역서!AV172 -> 0
A35: 0109. 금속공사 | C35: 식 | D35: 1 | E35: =내역서!F193 -> 0 | F35: =D35*E35 -> 0 | G35: =내역서!H193 -> 0 | H35: =D35*G35 -> 0 | I35: =내역서!J193 -> 0 | J35: =D35*I35 -> 0 | K35: =E35+G35+I35 -> 0 | L35: =F35+H35+J35 -> 0 | Q35: 1 | R35: =D35*내역서!R193 -> 0 | S35: =D35*내역서!S193 -> 0 | T35: =D35*내역서!T193 -> 0 | U35: =D35*내역서!U193 -> 0 | V35: =D35*내역서!V193 -> 0 | W35: =D35*내역서!W193 -> 0 | X35: =D35*내역서!X193 -> 0 | Y35: =D35*내역서!Y193 -> 0 | Z35: =D35*내역서!Z193 -> 0 | AA35: =D35*내역서!AA193 -> 0 | AB35: =D35*내역서!AB193 -> 0 | AC35: =D35*내역서!AC193 -> 0 | AD35: =D35*내역서!AD193 -> 0 | AE35: =D35*내역서!AE193 -> 0 | AF35: =D35*내역서!AF193 -> 0 | AG35: =D35*내역서!AG193 -> 0 | AH35: =D35*내역서!AH193 -> 0 | AI35: =D35*내역서!AI193 -> 0 | AJ35: =D35*내역서!AJ193 -> 0 | AK35: =D35*내역서!AK193 -> 0 | AL35: =D35*내역서!AL193 -> 0 | AM35: =D35*내역서!AM193 -> 0 | AN35: =D35*내역서!AN193 -> 0 | AO35: =D35*내역서!AO193 -> 0 | AP35: =D35*내역서!AP193 -> 0 | AQ35: =D35*내역서!AQ193 -> 0 | AR35: =D35*내역서!AR193 -> 0 | AS35: =D35*내역서!AS193 -> 0 | AT35: =D35*내역서!AT193 -> 0 | AU35: =D35*내역서!AU193 -> 0 | AV35: =D35*내역서!AV193 -> 0
A36: 0110. 미장공사 | C36: 식 | D36: 1 | E36: =내역서!F214 -> 0 | F36: =D36*E36 -> 0 | G36: =내역서!H214 -> 0 | H36: =D36*G36 -> 0 | I36: =내역서!J214 -> 0 | J36: =D36*I36 -> 0 | K36: =E36+G36+I36 -> 0 | L36: =F36+H36+J36 -> 0 | Q36: 1 | R36: =D36*내역서!R214 -> 0 | S36: =D36*내역서!S214 -> 0 | T36: =D36*내역서!T214 -> 0 | U36: =D36*내역서!U214 -> 0 | V36: =D36*내역서!V214 -> 0 | W36: =D36*내역서!W214 -> 0 | X36: =D36*내역서!X214 -> 0 | Y36: =D36*내역서!Y214 -> 0 | Z36: =D36*내역서!Z214 -> 0 | AA36: =D36*내역서!AA214 -> 0 | AB36: =D36*내역서!AB214 -> 0 | AC36: =D36*내역서!AC214 -> 0 | AD36: =D36*내역서!AD214 -> 0 | AE36: =D36*내역서!AE214 -> 0 | AF36: =D36*내역서!AF214 -> 0 | AG36: =D36*내역서!AG214 -> 0 | AH36: =D36*내역서!AH214 -> 0 | AI36: =D36*내역서!AI214 -> 0 | AJ36: =D36*내역서!AJ214 -> 0 | AK36: =D36*내역서!AK214 -> 0 | AL36: =D36*내역서!AL214 -> 0 | AM36: =D36*내역서!AM214 -> 0 | AN36: =D36*내역서!AN214 -> 0 | AO36: =D36*내역서!AO214 -> 0 | AP36: =D36*내역서!AP214 -> 0 | AQ36: =D36*내역서!AQ214 -> 0 | AR36: =D36*내역서!AR214 -> 0 | AS36: =D36*내역서!AS214 -> 0 | AT36: =D36*내역서!AT214 -> 0 | AU36: =D36*내역서!AU214 -> 0 | AV36: =D36*내역서!AV214 -> 0
A37: 0111. 창호공사 | C37: 식 | D37: 1 | E37: =내역서!F256 -> 0 | F37: =D37*E37 -> 0 | G37: =내역서!H256 -> 0 | H37: =D37*G37 -> 0 | I37: =내역서!J256 -> 0 | J37: =D37*I37 -> 0 | K37: =E37+G37+I37 -> 0 | L37: =F37+H37+J37 -> 0 | Q37: 1 | R37: =D37*내역서!R256 -> 0 | S37: =D37*내역서!S256 -> 0 | T37: =D37*내역서!T256 -> 0 | U37: =D37*내역서!U256 -> 0 | V37: =D37*내역서!V256 -> 0 | W37: =D37*내역서!W256 -> 0 | X37: =D37*내역서!X256 -> 0 | Y37: =D37*내역서!Y256 -> 0 | Z37: =D37*내역서!Z256 -> 0 | AA37: =D37*내역서!AA256 -> 0 | AB37: =D37*내역서!AB256 -> 0 | AC37: =D37*내역서!AC256 -> 0 | AD37: =D37*내역서!AD256 -> 0 | AE37: =D37*내역서!AE256 -> 0 | AF37: =D37*내역서!AF256 -> 0 | AG37: =D37*내역서!AG256 -> 0 | AH37: =D37*내역서!AH256 -> 0 | AI37: =D37*내역서!AI256 -> 0 | AJ37: =D37*내역서!AJ256 -> 0 | AK37: =D37*내역서!AK256 -> 0 | AL37: =D37*내역서!AL256 -> 0 | AM37: =D37*내역서!AM256 -> 0 | AN37: =D37*내역서!AN256 -> 0 | AO37: =D37*내역서!AO256 -> 0 | AP37: =D37*내역서!AP256 -> 0 | AQ37: =D37*내역서!AQ256 -> 0 | AR37: =D37*내역서!AR256 -> 0 | AS37: =D37*내역서!AS256 -> 0 | AT37: =D37*내역서!AT256 -> 0 | AU37: =D37*내역서!AU256 -> 0 | AV37: =D37*내역서!AV256 -> 0
A38: 0112. 유리공사 | C38: 식 | D38: 1 | E38: =내역서!F277 -> 0 | F38: =D38*E38 -> 0 | G38: =내역서!H277 -> 0 | H38: =D38*G38 -> 0 | I38: =내역서!J277 -> 0 | J38: =D38*I38 -> 0 | K38: =E38+G38+I38 -> 0 | L38: =F38+H38+J38 -> 0 | Q38: 1 | R38: =D38*내역서!R277 -> 0 | S38: =D38*내역서!S277 -> 0 | T38: =D38*내역서!T277 -> 0 | U38: =D38*내역서!U277 -> 0 | V38: =D38*내역서!V277 -> 0 | W38: =D38*내역서!W277 -> 0 | X38: =D38*내역서!X277 -> 0 | Y38: =D38*내역서!Y277 -> 0 | Z38: =D38*내역서!Z277 -> 0 | AA38: =D38*내역서!AA277 -> 0 | AB38: =D38*내역서!AB277 -> 0 | AC38: =D38*내역서!AC277 -> 0 | AD38: =D38*내역서!AD277 -> 0 | AE38: =D38*내역서!AE277 -> 0 | AF38: =D38*내역서!AF277 -> 0 | AG38: =D38*내역서!AG277 -> 0 | AH38: =D38*내역서!AH277 -> 0 | AI38: =D38*내역서!AI277 -> 0 | AJ38: =D38*내역서!AJ277 -> 0 | AK38: =D38*내역서!AK277 -> 0 | AL38: =D38*내역서!AL277 -> 0 | AM38: =D38*내역서!AM277 -> 0 | AN38: =D38*내역서!AN277 -> 0 | AO38: =D38*내역서!AO277 -> 0 | AP38: =D38*내역서!AP277 -> 0 | AQ38: =D38*내역서!AQ277 -> 0 | AR38: =D38*내역서!AR277 -> 0 | AS38: =D38*내역서!AS277 -> 0 | AT38: =D38*내역서!AT277 -> 0 | AU38: =D38*내역서!AU277 -> 0 | AV38: =D38*내역서!AV277 -> 0
A39: 0113. 도장공사 | C39: 식 | D39: 1 | E39: =내역서!F298 -> 0 | F39: =D39*E39 -> 0 | G39: =내역서!H298 -> 0 | H39: =D39*G39 -> 0 | I39: =내역서!J298 -> 0 | J39: =D39*I39 -> 0 | K39: =E39+G39+I39 -> 0 | L39: =F39+H39+J39 -> 0 | Q39: 1 | R39: =D39*내역서!R298 -> 0 | S39: =D39*내역서!S298 -> 0 | T39: =D39*내역서!T298 -> 0 | U39: =D39*내역서!U298 -> 0 | V39: =D39*내역서!V298 -> 0 | W39: =D39*내역서!W298 -> 0 | X39: =D39*내역서!X298 -> 0 | Y39: =D39*내역서!Y298 -> 0 | Z39: =D39*내역서!Z298 -> 0 | AA39: =D39*내역서!AA298 -> 0 | AB39: =D39*내역서!AB298 -> 0 | AC39: =D39*내역서!AC298 -> 0 | AD39: =D39*내역서!AD298 -> 0 | AE39: =D39*내역서!AE298 -> 0 | AF39: =D39*내역서!AF298 -> 0 | AG39: =D39*내역서!AG298 -> 0 | AH39: =D39*내역서!AH298 -> 0 | AI39: =D39*내역서!AI298 -> 0 | AJ39: =D39*내역서!AJ298 -> 0 | AK39: =D39*내역서!AK298 -> 0 | AL39: =D39*내역서!AL298 -> 0 | AM39: =D39*내역서!AM298 -> 0 | AN39: =D39*내역서!AN298 -> 0 | AO39: =D39*내역서!AO298 -> 0 | AP39: =D39*내역서!AP298 -> 0 | AQ39: =D39*내역서!AQ298 -> 0 | AR39: =D39*내역서!AR298 -> 0 | AS39: =D39*내역서!AS298 -> 0 | AT39: =D39*내역서!AT298 -> 0 | AU39: =D39*내역서!AU298 -> 0 | AV39: =D39*내역서!AV298 -> 0
A40: 0114. 수장공사 | C40: 식 | D40: 1 | E40: =내역서!F319 -> 0 | F40: =D40*E40 -> 0 | G40: =내역서!H319 -> 0 | H40: =D40*G40 -> 0 | I40: =내역서!J319 -> 0 | J40: =D40*I40 -> 0 | K40: =E40+G40+I40 -> 0 | L40: =F40+H40+J40 -> 0 | Q40: 1 | R40: =D40*내역서!R319 -> 0 | S40: =D40*내역서!S319 -> 0 | T40: =D40*내역서!T319 -> 0 | U40: =D40*내역서!U319 -> 0 | V40: =D40*내역서!V319 -> 0 | W40: =D40*내역서!W319 -> 0 | X40: =D40*내역서!X319 -> 0 | Y40: =D40*내역서!Y319 -> 0 | Z40: =D40*내역서!Z319 -> 0 | AA40: =D40*내역서!AA319 -> 0 | AB40: =D40*내역서!AB319 -> 0 | AC40: =D40*내역서!AC319 -> 0 | AD40: =D40*내역서!AD319 -> 0 | AE40: =D40*내역서!AE319 -> 0 | AF40: =D40*내역서!AF319 -> 0 | AG40: =D40*내역서!AG319 -> 0 | AH40: =D40*내역서!AH319 -> 0 | AI40: =D40*내역서!AI319 -> 0 | AJ40: =D40*내역서!AJ319 -> 0 | AK40: =D40*내역서!AK319 -> 0 | AL40: =D40*내역서!AL319 -> 0 | AM40: =D40*내역서!AM319 -> 0 | AN40: =D40*내역서!AN319 -> 0 | AO40: =D40*내역서!AO319 -> 0 | AP40: =D40*내역서!AP319 -> 0 | AQ40: =D40*내역서!AQ319 -> 0 | AR40: =D40*내역서!AR319 -> 0 | AS40: =D40*내역서!AS319 -> 0 | AT40: =D40*내역서!AT319 -> 0 | AU40: =D40*내역서!AU319 -> 0 | AV40: =D40*내역서!AV319 -> 0
A41: 0115. 철거공사 | C41: 식 | D41: 1 | E41: =내역서!F340 -> 0 | F41: =D41*E41 -> 0 | G41: =내역서!H340 -> 0 | H41: =D41*G41 -> 0 | I41: =내역서!J340 -> 0 | J41: =D41*I41 -> 0 | K41: =E41+G41+I41 -> 0 | L41: =F41+H41+J41 -> 0 | Q41: 1 | R41: =D41*내역서!R340 -> 0 | S41: =D41*내역서!S340 -> 0 | T41: =D41*내역서!T340 -> 0 | U41: =D41*내역서!U340 -> 0 | V41: =D41*내역서!V340 -> 0 | W41: =D41*내역서!W340 -> 0 | X41: =D41*내역서!X340 -> 0 | Y41: =D41*내역서!Y340 -> 0 | Z41: =D41*내역서!Z340 -> 0 | AA41: =D41*내역서!AA340 -> 0 | AB41: =D41*내역서!AB340 -> 0 | AC41: =D41*내역서!AC340 -> 0 | AD41: =D41*내역서!AD340 -> 0 | AE41: =D41*내역서!AE340 -> 0 | AF41: =D41*내역서!AF340 -> 0 | AG41: =D41*내역서!AG340 -> 0 | AH41: =D41*내역서!AH340 -> 0 | AI41: =D41*내역서!AI340 -> 0 | AJ41: =D41*내역서!AJ340 -> 0 | AK41: =D41*내역서!AK340 -> 0 | AL41: =D41*내역서!AL340 -> 0 | AM41: =D41*내역서!AM340 -> 0 | AN41: =D41*내역서!AN340 -> 0 | AO41: =D41*내역서!AO340 -> 0 | AP41: =D41*내역서!AP340 -> 0 | AQ41: =D41*내역서!AQ340 -> 0 | AR41: =D41*내역서!AR340 -> 0 | AS41: =D41*내역서!AS340 -> 0 | AT41: =D41*내역서!AT340 -> 0 | AU41: =D41*내역서!AU340 -> 0 | AV41: =D41*내역서!AV340 -> 0
A42: 0116. 석면해체제거공사 | C42: 식 | D42: 1 | E42: =내역서!F361 -> 0 | F42: =D42*E42 -> 0 | G42: =내역서!H361 -> 0 | H42: =D42*G42 -> 0 | I42: =내역서!J361 -> 0 | J42: =D42*I42 -> 0 | K42: =E42+G42+I42 -> 0 | L42: =F42+H42+J42 -> 0 | Q42: 1 | R42: =D42*내역서!R361 -> 0 | S42: =D42*내역서!S361 -> 0 | T42: =D42*내역서!T361 -> 0 | U42: =D42*내역서!U361 -> 0 | V42: =D42*내역서!V361 -> 0 | W42: =D42*내역서!W361 -> 0 | X42: =D42*내역서!X361 -> 0 | Y42: =D42*내역서!Y361 -> 0 | Z42: =D42*내역서!Z361 -> 0 | AA42: =D42*내역서!AA361 -> 0 | AB42: =D42*내역서!AB361 -> 0 | AC42: =D42*내역서!AC361 -> 0 | AD42: =D42*내역서!AD361 -> 0 | AE42: =D42*내역서!AE361 -> 0 | AF42: =D42*내역서!AF361 -> 0 | AG42: =D42*내역서!AG361 -> 0 | AH42: =D42*내역서!AH361 -> 0 | AI42: =D42*내역서!AI361 -> 0 | AJ42: =D42*내역서!AJ361 -> 0 | AK42: =D42*내역서!AK361 -> 0 | AL42: =D42*내역서!AL361 -> 0 | AM42: =D42*내역서!AM361 -> 0 | AN42: =D42*내역서!AN361 -> 0 | AO42: =D42*내역서!AO361 -> 0 | AP42: =D42*내역서!AP361 -> 0 | AQ42: =D42*내역서!AQ361 -> 0 | AR42: =D42*내역서!AR361 -> 0 | AS42: =D42*내역서!AS361 -> 0 | AT42: =D42*내역서!AT361 -> 0 | AU42: =D42*내역서!AU361 -> 0 | AV42: =D42*내역서!AV361 -> 0
A43: 0117. 골 재 대 | C43: 식 | D43: 1 | E43: =내역서!F382 -> 0 | F43: =D43*E43 -> 0 | G43: =내역서!H382 -> 0 | H43: =D43*G43 -> 0 | I43: =내역서!J382 -> 0 | J43: =D43*I43 -> 0 | K43: =E43+G43+I43 -> 0 | L43: =F43+H43+J43 -> 0 | Q43: 1 | R43: =D43*내역서!R382 -> 0 | S43: =D43*내역서!S382 -> 0 | T43: =D43*내역서!T382 -> 0 | U43: =D43*내역서!U382 -> 0 | V43: =D43*내역서!V382 -> 0 | W43: =D43*내역서!W382 -> 0 | X43: =D43*내역서!X382 -> 0 | Y43: =D43*내역서!Y382 -> 0 | Z43: =D43*내역서!Z382 -> 0 | AA43: =D43*내역서!AA382 -> 0 | AB43: =D43*내역서!AB382 -> 0 | AC43: =D43*내역서!AC382 -> 0 | AD43: =D43*내역서!AD382 -> 0 | AE43: =D43*내역서!AE382 -> 0 | AF43: =D43*내역서!AF382 -> 0 | AG43: =D43*내역서!AG382 -> 0 | AH43: =D43*내역서!AH382 -> 0 | AI43: =D43*내역서!AI382 -> 0 | AJ43: =D43*내역서!AJ382 -> 0 | AK43: =D43*내역서!AK382 -> 0 | AL43: =D43*내역서!AL382 -> 0 | AM43: =D43*내역서!AM382 -> 0 | AN43: =D43*내역서!AN382 -> 0 | AO43: =D43*내역서!AO382 -> 0 | AP43: =D43*내역서!AP382 -> 0 | AQ43: =D43*내역서!AQ382 -> 0 | AR43: =D43*내역서!AR382 -> 0 | AS43: =D43*내역서!AS382 -> 0 | AT43: =D43*내역서!AT382 -> 0 | AU43: =D43*내역서!AU382 -> 0 | AV43: =D43*내역서!AV382 -> 0
A44: 0118. 폐기물처리비(일반) | C44: 식 | D44: 1 | E44: =내역서!F403 -> 0 | F44: =D44*E44 -> 0 | G44: =내역서!H403 -> 0 | H44: =D44*G44 -> 0 | I44: =내역서!J403 -> 0 | J44: =D44*I44 -> 0 | K44: =E44+G44+I44 -> 0 | L44: =F44+H44+J44 -> 0 | M44: 합계제외 | R44: =D44*내역서!R403 -> 0 | S44: =D44*내역서!S403 -> 0 | T44: =D44*내역서!T403 -> 0 | U44: =D44*내역서!U403 -> 0 | V44: =D44*내역서!V403 -> 0 | W44: =D44*내역서!W403 -> 0 | X44: =D44*내역서!X403 -> 0 | Y44: =D44*내역서!Y403 -> 0 | Z44: =D44*내역서!Z403 -> 0 | AA44: =D44*내역서!AA403 -> 0 | AB44: =D44*내역서!AB403 -> 0 | AC44: =D44*내역서!AC403 -> 0 | AD44: =D44*내역서!AD403 -> 0 | AE44: =D44*내역서!AE403 -> 0 | AF44: =D44*내역서!AF403 -> 0 | AG44: =D44*내역서!AG403 -> 0 | AH44: =D44*내역서!AH403 -> 0 | AI44: =D44*내역서!AI403 -> 0 | AJ44: =D44*내역서!AJ403 -> 0 | AK44: =D44*내역서!AK403 -> 0 | AL44: =D44*내역서!AL403 -> 0 | AM44: =D44*내역서!AM403 -> 0 | AN44: =D44*내역서!AN403 -> 0 | AO44: =D44*내역서!AO403 -> 0 | AP44: =D44*내역서!AP403 -> 0 | AQ44: =D44*내역서!AQ403 -> 0 | AR44: =D44*내역서!AR403 -> 0 | AS44: =D44*내역서!AS403 -> 0 | AT44: =D44*내역서!AT403 -> 0 | AU44: =D44*내역서!AU403 -> 0 | AV44: =D44*내역서!AV403 -> 0
A45: 0119. 폐기물처리비(지정) | C45: 식 | D45: 1 | E45: =내역서!F424 -> 0 | F45: =D45*E45 -> 0 | G45: =내역서!H424 -> 0 | H45: =D45*G45 -> 0 | I45: =내역서!J424 -> 0 | J45: =D45*I45 -> 0 | K45: =E45+G45+I45 -> 0 | L45: =F45+H45+J45 -> 0 | M45: 합계제외 | R45: =D45*내역서!R424 -> 0 | S45: =D45*내역서!S424 -> 0 | T45: =D45*내역서!T424 -> 0 | U45: =D45*내역서!U424 -> 0 | V45: =D45*내역서!V424 -> 0 | W45: =D45*내역서!W424 -> 0 | X45: =D45*내역서!X424 -> 0 | Y45: =D45*내역서!Y424 -> 0 | Z45: =D45*내역서!Z424 -> 0 | AA45: =D45*내역서!AA424 -> 0 | AB45: =D45*내역서!AB424 -> 0 | AC45: =D45*내역서!AC424 -> 0 | AD45: =D45*내역서!AD424 -> 0 | AE45: =D45*내역서!AE424 -> 0 | AF45: =D45*내역서!AF424 -> 0 | AG45: =D45*내역서!AG424 -> 0 | AH45: =D45*내역서!AH424 -> 0 | AI45: =D45*내역서!AI424 -> 0 | AJ45: =D45*내역서!AJ424 -> 0 | AK45: =D45*내역서!AK424 -> 0 | AL45: =D45*내역서!AL424 -> 0 | AM45: =D45*내역서!AM424 -> 0 | AN45: =D45*내역서!AN424 -> 0 | AO45: =D45*내역서!AO424 -> 0 | AP45: =D45*내역서!AP424 -> 0 | AQ45: =D45*내역서!AQ424 -> 0 | AR45: =D45*내역서!AR424 -> 0 | AS45: =D45*내역서!AS424 -> 0 | AT45: =D45*내역서!AT424 -> 0 | AU45: =D45*내역서!AU424 -> 0 | AV45: =D45*내역서!AV424 -> 0
A46: 합 계 | F46: =SUMIF(Q27:Q45, "1", F27:F45) -> 0 | H46: =SUMIF(Q27:Q45, "1", H27:H45) -> 0 | J46: =SUMIF(Q27:Q45, "1", J27:J45) -> 0 | L46: =F46+H46+J46 -> 0 | R46: =SUM(R27:R45) -> 0 | S46: =SUM(S27:S45) -> 0 | T46: =SUM(T27:T45) -> 0 | U46: =SUM(U27:U45) -> 0 | V46: =SUM(V27:V45) -> 0 | W46: =SUM(W27:W45) -> 0 | X46: =SUM(X27:X45) -> 0 | Y46: =SUM(Y27:Y45) -> 0 | ... AY46: =SUM(AY27:AY45) -> 0
A47: 02. 인테리어공사
A48: 0201. 인테리어공사 | C48: 식 | D48: 1 | E48: =내역서!F445 -> 0 | F48: =D48*E48 -> 0 | G48: =내역서!H445 -> 0 | H48: =D48*G48 -> 0 | I48: =내역서!J445 -> 0 | J48: =D48*I48 -> 0 | K48: =E48+G48+I48 -> 0 | L48: =F48+H48+J48 -> 0 | Q48: 1 | R48: =D48*내역서!R445 -> 0 | S48: =D48*내역서!S445 -> 0 | T48: =D48*내역서!T445 -> 0 | U48: =D48*내역서!U445 -> 0 | V48: =D48*내역서!V445 -> 0 | W48: =D48*내역서!W445 -> 0 | X48: =D48*내역서!X445 -> 0 | Y48: =D48*내역서!Y445 -> 0 | Z48: =D48*내역서!Z445 -> 0 | AA48: =D48*내역서!AA445 -> 0 | AB48: =D48*내역서!AB445 -> 0 | AC48: =D48*내역서!AC445 -> 0 | AD48: =D48*내역서!AD445 -> 0 | AE48: =D48*내역서!AE445 -> 0 | AF48: =D48*내역서!AF445 -> 0 | AG48: =D48*내역서!AG445 -> 0 | AH48: =D48*내역서!AH445 -> 0 | AI48: =D48*내역서!AI445 -> 0 | AJ48: =D48*내역서!AJ445 -> 0 | AK48: =D48*내역서!AK445 -> 0 | AL48: =D48*내역서!AL445 -> 0 | AM48: =D48*내역서!AM445 -> 0 | AN48: =D48*내역서!AN445 -> 0 | AO48: =D48*내역서!AO445 -> 0 | AP48: =D48*내역서!AP445 -> 0 | AQ48: =D48*내역서!AQ445 -> 0 | AR48: =D48*내역서!AR445 -> 0 | AS48: =D48*내역서!AS445 -> 0 | AT48: =D48*내역서!AT445 -> 0 | AU48: =D48*내역서!AU445 -> 0 | AV48: =D48*내역서!AV445 -> 0
A67: 합 계 | F67: =SUMIF(Q48:Q48, "1", F48:F48) -> 0 | H67: =SUMIF(Q48:Q48, "1", H48:H48) -> 0 | J67: =SUMIF(Q48:Q48, "1", J48:J48) -> 0 | L67: =F67+H67+J67 -> 0 | R67: =SUM(R48:R48) -> 0 | S67: =SUM(S48:S48) -> 0 | T67: =SUM(T48:T48) -> 0 | U67: =SUM(U48:U48) -> 0 | V67: =SUM(V48:V48) -> 0 | W67: =SUM(W48:W48) -> 0 | X67: =SUM(X48:X48) -> 0 | Y67: =SUM(Y48:Y48) -> 0 | ... AY67: =SUM(AY48:AY48) -> 0

Sheet 내역서
A1: 내 역 서
A2: 공사명 : (대학혁신지원사업) 스미스관 교육 환경개선 공사
A3: 품 명 | B3: 규 격 | C3: 단위 | D3: 수 량 | E3: 재 료 비 | G3: 노 무 비 | I3: 경 비 | K3: 합 계 | M3: 비고
E4: 단 가 | F4: 금 액 | G4: 단 가 | H4: 금 액 | I4: 단 가 | J4: 금 액 | K4: 단 가 | L4: 금 액 | N4: 손료요율 | O4: 손료구분 | P4: 적용구분 | Q4: 합계구분 | R4: 기계경비 | S4: 운반비 | T4: 작업부산물 | U4: 관급 | V4: 외주비 | W4: 장비비 | X4: 폐기물처리비 | Y4: 가설비 | Z4: 잡비제외분 | AA4: 사급자재대 | AB4: 관급자재대 | AC4: 사용자항목1 | AD4: 사용자항목2 | AE4: 안전관리비 | AF4: 품질관리비 | AG4: 작업부산물(철거해체) | AH4: 사용자항목6 | AI4: 사용자항목7 | AJ4: 관급자재대(관급자) | AK4: 관급자재대(관급자) | AL4: 사용자항목10 | AM4: 폐기물처리비(일반) | AN4: 폐기물처리비(지정) | AO4: 사용자항목13 | AP4: 사용자항목14 | AQ4: 사용자항목15 | AR4: 사용자항목16 | AS4: 사용자항목17 | AT4: 사용자항목18 | AU4: 사용자항목19 | AV4: 간접재료비 | AW4: 품목구분 | AX4: 조달코드 | AY4: 구분
A5: 0101. 가설공사
A6: 이동식강관말비계 | B6: 1개월,1단(2m) | C6: 1대 | D6: 20 | F6: =ROUNDDOWN(D6*E6, 0) -> 0 | H6: =ROUNDDOWN(D6*G6, 0) -> 0 | J6: =ROUNDDOWN(D6*I6, 0) -> 0 | K6: =E6+G6+I6 -> 0 | L6: =F6+H6+J6 -> 0 | M6: 일위 1호 | O6: ="" | P6: 기계경비 | Q6: 1 | R6: =IF(P6="기계경비", J6, 0) -> 0 | S6: =IF(P6="운반비", L6, 0) -> 0 | T6: =IF(P6="작업부산물", F6, 0) -> 0 | U6: =IF(P6="관급", F6, 0) -> 0 | V6: =IF(P6="외주비", J6, 0) -> 0 | W6: =IF(P6="장비비", J6, 0) -> 0 | X6: =IF(P6="폐기물처리비", L6, 0) -> 0 | Y6: =IF(P6="가설비", J6, 0) -> 0 | Z6: =IF(P6="잡비제외분", F6, 0) -> 0 | AA6: =IF(P6="사급자재대", L6, 0) -> 0 | AB6: =IF(P6="관급자재대", L6, 0) -> 0 | AC6: =IF(P6="사용자항목1", L6, 0) -> 0 | AD6: =IF(P6="사용자항목2", L6, 0) -> 0 | AE6: =IF(P6="안전관리비", L6, 0) -> 0 | AF6: =IF(P6="품질관리비", L6, 0) -> 0 | AG6: =IF(P6="작업부산물(철거해체)", L6, 0) -> 0 | AH6: =IF(P6="사용자항목6", L6, 0) -> 0 | AI6: =IF(P6="사용자항목7", L6, 0) -> 0 | AJ6: =IF(P6="관급자재대(관급자)", L6, 0) -> 0 | AK6: =IF(P6="관급자재대(관급자)", L6, 0) -> 0 | AL6: =IF(P6="사용자항목10", L6, 0) -> 0 | AM6: =IF(P6="폐기물처리비(일반)", L6, 0) -> 0 | AN6: =IF(P6="폐기물처리비(지정)", L6, 0) -> 0 | AO6: =IF(P6="사용자항목13", L6, 0) -> 0 | AP6: =IF(P6="사용자항목14", L6, 0) -> 0 | AQ6: =IF(P6="사용자항목15", L6, 0) -> 0 | AR6: =IF(P6="사용자항목16", L6, 0) -> 0 | AS6: =IF(P6="사용자항목17", L6, 0) -> 0 | AT6: =IF(P6="사용자항목18", L6, 0) -> 0 | AU6: =IF(P6="사용자항목19", L6, 0) -> 0
A7: 건축물현장정리 | C7: M2 | D7: 3888.3 | F7: =ROUNDDOWN(D7*E7, 0) -> 0 | H7: =ROUNDDOWN(D7*G7, 0) -> 0 | J7: =ROUNDDOWN(D7*I7, 0) -> 0 | K7: =E7+G7+I7 -> 0 | L7: =F7+H7+J7 -> 0 | O7: ="" | P7: 기계경비 | Q7: 1 | R7: =IF(P7="기계경비", J7, 0) -> 0 | S7: =IF(P7="운반비", L7, 0) -> 0 | T7: =IF(P7="작업부산물", F7, 0) -> 0 | U7: =IF(P7="관급", F7, 0) -> 0 | V7: =IF(P7="외주비", J7, 0) -> 0 | W7: =IF(P7="장비비", J7, 0) -> 0 | X7: =IF(P7="폐기물처리비", L7, 0) -> 0 | Y7: =IF(P7="가설비", J7, 0) -> 0 | Z7: =IF(P7="잡비제외분", F7, 0) -> 0 | AA7: =IF(P7="사급자재대", L7, 0) -> 0 | AB7: =IF(P7="관급자재대", L7, 0) -> 0 | AC7: =IF(P7="사용자항목1", L7, 0) -> 0 | AD7: =IF(P7="사용자항목2", L7, 0) -> 0 | AE7: =IF(P7="안전관리비", L7, 0) -> 0 | AF7: =IF(P7="품질관리비", L7, 0) -> 0 | AG7: =IF(P7="작업부산물(철거해체)", L7, 0) -> 0 | AH7: =IF(P7="사용자항목6", L7, 0) -> 0 | AI7: =IF(P7="사용자항목7", L7, 0) -> 0 | AJ7: =IF(P7="관급자재대(관급자)", L7, 0) -> 0 | AK7: =IF(P7="관급자재대(관급자)", L7, 0) -> 0 | AL7: =IF(P7="사용자항목10", L7, 0) -> 0 | AM7: =IF(P7="폐기물처리비(일반)", L7, 0) -> 0 | AN7: =IF(P7="폐기물처리비(지정)", L7, 0) -> 0 | AO7: =IF(P7="사용자항목13", L7, 0) -> 0 | AP7: =IF(P7="사용자항목14", L7, 0) -> 0 | AQ7: =IF(P7="사용자항목15", L7, 0) -> 0 | AR7: =IF(P7="사용자항목16", L7, 0) -> 0 | AS7: =IF(P7="사용자항목17", L7, 0) -> 0 | AT7: =IF(P7="사용자항목18", L7, 0) -> 0 | AU7: =IF(P7="사용자항목19", L7, 0) -> 0
A8: 고소작업장비(스카이) | B8: 5TON(40m급) | C8: 일 | D8: 7 | F8: =ROUNDDOWN(D8*E8, 0) -> 0 | H8: =ROUNDDOWN(D8*G8, 0) -> 0 | J8: =ROUNDDOWN(D8*I8, 0) -> 0 | K8: =E8+G8+I8 -> 0 | L8: =F8+H8+J8 -> 0 | M8: 일위 2호 | O8: ="" | P8: 기계경비 | Q8: 1 | R8: =IF(P8="기계경비", J8, 0) -> 0 | S8: =IF(P8="운반비", L8, 0) -> 0 | T8: =IF(P8="작업부산물", F8, 0) -> 0 | U8: =IF(P8="관급", F8, 0) -> 0 | V8: =IF(P8="외주비", J8, 0) -> 0 | W8: =IF(P8="장비비", J8, 0) -> 0 | X8: =IF(P8="폐기물처리비", L8, 0) -> 0 | Y8: =IF(P8="가설비", J8, 0) -> 0 | Z8: =IF(P8="잡비제외분", F8, 0) -> 0 | AA8: =IF(P8="사급자재대", L8, 0) -> 0 | AB8: =IF(P8="관급자재대", L8, 0) -> 0 | AC8: =IF(P8="사용자항목1", L8, 0) -> 0 | AD8: =IF(P8="사용자항목2", L8, 0) -> 0 | AE8: =IF(P8="안전관리비", L8, 0) -> 0 | AF8: =IF(P8="품질관리비", L8, 0) -> 0 | AG8: =IF(P8="작업부산물(철거해체)", L8, 0) -> 0 | AH8: =IF(P8="사용자항목6", L8, 0) -> 0 | AI8: =IF(P8="사용자항목7", L8, 0) -> 0 | AJ8: =IF(P8="관급자재대(관급자)", L8, 0) -> 0 | AK8: =IF(P8="관급자재대(관급자)", L8, 0) -> 0 | AL8: =IF(P8="사용자항목10", L8, 0) -> 0 | AM8: =IF(P8="폐기물처리비(일반)", L8, 0) -> 0 | AN8: =IF(P8="폐기물처리비(지정)", L8, 0) -> 0 | AO8: =IF(P8="사용자항목13", L8, 0) -> 0 | AP8: =IF(P8="사용자항목14", L8, 0) -> 0 | AQ8: =IF(P8="사용자항목15", L8, 0) -> 0 | AR8: =IF(P8="사용자항목16", L8, 0) -> 0 | AS8: =IF(P8="사용자항목17", L8, 0) -> 0 | AT8: =IF(P8="사용자항목18", L8, 0) -> 0 | AU8: =IF(P8="사용자항목19", L8, 0) -> 0
A25: 합 계 | F25: =ROUNDDOWN(SUMIF(Q6:Q24, "1", F6:F24), 0) -> 0 | H25: =ROUNDDOWN(SUMIF(Q6:Q24, "1", H6:H24), 0) -> 0 | J25: =ROUNDDOWN(SUMIF(Q6:Q24, "1", J6:J24), 0) -> 0 | L25: =F25+H25+J25 -> 0 | R25: =ROUNDDOWN(SUM(R6:R8), 0) -> 0 | S25: =ROUNDDOWN(SUM(S6:S8), 0) -> 0 | T25: =ROUNDDOWN(SUM(T6:T8), 0) -> 0 | U25: =ROUNDDOWN(SUM(U6:U8), 0) -> 0 | V25: =ROUNDDOWN(SUM(V6:V8), 0) -> 0 | W25: =ROUNDDOWN(SUM(W6:W8), 0) -> 0 | X25: =ROUNDDOWN(SUM(X6:X8), 0) -> 0 | Y25: =ROUNDDOWN(SUM(Y6:Y8), 0) -> 0 | ... AY25: =ROUNDDOWN(SUM(AY6:AY8), 0) -> 0
A26: 0102. 철근콘크리트공사
A27: 장비기초대 설치 | B27: 6,600×1,300×200,와이어메쉬 #8-150×150 | C27: 개소 | D27: 2 | F27: =ROUNDDOWN(D27*E27, 0) -> 0 | H27: =ROUNDDOWN(D27*G27, 0) -> 0 | J27: =ROUNDDOWN(D27*I27, 0) -> 0 | K27: =E27+G27+I27 -> 0 | L27: =F27+H27+J27 -> 0 | M27: 일위 3호 | O27: ="" | P27: 기계경비 | Q27: 1 | R27: =IF(P27="기계경비", J27, 0) -> 0 | S27: =IF(P27="운반비", L27, 0) -> 0 | T27: =IF(P27="작업부산물", F27, 0) -> 0 | U27: =IF(P27="관급", F27, 0) -> 0 | V27: =IF(P27="외주비", J27, 0) -> 0 | W27: =IF(P27="장비비", J27, 0) -> 0 | X27: =IF(P27="폐기물처리비", L27, 0) -> 0 | Y27: =IF(P27="가설비", J27, 0) -> 0 | Z27: =IF(P27="잡비제외분", F27, 0) -> 0 | AA27: =IF(P27="사급자재대", L27, 0) -> 0 | AB27: =IF(P27="관급자재대", L27, 0) -> 0 | AC27: =IF(P27="사용자항목1", L27, 0) -> 0 | AD27: =IF(P27="사용자항목2", L27, 0) -> 0 | AE27: =IF(P27="안전관리비", L27, 0) -> 0 | AF27: =IF(P27="품질관리비", L27, 0) -> 0 | AG27: =IF(P27="작업부산물(철거해체)", L27, 0) -> 0 | AH27: =IF(P27="사용자항목6", L27, 0) -> 0 | AI27: =IF(P27="사용자항목7", L27, 0) -> 0 | AJ27: =IF(P27="관급자재대(관급자)", L27, 0) -> 0 | AK27: =IF(P27="관급자재대(관급자)", L27, 0) -> 0 | AL27: =IF(P27="사용자항목10", L27, 0) -> 0 | AM27: =IF(P27="폐기물처리비(일반)", L27, 0) -> 0 | AN27: =IF(P27="폐기물처리비(지정)", L27, 0) -> 0 | AO27: =IF(P27="사용자항목13", L27, 0) -> 0 | AP27: =IF(P27="사용자항목14", L27, 0) -> 0 | AQ27: =IF(P27="사용자항목15", L27, 0) -> 0 | AR27: =IF(P27="사용자항목16", L27, 0) -> 0 | AS27: =IF(P27="사용자항목17", L27, 0) -> 0 | AT27: =IF(P27="사용자항목18", L27, 0) -> 0 | AU27: =IF(P27="사용자항목19", L27, 0) -> 0
A46: 합 계 | F46: =ROUNDDOWN(SUMIF(Q27:Q45, "1", F27:F45), 0) -> 0 | H46: =ROUNDDOWN(SUMIF(Q27:Q45, "1", H27:H45), 0) -> 0 | J46: =ROUNDDOWN(SUMIF(Q27:Q45, "1", J27:J45), 0) -> 0 | L46: =F46+H46+J46 -> 0 | R46: =ROUNDDOWN(SUM(R27:R27), 0) -> 0 | S46: =ROUNDDOWN(SUM(S27:S27), 0) -> 0 | T46: =ROUNDDOWN(SUM(T27:T27), 0) -> 0 | U46: =ROUNDDOWN(SUM(U27:U27), 0) -> 0 | V46: =ROUNDDOWN(SUM(V27:V27), 0) -> 0 | W46: =ROUNDDOWN(SUM(W27:W27), 0) -> 0 | X46: =ROUNDDOWN(SUM(X27:X27), 0) -> 0 | Y46: =ROUNDDOWN(SUM(Y27:Y27), 0) -> 0 | ... AY46: =ROUNDDOWN(SUM(AY27:AY27), 0) -> 0
A47: 0103. 조적공사
A48: 콘크리트벽돌 | B48: 콘크리트벽돌, 190×57×90mm, C종2급 | C48: 매 | D48: 5371 | F48: =ROUNDDOWN(D48*E48, 0) -> 0 | H48: =ROUNDDOWN(D48*G48, 0) -> 0 | J48: =ROUNDDOWN(D48*I48, 0) -> 0 | K48: =E48+G48+I48 -> 0 | L48: =F48+H48+J48 -> 0 | M48: 자재 86호 | O48: ="01" -> 01 | P48: 기계경비 | Q48: 1 | R48: =IF(P48="기계경비", J48, 0) -> 0 | S48: =IF(P48="운반비", L48, 0) -> 0 | T48: =IF(P48="작업부산물", F48, 0) -> 0 | U48: =IF(P48="관급", F48, 0) -> 0 | V48: =IF(P48="외주비", J48, 0) -> 0 | W48: =IF(P48="장비비", J48, 0) -> 0 | X48: =IF(P48="폐기물처리비", L48, 0) -> 0 | Y48: =IF(P48="가설비", J48, 0) -> 0 | Z48: =IF(P48="잡비제외분", F48, 0) -> 0 | AA48: =IF(P48="사급자재대", L48, 0) -> 0 | AB48: =IF(P48="관급자재대", L48, 0) -> 0 | AC48: =IF(P48="사용자항목1", L48, 0) -> 0 | AD48: =IF(P48="사용자항목2", L48, 0) -> 0 | AE48: =IF(P48="안전관리비", L48, 0) -> 0 | AF48: =IF(P48="품질관리비", L48, 0) -> 0 | AG48: =IF(P48="작업부산물(철거해체)", L48, 0) -> 0 | AH48: =IF(P48="사용자항목6", L48, 0) -> 0 | AI48: =IF(P48="사용자항목7", L48, 0) -> 0 | AJ48: =IF(P48="관급자재대(관급자)", L48, 0) -> 0 | AK48: =IF(P48="관급자재대(관급자)", L48, 0) -> 0 | AL48: =IF(P48="사용자항목10", L48, 0) -> 0 | AM48: =IF(P48="폐기물처리비(일반)", L48, 0) -> 0 | AN48: =IF(P48="폐기물처리비(지정)", L48, 0) -> 0 | AO48: =IF(P48="사용자항목13", L48, 0) -> 0 | AP48: =IF(P48="사용자항목14", L48, 0) -> 0 | AQ48: =IF(P48="사용자항목15", L48, 0) -> 0 | AR48: =IF(P48="사용자항목16", L48, 0) -> 0 | AS48: =IF(P48="사용자항목17", L48, 0) -> 0 | AT48: =IF(P48="사용자항목18", L48, 0) -> 0 | AU48: =IF(P48="사용자항목19", L48, 0) -> 0
A49: 시멘트벽돌 쌓기 | B49: 0.5B, 3.6m 이하 | C49: M2 | D49: 24.6 | F49: =ROUNDDOWN(D49*E49, 0) -> 0 | H49: =ROUNDDOWN(D49*G49, 0) -> 0 | J49: =ROUNDDOWN(D49*I49, 0) -> 0 | K49: =E49+G49+I49 -> 0 | L49: =F49+H49+J49 -> 0 | M49: 일위 4호 | O49: ="" | P49: 기계경비 | Q49: 1 | R49: =IF(P49="기계경비", J49, 0) -> 0 | S49: =IF(P49="운반비", L49, 0) -> 0 | T49: =IF(P49="작업부산물", F49, 0) -> 0 | U49: =IF(P49="관급", F49, 0) -> 0 | V49: =IF(P49="외주비", J49, 0) -> 0 | W49: =IF(P49="장비비", J49, 0) -> 0 | X49: =IF(P49="폐기물처리비", L49, 0) -> 0 | Y49: =IF(P49="가설비", J49, 0) -> 0 | Z49: =IF(P49="잡비제외분", F49, 0) -> 0 | AA49: =IF(P49="사급자재대", L49, 0) -> 0 | AB49: =IF(P49="관급자재대", L49, 0) -> 0 | AC49: =IF(P49="사용자항목1", L49, 0) -> 0 | AD49: =IF(P49="사용자항목2", L49, 0) -> 0 | AE49: =IF(P49="안전관리비", L49, 0) -> 0 | AF49: =IF(P49="품질관리비", L49, 0) -> 0 | AG49: =IF(P49="작업부산물(철거해체)", L49, 0) -> 0 | AH49: =IF(P49="사용자항목6", L49, 0) -> 0 | AI49: =IF(P49="사용자항목7", L49, 0) -> 0 | AJ49: =IF(P49="관급자재대(관급자)", L49, 0) -> 0 | AK49: =IF(P49="관급자재대(관급자)", L49, 0) -> 0 | AL49: =IF(P49="사용자항목10", L49, 0) -> 0 | AM49: =IF(P49="폐기물처리비(일반)", L49, 0) -> 0 | AN49: =IF(P49="폐기물처리비(지정)", L49, 0) -> 0 | AO49: =IF(P49="사용자항목13", L49, 0) -> 0 | AP49: =IF(P49="사용자항목14", L49, 0) -> 0 | AQ49: =IF(P49="사용자항목15", L49, 0) -> 0 | AR49: =IF(P49="사용자항목16", L49, 0) -> 0 | AS49: =IF(P49="사용자항목17", L49, 0) -> 0 | AT49: =IF(P49="사용자항목18", L49, 0) -> 0 | AU49: =IF(P49="사용자항목19", L49, 0) -> 0 | AY49: 무성적산
A50: 벽돌소운반 | B50: 인력, 1층 | C50: 천매 | D50: 3.554 | F50: =ROUNDDOWN(D50*E50, 0) -> 0 | H50: =ROUNDDOWN(D50*G50, 0) -> 0 | J50: =ROUNDDOWN(D50*I50, 0) -> 0 | K50: =E50+G50+I50 -> 0 | L50: =F50+H50+J50 -> 0 | M50: 일위 5호 | O50: ="" | P50: 기계경비 | Q50: 1 | R50: =IF(P50="기계경비", J50, 0) -> 0 | S50: =IF(P50="운반비", L50, 0) -> 0 | T50: =IF(P50="작업부산물", F50, 0) -> 0 | U50: =IF(P50="관급", F50, 0) -> 0 | V50: =IF(P50="외주비", J50, 0) -> 0 | W50: =IF(P50="장비비", J50, 0) -> 0 | X50: =IF(P50="폐기물처리비", L50, 0) -> 0 | Y50: =IF(P50="가설비", J50, 0) -> 0 | Z50: =IF(P50="잡비제외분", F50, 0) -> 0 | AA50: =IF(P50="사급자재대", L50, 0) -> 0 | AB50: =IF(P50="관급자재대", L50, 0) -> 0 | AC50: =IF(P50="사용자항목1", L50, 0) -> 0 | AD50: =IF(P50="사용자항목2", L50, 0) -> 0 | AE50: =IF(P50="안전관리비", L50, 0) -> 0 | AF50: =IF(P50="품질관리비", L50, 0) -> 0 | AG50: =IF(P50="작업부산물(철거해체)", L50, 0) -> 0 | AH50: =IF(P50="사용자항목6", L50, 0) -> 0 | AI50: =IF(P50="사용자항목7", L50, 0) -> 0 | AJ50: =IF(P50="관급자재대(관급자)", L50, 0) -> 0 | AK50: =IF(P50="관급자재대(관급자)", L50, 0) -> 0 | AL50: =IF(P50="사용자항목10", L50, 0) -> 0 | AM50: =IF(P50="폐기물처리비(일반)", L50, 0) -> 0 | AN50: =IF(P50="폐기물처리비(지정)", L50, 0) -> 0 | AO50: =IF(P50="사용자항목13", L50, 0) -> 0 | AP50: =IF(P50="사용자항목14", L50, 0) -> 0 | AQ50: =IF(P50="사용자항목15", L50, 0) -> 0 | AR50: =IF(P50="사용자항목16", L50, 0) -> 0 | AS50: =IF(P50="사용자항목17", L50, 0) -> 0 | AT50: =IF(P50="사용자항목18", L50, 0) -> 0 | AU50: =IF(P50="사용자항목19", L50, 0) -> 0
A51: 벽돌소운반 | B51: 인력, 3층 | C51: 천매 | D51: 1.816 | F51: =ROUNDDOWN(D51*E51, 0) -> 0 | H51: =ROUNDDOWN(D51*G51, 0) -> 0 | J51: =ROUNDDOWN(D51*I51, 0) -> 0 | K51: =E51+G51+I51 -> 0 | L51: =F51+H51+J51 -> 0 | M51: 일위 6호 | O51: ="" | P51: 기계경비 | Q51: 1 | R51: =IF(P51="기계경비", J51, 0) -> 0 | S51: =IF(P51="운반비", L51, 0) -> 0 | T51: =IF(P51="작업부산물", F51, 0) -> 0 | U51: =IF(P51="관급", F51, 0) -> 0 | V51: =IF(P51="외주비", J51, 0) -> 0 | W51: =IF(P51="장비비", J51, 0) -> 0 | X51: =IF(P51="폐기물처리비", L51, 0) -> 0 | Y51: =IF(P51="가설비", J51, 0) -> 0 | Z51: =IF(P51="잡비제외분", F51, 0) -> 0 | AA51: =IF(P51="사급자재대", L51, 0) -> 0 | AB51: =IF(P51="관급자재대", L51, 0) -> 0 | AC51: =IF(P51="사용자항목1", L51, 0) -> 0 | AD51: =IF(P51="사용자항목2", L51, 0) -> 0 | AE51: =IF(P51="안전관리비", L51, 0) -> 0 | AF51: =IF(P51="품질관리비", L51, 0) -> 0 | AG51: =IF(P51="작업부산물(철거해체)", L51, 0) -> 0 | AH51: =IF(P51="사용자항목6", L51, 0) -> 0 | AI51: =IF(P51="사용자항목7", L51, 0) -> 0 | AJ51: =IF(P51="관급자재대(관급자)", L51, 0) -> 0 | AK51: =IF(P51="관급자재대(관급자)", L51, 0) -> 0 | AL51: =IF(P51="사용자항목10", L51, 0) -> 0 | AM51: =IF(P51="폐기물처리비(일반)", L51, 0) -> 0 | AN51: =IF(P51="폐기물처리비(지정)", L51, 0) -> 0 | AO51: =IF(P51="사용자항목13", L51, 0) -> 0 | AP51: =IF(P51="사용자항목14", L51, 0) -> 0 | AQ51: =IF(P51="사용자항목15", L51, 0) -> 0 | AR51: =IF(P51="사용자항목16", L51, 0) -> 0 | AS51: =IF(P51="사용자항목17", L51, 0) -> 0 | AT51: =IF(P51="사용자항목18", L51, 0) -> 0 | AU51: =IF(P51="사용자항목19", L51, 0) -> 0
A52: 시멘트벽돌 쌓기 | B52: 1.0B, 3.6m 이하 | C52: M2 | D52: 21.9 | F52: =ROUNDDOWN(D52*E52, 0) -> 0 | H52: =ROUNDDOWN(D52*G52, 0) -> 0 | J52: =ROUNDDOWN(D52*I52, 0) -> 0 | K52: =E52+G52+I52 -> 0 | L52: =F52+H52+J52 -> 0 | M52: 일위 7호 | O52: ="" | P52: 기계경비 | Q52: 1 | R52: =IF(P52="기계경비", J52, 0) -> 0 | S52: =IF(P52="운반비", L52, 0) -> 0 | T52: =IF(P52="작업부산물", F52, 0) -> 0 | U52: =IF(P52="관급", F52, 0) -> 0 | V52: =IF(P52="외주비", J52, 0) -> 0 | W52: =IF(P52="장비비", J52, 0) -> 0 | X52: =IF(P52="폐기물처리비", L52, 0) -> 0 | Y52: =IF(P52="가설비", J52, 0) -> 0 | Z52: =IF(P52="잡비제외분", F52, 0) -> 0 | AA52: =IF(P52="사급자재대", L52, 0) -> 0 | AB52: =IF(P52="관급자재대", L52, 0) -> 0 | AC52: =IF(P52="사용자항목1", L52, 0) -> 0 | AD52: =IF(P52="사용자항목2", L52, 0) -> 0 | AE52: =IF(P52="안전관리비", L52, 0) -> 0 | AF52: =IF(P52="품질관리비", L52, 0) -> 0 | AG52: =IF(P52="작업부산물(철거해체)", L52, 0) -> 0 | AH52: =IF(P52="사용자항목6", L52, 0) -> 0 | AI52: =IF(P52="사용자항목7", L52, 0) -> 0 | AJ52: =IF(P52="관급자재대(관급자)", L52, 0) -> 0 | AK52: =IF(P52="관급자재대(관급자)", L52, 0) -> 0 | AL52: =IF(P52="사용자항목10", L52, 0) -> 0 | AM52: =IF(P52="폐기물처리비(일반)", L52, 0) -> 0 | AN52: =IF(P52="폐기물처리비(지정)", L52, 0) -> 0 | AO52: =IF(P52="사용자항목13", L52, 0) -> 0 | AP52: =IF(P52="사용자항목14", L52, 0) -> 0 | AQ52: =IF(P52="사용자항목15", L52, 0) -> 0 | AR52: =IF(P52="사용자항목16", L52, 0) -> 0 | AS52: =IF(P52="사용자항목17", L52, 0) -> 0 | AT52: =IF(P52="사용자항목18", L52, 0) -> 0 | AU52: =IF(P52="사용자항목19", L52, 0) -> 0 | AY52: 무성적산
A53: 철근콘크리트인방 | B53: 200×200 | C53: M | D53: 1.3 | F53: =ROUNDDOWN(D53*E53, 0) -> 0 | H53: =ROUNDDOWN(D53*G53, 0) -> 0 | J53: =ROUNDDOWN(D53*I53, 0) -> 0 | K53: =E53+G53+I53 -> 0 | L53: =F53+H53+J53 -> 0 | M53: 일위 8호 | O53: ="" | P53: 기계경비 | Q53: 1 | R53: =IF(P53="기계경비", J53, 0) -> 0 | S53: =IF(P53="운반비", L53, 0) -> 0 | T53: =IF(P53="작업부산물", F53, 0) -> 0 | U53: =IF(P53="관급", F53, 0) -> 0 | V53: =IF(P53="외주비", J53, 0) -> 0 | W53: =IF(P53="장비비", J53, 0) -> 0 | X53: =IF(P53="폐기물처리비", L53, 0) -> 0 | Y53: =IF(P53="가설비", J53, 0) -> 0 | Z53: =IF(P53="잡비제외분", F53, 0) -> 0 | AA53: =IF(P53="사급자재대", L53, 0) -> 0 | AB53: =IF(P53="관급자재대", L53, 0) -> 0 | AC53: =IF(P53="사용자항목1", L53, 0) -> 0 | AD53: =IF(P53="사용자항목2", L53, 0) -> 0 | AE53: =IF(P53="안전관리비", L53, 0) -> 0 | AF53: =IF(P53="품질관리비", L53, 0) -> 0 | AG53: =IF(P53="작업부산물(철거해체)", L53, 0) -> 0 | AH53: =IF(P53="사용자항목6", L53, 0) -> 0 | AI53: =IF(P53="사용자항목7", L53, 0) -> 0 | AJ53: =IF(P53="관급자재대(관급자)", L53, 0) -> 0 | AK53: =IF(P53="관급자재대(관급자)", L53, 0) -> 0 | AL53: =IF(P53="사용자항목10", L53, 0) -> 0 | AM53: =IF(P53="폐기물처리비(일반)", L53, 0) -> 0 | AN53: =IF(P53="폐기물처리비(지정)", L53, 0) -> 0 | AO53: =IF(P53="사용자항목13", L53, 0) -> 0 | AP53: =IF(P53="사용자항목14", L53, 0) -> 0 | AQ53: =IF(P53="사용자항목15", L53, 0) -> 0 | AR53: =IF(P53="사용자항목16", L53, 0) -> 0 | AS53: =IF(P53="사용자항목17", L53, 0) -> 0 | AT53: =IF(P53="사용자항목18", L53, 0) -> 0 | AU53: =IF(P53="사용자항목19", L53, 0) -> 0 | AY53: 무성적산
A67: 합 계 | F67: =ROUNDDOWN(SUMIF(Q48:Q66, "1", F48:F66), 0) -> 0 | H67: =ROUNDDOWN(SUMIF(Q48:Q66, "1", H48:H66), 0) -> 0 | J67: =ROUNDDOWN(SUMIF(Q48:Q66, "1", J48:J66), 0) -> 0 | L67: =F67+H67+J67 -> 0 | R67: =ROUNDDOWN(SUM(R48:R53), 0) -> 0 | S67: =ROUNDDOWN(SUM(S48:S53), 0) -> 0 | T67: =ROUNDDOWN(SUM(T48:T53), 0) -> 0 | U67: =ROUNDDOWN(SUM(U48:U53), 0) -> 0 | V67: =ROUNDDOWN(SUM(V48:V53), 0) -> 0 | W67: =ROUNDDOWN(SUM(W48:W53), 0) -> 0 | X67: =ROUNDDOWN(SUM(X48:X53), 0) -> 0 | Y67: =ROUNDDOWN(SUM(Y48:Y53), 0) -> 0 | ... AY67: =ROUNDDOWN(SUM(AY48:AY53), 0) -> 0
A68: 0104. 돌및타일공사
A69: 화강석붙임(수전턱,습식) | B69: 수마,인조대리석 120×20mm,모르타르 30mm | C69: M | D69: 2 | F69: =ROUNDDOWN(D69*E69, 0) -> 0 | H69: =ROUNDDOWN(D69*G69, 0) -> 0 | J69: =ROUNDDOWN(D69*I69, 0) -> 0 | K69: =E69+G69+I69 -> 0 | L69: =F69+H69+J69 -> 0 | M69: 일위 9호 | O69: ="" | P69: 기계경비 | Q69: 1 | R69: =IF(P69="기계경비", J69, 0) -> 0 | S69: =IF(P69="운반비", L69, 0) -> 0 | T69: =IF(P69="작업부산물", F69, 0) -> 0 | U69: =IF(P69="관급", F69, 0) -> 0 | V69: =IF(P69="외주비", J69, 0) -> 0 | W69: =IF(P69="장비비", J69, 0) -> 0 | X69: =IF(P69="폐기물처리비", L69, 0) -> 0 | Y69: =IF(P69="가설비", J69, 0) -> 0 | Z69: =IF(P69="잡비제외분", F69, 0) -> 0 | AA69: =IF(P69="사급자재대", L69, 0) -> 0 | AB69: =IF(P69="관급자재대", L69, 0) -> 0 | AC69: =IF(P69="사용자항목1", L69, 0) -> 0 | AD69: =IF(P69="사용자항목2", L69, 0) -> 0 | AE69: =IF(P69="안전관리비", L69, 0) -> 0 | AF69: =IF(P69="품질관리비", L69, 0) -> 0 | AG69: =IF(P69="작업부산물(철거해체)", L69, 0) -> 0 | AH69: =IF(P69="사용자항목6", L69, 0) -> 0 | AI69: =IF(P69="사용자항목7", L69, 0) -> 0 | AJ69: =IF(P69="관급자재대(관급자)", L69, 0) -> 0 | AK69: =IF(P69="관급자재대(관급자)", L69, 0) -> 0 | AL69: =IF(P69="사용자항목10", L69, 0) -> 0 | AM69: =IF(P69="폐기물처리비(일반)", L69, 0) -> 0 | AN69: =IF(P69="폐기물처리비(지정)", L69, 0) -> 0 | AO69: =IF(P69="사용자항목13", L69, 0) -> 0 | AP69: =IF(P69="사용자항목14", L69, 0) -> 0 | AQ69: =IF(P69="사용자항목15", L69, 0) -> 0 | AR69: =IF(P69="사용자항목16", L69, 0) -> 0 | AS69: =IF(P69="사용자항목17", L69, 0) -> 0 | AT69: =IF(P69="사용자항목18", L69, 0) -> 0 | AU69: =IF(P69="사용자항목19", L69, 0) -> 0 | AY69: 무성적산
A88: 합 계 | F88: =ROUNDDOWN(SUMIF(Q69:Q87, "1", F69:F87), 0) -> 0 | H88: =ROUNDDOWN(SUMIF(Q69:Q87, "1", H69:H87), 0) -> 0 | J88: =ROUNDDOWN(SUMIF(Q69:Q87, "1", J69:J87), 0) -> 0 | L88: =F88+H88+J88 -> 0 | R88: =ROUNDDOWN(SUM(R69:R69), 0) -> 0 | S88: =ROUNDDOWN(SUM(S69:S69), 0) -> 0 | T88: =ROUNDDOWN(SUM(T69:T69), 0) -> 0 | U88: =ROUNDDOWN(SUM(U69:U69), 0) -> 0 | V88: =ROUNDDOWN(SUM(V69:V69), 0) -> 0 | W88: =ROUNDDOWN(SUM(W69:W69), 0) -> 0 | X88: =ROUNDDOWN(SUM(X69:X69), 0) -> 0 | Y88: =ROUNDDOWN(SUM(Y69:Y69), 0) -> 0 | ... AY88: =ROUNDDOWN(SUM(AY69:AY69), 0) -> 0
A89: 0105. 목 공 사
A90: 벽,띠장설치(미송) | B90: 30×30,@450×450 | C90: M2 | D90: 1.1 | F90: =ROUNDDOWN(D90*E90, 0) -> 0 | H90: =ROUNDDOWN(D90*G90, 0) -> 0 | J90: =ROUNDDOWN(D90*I90, 0) -> 0 | K90: =E90+G90+I90 -> 0 | L90: =F90+H90+J90 -> 0 | M90: 일위 10호 | O90: ="" | P90: 기계경비 | Q90: 1 | R90: =IF(P90="기계경비", J90, 0) -> 0 | S90: =IF(P90="운반비", L90, 0) -> 0 | T90: =IF(P90="작업부산물", F90, 0) -> 0 | U90: =IF(P90="관급", F90, 0) -> 0 | V90: =IF(P90="외주비", J90, 0) -> 0 | W90: =IF(P90="장비비", J90, 0) -> 0 | X90: =IF(P90="폐기물처리비", L90, 0) -> 0 | Y90: =IF(P90="가설비", J90, 0) -> 0 | Z90: =IF(P90="잡비제외분", F90, 0) -> 0 | AA90: =IF(P90="사급자재대", L90, 0) -> 0 | AB90: =IF(P90="관급자재대", L90, 0) -> 0 | AC90: =IF(P90="사용자항목1", L90, 0) -> 0 | AD90: =IF(P90="사용자항목2", L90, 0) -> 0 | AE90: =IF(P90="안전관리비", L90, 0) -> 0 | AF90: =IF(P90="품질관리비", L90, 0) -> 0 | AG90: =IF(P90="작업부산물(철거해체)", L90, 0) -> 0 | AH90: =IF(P90="사용자항목6", L90, 0) -> 0 | AI90: =IF(P90="사용자항목7", L90, 0) -> 0 | AJ90: =IF(P90="관급자재대(관급자)", L90, 0) -> 0 | AK90: =IF(P90="관급자재대(관급자)", L90, 0) -> 0 | AL90: =IF(P90="사용자항목10", L90, 0) -> 0 | AM90: =IF(P90="폐기물처리비(일반)", L90, 0) -> 0 | AN90: =IF(P90="폐기물처리비(지정)", L90, 0) -> 0 | AO90: =IF(P90="사용자항목13", L90, 0) -> 0 | AP90: =IF(P90="사용자항목14", L90, 0) -> 0 | AQ90: =IF(P90="사용자항목15", L90, 0) -> 0 | AR90: =IF(P90="사용자항목16", L90, 0) -> 0 | AS90: =IF(P90="사용자항목17", L90, 0) -> 0 | AT90: =IF(P90="사용자항목18", L90, 0) -> 0 | AU90: =IF(P90="사용자항목19", L90, 0) -> 0 | AY90: 무성적산
A109: 합 계 | F109: =ROUNDDOWN(SUMIF(Q90:Q108, "1", F90:F108), 0) -> 0 | H109: =ROUNDDOWN(SUMIF(Q90:Q108, "1", H90:H108), 0) -> 0 | J109: =ROUNDDOWN(SUMIF(Q90:Q108, "1", J90:J108), 0) -> 0 | L109: =F109+H109+J109 -> 0 | R109: =ROUNDDOWN(SUM(R90:R90), 0) -> 0 | S109: =ROUNDDOWN(SUM(S90:S90), 0) -> 0 | T109: =ROUNDDOWN(SUM(T90:T90), 0) -> 0 | U109: =ROUNDDOWN(SUM(U90:U90), 0) -> 0 | V109: =ROUNDDOWN(SUM(V90:V90), 0) -> 0 | W109: =ROUNDDOWN(SUM(W90:W90), 0) -> 0 | X109: =ROUNDDOWN(SUM(X90:X90), 0) -> 0 | Y109: =ROUNDDOWN(SUM(Y90:Y90), 0) -> 0 | ... AY109: =ROUNDDOWN(SUM(AY90:AY90), 0) -> 0
A110: 0106. 방수공사
A111: 노출복합시트방수 | B111: 바닥,3.5mm | C111: M2 | D111: 848.2 | F111: =ROUNDDOWN(D111*E111, 0) -> 0 | H111: =ROUNDDOWN(D111*G111, 0) -> 0 | J111: =ROUNDDOWN(D111*I111, 0) -> 0 | K111: =E111+G111+I111 -> 0 | L111: =F111+H111+J111 -> 0 | M111: 자재 18호 | O111: ="01" -> 01 | P111: 기계경비 | Q111: 1 | R111: =IF(P111="기계경비", J111, 0) -> 0 | S111: =IF(P111="운반비", L111, 0) -> 0 | T111: =IF(P111="작업부산물", F111, 0) -> 0 | U111: =IF(P111="관급", F111, 0) -> 0 | V111: =IF(P111="외주비", J111, 0) -> 0 | W111: =IF(P111="장비비", J111, 0) -> 0 | X111: =IF(P111="폐기물처리비", L111, 0) -> 0 | Y111: =IF(P111="가설비", J111, 0) -> 0 | Z111: =IF(P111="잡비제외분", F111, 0) -> 0 | AA111: =IF(P111="사급자재대", L111, 0) -> 0 | AB111: =IF(P111="관급자재대", L111, 0) -> 0 | AC111: =IF(P111="사용자항목1", L111, 0) -> 0 | AD111: =IF(P111="사용자항목2", L111, 0) -> 0 | AE111: =IF(P111="안전관리비", L111, 0) -> 0 | AF111: =IF(P111="품질관리비", L111, 0) -> 0 | AG111: =IF(P111="작업부산물(철거해체)", L111, 0) -> 0 | AH111: =IF(P111="사용자항목6", L111, 0) -> 0 | AI111: =IF(P111="사용자항목7", L111, 0) -> 0 | AJ111: =IF(P111="관급자재대(관급자)", L111, 0) -> 0 | AK111: =IF(P111="관급자재대(관급자)", L111, 0) -> 0 | AL111: =IF(P111="사용자항목10", L111, 0) -> 0 | AM111: =IF(P111="폐기물처리비(일반)", L111, 0) -> 0 | AN111: =IF(P111="폐기물처리비(지정)", L111, 0) -> 0 | AO111: =IF(P111="사용자항목13", L111, 0) -> 0 | AP111: =IF(P111="사용자항목14", L111, 0) -> 0 | AQ111: =IF(P111="사용자항목15", L111, 0) -> 0 | AR111: =IF(P111="사용자항목16", L111, 0) -> 0 | AS111: =IF(P111="사용자항목17", L111, 0) -> 0 | AT111: =IF(P111="사용자항목18", L111, 0) -> 0 | AU111: =IF(P111="사용자항목19", L111, 0) -> 0 | AY111: 무성적산
A112: 노출복합시트방수 | B112: 벽체,3.5mm | C112: M2 | D112: 47.5 | F112: =ROUNDDOWN(D112*E112, 0) -> 0 | H112: =ROUNDDOWN(D112*G112, 0) -> 0 | J112: =ROUNDDOWN(D112*I112, 0) -> 0 | K112: =E112+G112+I112 -> 0 | L112: =F112+H112+J112 -> 0 | M112: 자재 19호 | O112: ="01" -> 01 | P112: 기계경비 | Q112: 1 | R112: =IF(P112="기계경비", J112, 0) -> 0 | S112: =IF(P112="운반비", L112, 0) -> 0 | T112: =IF(P112="작업부산물", F112, 0) -> 0 | U112: =IF(P112="관급", F112, 0) -> 0 | V112: =IF(P112="외주비", J112, 0) -> 0 | W112: =IF(P112="장비비", J112, 0) -> 0 | X112: =IF(P112="폐기물처리비", L112, 0) -> 0 | Y112: =IF(P112="가설비", J112, 0) -> 0 | Z112: =IF(P112="잡비제외분", F112, 0) -> 0 | AA112: =IF(P112="사급자재대", L112, 0) -> 0 | AB112: =IF(P112="관급자재대", L112, 0) -> 0 | AC112: =IF(P112="사용자항목1", L112, 0) -> 0 | AD112: =IF(P112="사용자항목2", L112, 0) -> 0 | AE112: =IF(P112="안전관리비", L112, 0) -> 0 | AF112: =IF(P112="품질관리비", L112, 0) -> 0 | AG112: =IF(P112="작업부산물(철거해체)", L112, 0) -> 0 | AH112: =IF(P112="사용자항목6", L112, 0) -> 0 | AI112: =IF(P112="사용자항목7", L112, 0) -> 0 | AJ112: =IF(P112="관급자재대(관급자)", L112, 0) -> 0 | AK112: =IF(P112="관급자재대(관급자)", L112, 0) -> 0 | AL112: =IF(P112="사용자항목10", L112, 0) -> 0 | AM112: =IF(P112="폐기물처리비(일반)", L112, 0) -> 0 | AN112: =IF(P112="폐기물처리비(지정)", L112, 0) -> 0 | AO112: =IF(P112="사용자항목13", L112, 0) -> 0 | AP112: =IF(P112="사용자항목14", L112, 0) -> 0 | AQ112: =IF(P112="사용자항목15", L112, 0) -> 0 | AR112: =IF(P112="사용자항목16", L112, 0) -> 0 | AS112: =IF(P112="사용자항목17", L112, 0) -> 0 | AT112: =IF(P112="사용자항목18", L112, 0) -> 0 | AU112: =IF(P112="사용자항목19", L112, 0) -> 0 | AY112: 무성적산
A113: 수밀코킹(실리콘) | B113: 10mm, 창호주위(양면) | C113: M | D113: 1805.2 | F113: =ROUNDDOWN(D113*E113, 0) -> 0 | H113: =ROUNDDOWN(D113*G113, 0) -> 0 | J113: =ROUNDDOWN(D113*I113, 0) -> 0 | K113: =E113+G113+I113 -> 0 | L113: =F113+H113+J113 -> 0 | M113: 일위 11호 | O113: ="" | P113: 기계경비 | Q113: 1 | R113: =IF(P113="기계경비", J113, 0) -> 0 | S113: =IF(P113="운반비", L113, 0) -> 0 | T113: =IF(P113="작업부산물", F113, 0) -> 0 | U113: =IF(P113="관급", F113, 0) -> 0 | V113: =IF(P113="외주비", J113, 0) -> 0 | W113: =IF(P113="장비비", J113, 0) -> 0 | X113: =IF(P113="폐기물처리비", L113, 0) -> 0 | Y113: =IF(P113="가설비", J113, 0) -> 0 | Z113: =IF(P113="잡비제외분", F113, 0) -> 0 | AA113: =IF(P113="사급자재대", L113, 0) -> 0 | AB113: =IF(P113="관급자재대", L113, 0) -> 0 | AC113: =IF(P113="사용자항목1", L113, 0) -> 0 | AD113: =IF(P113="사용자항목2", L113, 0) -> 0 | AE113: =IF(P113="안전관리비", L113, 0) -> 0 | AF113: =IF(P113="품질관리비", L113, 0) -> 0 | AG113: =IF(P113="작업부산물(철거해체)", L113, 0) -> 0 | AH113: =IF(P113="사용자항목6", L113, 0) -> 0 | AI113: =IF(P113="사용자항목7", L113, 0) -> 0 | AJ113: =IF(P113="관급자재대(관급자)", L113, 0) -> 0 | AK113: =IF(P113="관급자재대(관급자)", L113, 0) -> 0 | AL113: =IF(P113="사용자항목10", L113, 0) -> 0 | AM113: =IF(P113="폐기물처리비(일반)", L113, 0) -> 0 | AN113: =IF(P113="폐기물처리비(지정)", L113, 0) -> 0 | AO113: =IF(P113="사용자항목13", L113, 0) -> 0 | AP113: =IF(P113="사용자항목14", L113, 0) -> 0 | AQ113: =IF(P113="사용자항목15", L113, 0) -> 0 | AR113: =IF(P113="사용자항목16", L113, 0) -> 0 | AS113: =IF(P113="사용자항목17", L113, 0) -> 0 | AT113: =IF(P113="사용자항목18", L113, 0) -> 0 | AU113: =IF(P113="사용자항목19", L113, 0) -> 0 | AY113: 무성적산
A130: 합 계 | F130: =ROUNDDOWN(SUMIF(Q111:Q129, "1", F111:F129), 0) -> 0 | H130: =ROUNDDOWN(SUMIF(Q111:Q129, "1", H111:H129), 0) -> 0 | J130: =ROUNDDOWN(SUMIF(Q111:Q129, "1", J111:J129), 0) -> 0 | L130: =F130+H130+J130 -> 0 | R130: =ROUNDDOWN(SUM(R111:R113), 0) -> 0 | S130: =ROUNDDOWN(SUM(S111:S113), 0) -> 0 | T130: =ROUNDDOWN(SUM(T111:T113), 0) -> 0 | U130: =ROUNDDOWN(SUM(U111:U113), 0) -> 0 | V130: =ROUNDDOWN(SUM(V111:V113), 0) -> 0 | W130: =ROUNDDOWN(SUM(W111:W113), 0) -> 0 | X130: =ROUNDDOWN(SUM(X111:X113), 0) -> 0 | Y130: =ROUNDDOWN(SUM(Y111:Y113), 0) -> 0 | ... AY130: =ROUNDDOWN(SUM(AY111:AY113), 0) -> 0
A131: 0107. 지붕및홈통공사
A132: 구멍뚫기(코어드릴) | B132: D150, 콘크리트 150㎜ | C132: 개소 | D132: 3 | F132: =ROUNDDOWN(D132*E132, 0) -> 0 | H132: =ROUNDDOWN(D132*G132, 0) -> 0 | J132: =ROUNDDOWN(D132*I132, 0) -> 0 | K132: =E132+G132+I132 -> 0 | L132: =F132+H132+J132 -> 0 | M132: 일위 12호 | O132: ="" | P132: 기계경비 | Q132: 1 | R132: =IF(P132="기계경비", J132, 0) -> 0 | S132: =IF(P132="운반비", L132, 0) -> 0 | T132: =IF(P132="작업부산물", F132, 0) -> 0 | U132: =IF(P132="관급", F132, 0) -> 0 | V132: =IF(P132="외주비", J132, 0) -> 0 | W132: =IF(P132="장비비", J132, 0) -> 0 | X132: =IF(P132="폐기물처리비", L132, 0) -> 0 | Y132: =IF(P132="가설비", J132, 0) -> 0 | Z132: =IF(P132="잡비제외분", F132, 0) -> 0 | AA132: =IF(P132="사급자재대", L132, 0) -> 0 | AB132: =IF(P132="관급자재대", L132, 0) -> 0 | AC132: =IF(P132="사용자항목1", L132, 0) -> 0 | AD132: =IF(P132="사용자항목2", L132, 0) -> 0 | AE132: =IF(P132="안전관리비", L132, 0) -> 0 | AF132: =IF(P132="품질관리비", L132, 0) -> 0 | AG132: =IF(P132="작업부산물(철거해체)", L132, 0) -> 0 | AH132: =IF(P132="사용자항목6", L132, 0) -> 0 | AI132: =IF(P132="사용자항목7", L132, 0) -> 0 | AJ132: =IF(P132="관급자재대(관급자)", L132, 0) -> 0 | AK132: =IF(P132="관급자재대(관급자)", L132, 0) -> 0 | AL132: =IF(P132="사용자항목10", L132, 0) -> 0 | AM132: =IF(P132="폐기물처리비(일반)", L132, 0) -> 0 | AN132: =IF(P132="폐기물처리비(지정)", L132, 0) -> 0 | AO132: =IF(P132="사용자항목13", L132, 0) -> 0 | AP132: =IF(P132="사용자항목14", L132, 0) -> 0 | AQ132: =IF(P132="사용자항목15", L132, 0) -> 0 | AR132: =IF(P132="사용자항목16", L132, 0) -> 0 | AS132: =IF(P132="사용자항목17", L132, 0) -> 0 | AT132: =IF(P132="사용자항목18", L132, 0) -> 0 | AU132: =IF(P132="사용자항목19", L132, 0) -> 0
A133: 루프드레인설치 | B133: 수직형 150mm | C133: 개소 | D133: 3 | F133: =ROUNDDOWN(D133*E133, 0) -> 0 | H133: =ROUNDDOWN(D133*G133, 0) -> 0 | J133: =ROUNDDOWN(D133*I133, 0) -> 0 | K133: =E133+G133+I133 -> 0 | L133: =F133+H133+J133 -> 0 | M133: 일위 13호 | O133: ="" | P133: 기계경비 | Q133: 1 | R133: =IF(P133="기계경비", J133, 0) -> 0 | S133: =IF(P133="운반비", L133, 0) -> 0 | T133: =IF(P133="작업부산물", F133, 0) -> 0 | U133: =IF(P133="관급", F133, 0) -> 0 | V133: =IF(P133="외주비", J133, 0) -> 0 | W133: =IF(P133="장비비", J133, 0) -> 0 | X133: =IF(P133="폐기물처리비", L133, 0) -> 0 | Y133: =IF(P133="가설비", J133, 0) -> 0 | Z133: =IF(P133="잡비제외분", F133, 0) -> 0 | AA133: =IF(P133="사급자재대", L133, 0) -> 0 | AB133: =IF(P133="관급자재대", L133, 0) -> 0 | AC133: =IF(P133="사용자항목1", L133, 0) -> 0 | AD133: =IF(P133="사용자항목2", L133, 0) -> 0 | AE133: =IF(P133="안전관리비", L133, 0) -> 0 | AF133: =IF(P133="품질관리비", L133, 0) -> 0 | AG133: =IF(P133="작업부산물(철거해체)", L133, 0) -> 0 | AH133: =IF(P133="사용자항목6", L133, 0) -> 0 | AI133: =IF(P133="사용자항목7", L133, 0) -> 0 | AJ133: =IF(P133="관급자재대(관급자)", L133, 0) -> 0 | AK133: =IF(P133="관급자재대(관급자)", L133, 0) -> 0 | AL133: =IF(P133="사용자항목10", L133, 0) -> 0 | AM133: =IF(P133="폐기물처리비(일반)", L133, 0) -> 0 | AN133: =IF(P133="폐기물처리비(지정)", L133, 0) -> 0 | AO133: =IF(P133="사용자항목13", L133, 0) -> 0 | AP133: =IF(P133="사용자항목14", L133, 0) -> 0 | AQ133: =IF(P133="사용자항목15", L133, 0) -> 0 | AR133: =IF(P133="사용자항목16", L133, 0) -> 0 | AS133: =IF(P133="사용자항목17", L133, 0) -> 0 | AT133: =IF(P133="사용자항목18", L133, 0) -> 0 | AU133: =IF(P133="사용자항목19", L133, 0) -> 0
