Workbook

Sheet 갑지A
B1: 설 계 서 용 지 (갑 지)
B2: 과장 | E2: 담당 | H2: 검수자 | K2: 설계자 | N2: 2026년 4월 30일 설계
C4: 2026년
C6: 공용 스마트 교육공간 인프라 구축(건축)
C8: 개 요 : 공용 스마트 교육공간 인프라 구축(건축)
C10: 총공사비 : | E10: =" 일금 "&NUMBERSTRING(G15, 1)&"원정 ("&TEXT(G15, "#,###원")&")" -> 일금 영원정 (원)
D12: 도급금액 | E12: 공급가액 | G12: ='원가계산서(방수)'!E27 -> 0
E13: 부가세 | G13: ='원가계산서(방수)'!E28 -> 0
E14: 도급액 | G14: ='원가계산서(방수)'!E29 -> 0
D15: 총 공 사 비 | G15: =TRUNC(G14, -4) -> 0 | J15: 천원단위절삭

Sheet 원가계산서(방수)
A1: 공 사 원 가 계 산 서
A2: =내역서!A2 -> 공사명: 동산도서관 8층 옥상방수공사 | F2: ="금액: 일금 "&NUMBERSTRING(E30,1)&"원정("&TEXT(E30,"#,###원")&")" -> 금액: 일금 영원정(원)
B3: 비 목 | E3: 금 액 | F3: 구 성 비 | G3: 비 고 | H3: A | I3: 8
A4: A10 | B4: 순 공 사 원 가 | C4: 재 료 비 | D4: 직 접 재 료 비 | E4: =내역서!F28 -> 0 | H4: 100 | I4: 직 접 재 료 비 | J4: 0 | K4: 56401047 | L4: 56401047 | M4: 0 | N4: 20120321 | O4: ZZ0000100000
A5: A20 | D5: 간 접 재 료 비 | E5: =TRUNC(, 0) -> 0 | H5: 110 | I5: 간 접 재 료 비 | J5: 0 | L5: 0 | M5: 0 | O5: YZA001000000
A6: A30 | D6: 작업설,부산물(△) | E6: =TRUNC(, 0) -> 0 | H6: 120 | I6: 작업설,부산물(△) | J6: 0 | L6: 0 | M6: 0 | O6: YZA002000000
A7: AZZ | D7: [ 소 계 ] | E7: =TRUNC(E4+E5-E6, 0) -> 0 | H7: 190 | I7: [ 소 계 ] | J7: 0 | K7: A10+A20-A30 | L7: 56401047 | M7: 0 | O7: YZS001000000
A8: B10 | C8: 노 무 비 | D8: 직 접 노 무 비 | E8: =내역서!H28 -> 0 | H8: 200 | I8: 직 접 노 무 비 | J8: 0 | K8: 28861908 | L8: 28861908 | M8: 0 | O8: ZZA000100000
A9: B20 | D9: 간 접 노 무 비 | E9: =TRUNC(E8*0.12, 0) -> 0 | F9: 직접노무비* 12% | H9: 210 | I9: 간 접 노 무 비 | J9: 15 | K9: B10*%% | L9: 4329286 | M9: 0 | O9: ZZA000200000
A10: BZZ | D10: [ 소 계 ] | E10: =TRUNC(E8+E9, 0) -> 0 | H10: 290 | I10: [ 소 계 ] | J10: 0 | K10: B10+B20 | L10: 33191194 | M10: 0 | O10: YZS002000000
A11: C30 | C11: 경 비 | D11: 산출경비(기계경비) | E11: =내역서!J28 -> 0 | H11: 3100 | I11: 산출경비(기계경비) | J11: 0 | K11: 1990889 | L11: 1990889 | M11: 0 | O11: ZZB000100000
A12: C90 | D12: 산 재 보 험 료 | E12: =TRUNC(E10*0.0356, 0) -> 0 | F12: 노무비*3.56% | G12: 모든 건설공사 | H12: 3300 | I12: 산 재 보 험 료 | J12: 3.56 | K12: BZZ*%% | L12: 1181606 | M12: 0 | O12: ZZB110100000
A13: CA0 | D13: 고 용 보 험 료 | E13: =TRUNC(E10*0.0101, 0) -> 0 | F13: 노무비 * 1.01% | G13: [7등급+7등급미만] 130억 미만 ~ 81억(고시금액) 이상 | H13: 3400 | I13: 고 용 보 험 료 | J13: 1.01 | K13: BZZ*%% | L13: 335231 | M13: 0 | O13: ZZB120100000
A14: CB0 | D14: 국민 건강 보험료 | F14: 직접노무비* 3.595% | G14: 공사기간 1개월미만 제외 | H14: 3500 | I14: 국민 건강 보험료 | J14: 3.595 | K14: B10*%% | L14: 1037585 | M14: 0 | O14: ZZB130100000
A15: CC0 | D15: 국민 연금 보험료 | F15: 직접노무비 * 4.75% | G15: 공사기간 1개월미만 제외 | H15: 3600 | I15: 국민 연금 보험료 | J15: 4.75 | K15: B10*%% | L15: 1370940 | M15: 0 | O15: ZZB140100000
A16: CD0 | D16: 노인장기요양보험료 | F16: 건강보험료* 13.14% | G16: 공사기간 1개월미만 제외 | H16: 3750 | I16: 노인장기요양보험료 | J16: 13.14 | K16: CB0*%% | L16: 136338 | M16: 0 | O16: ZZB130200000
A17: CE0 | D17: 퇴직 공제 부금비 | F17: 직접노무비 * 2.3% | G17: 추정금액 50억원이상 건설공사 | H17: 3775 | I17: 퇴직 공제 부금비 | J17: 2.3 | K17: B10*%% | L17: 663823 | M17: 0 | O17: ZZB200100000
A18: CH0 | D18: 산업안전보건관리비 | E18: =(E7+E8)*3.11% -> 0 | F18: (재료비+직노+도급자관급) * 3.11% | G18: 5억미만, 일반건설공사(갑) | H18: 3900 | I18: 산업안전보건관리비 | J18: 3.11 | K18: (AZZ+B10+Q10/1.1)*%% | L18: 2651677 | M18: 0 | O18: ZZB300100000
A19: CQ0 | D19: 환경보전비 | E19: =(E7+E8+E11)*0.5% -> 0 | F19: (재료비+직노+기계경비) * 0.5% | H19: 4600 | I19: 환경보전비 | J19: 0.5 | K19: (AZZ+B10+C30)*%% | L19: 436269 | M19: 0 | O19: ZZB700100000
D20: 석면분담금 | E20: =E10*0.006% -> 0 | F20: (노) * 0.006%
D21: 임금채권부담금 | E21: =E10*0.09% -> 0 | F21: (노) * 0.09%
A22: CT0 | D22: 기 타 경 비 | E22: =(E7+E10)*0.05 -> 0 | F22: (재료비+노무비)* 5% | H22: 4700 | I22: 기 타 경 비 | J22: 4.6 | K22: (AZZ+BZZ)*%% | L22: 4121243 | M22: 0 | O22: ZZB400100000
A23: CZZ | D23: [ 소 계 ] | E23: =SUM(E11:E22) -> 0 | H23: 9910 | I23: [ 소 계 ] | J23: 0 | K23: C20+C30+C60+C70+C90+CA0+CB0+CC0+CD0+CE0+CE1+CH0+CH1+CH2+CH3+CH4+CQ0+CT0+CT1+CT2+CU0+CV0+CW0 | L23: 13925601 | M23: 0 | O23: YZS003000000
A24: DZZ | B24: 계 | E24: =E7+E10+E23 -> 0 | H24: 900710 | I24: 계 | J24: 0 | K24: AZZ+BZZ+CZZ | L24: 103517842 | M24: 0 | O24: YZS004000000
A25: E10 | B25: 일 반 관 리 비 | E25: =E24*8% -> 0 | F25: 계 * 8% | H25: 900810 | I25: 일 반 관 리 비 | J25: 8 | K25: DZZ*%% | L25: 8281427 | M25: 0 | O25: ZZC000100000
A26: E20 | B26: 이 윤 | E26: =(E10+E23+E25)*0.15 -> 0 | F26: (노무비+경비+일반관리비) * 15% | H26: 900820 | I26: 이 윤 | J26: 15 | K26: (BZZ+CZZ+E10)*%% | L26: 8309733 | M26: 0 | O26: ZZD000100000
A27: P10 | B27: 공 급 가 액 | E27: =SUM(E24:E26) -> 0 | H27: 900900 | I27: 공 급 가 액 | J27: 0 | K27: DZZ+E10+E20+CE1+F30+F40+F10+F60+F70 | L27: 120109002 | M27: 0 | O27: YZD007000000 | XFD27: =SUM(E27:XFC27) -> 121009902
A28: P20 | B28: 부 가 가 치 세 | E28: =E27*0.1 -> 0 | F28: 공급가액 * 10% | H28: 900920 | I28: 부 가 가 치 세 | J28: 10 | K28: P10*%% | L28: 12010900 | M28: 0 | O28: ZZF000100000
A29: P30 | B29: 도 급 액 | E29: =E27+E28 -> 0 | H29: 900990 | I29: 도 급 액 | J29: 0 | K29: P10+P20 | L29: 132119902 | M29: 0 | O29: YZD014000000
A30: W10 | B30: 총 공 사 비 | E30: =TRUNC(E29, -5) -> 0 | F30: 만단위 이하 절사 | H30: 1001100 | I30: 총 공 사 비 | J30: 0 | K30: P30+Q10+Q20+Q30+Q40+Q50+Q60 | L30: 132119902 | M30: 0 | O30: YZS005000000

Sheet 내역서
A1: 공 종 별 내 역 서
A2: 공사명: 동산도서관 8층 옥상방수공사
A3: 품 목 | B3: 규 격 | C3: 단위 | D3: 수량 | E3: 재 료 비 | G3: 노 무 비 | I3: 경 비 | K3: 합 계 | M3: 비 고
E4: 단 가 | F4: 금 액 | G4: 단 가 | H4: 금 액 | I4: 단 가 | J4: 금 액 | K4: 단 가 | L4: 금 액
A5: 바탕정리 | B5: 기존면 그라인딩 | C5: ㎡ | D5: 2517
A6: 우레탄 복합방수 | B6: 바닥 | C6: ㎡ | D6: 1717
A7: 우레탄 방수_부직포 포함, (균열부위 보수 포함) | B7: 바닥 3mm | C7: ㎡ | D7: 300
A8: 우레탄 방수_부직포 포함, (균열부위 보수 포함) | B8: 벽부용 / W15CM 얀크로스 618 | C8: ㎡ | D8: 500
A9: 장비대 | C9: 대 | D9: 2
D22: 0
D23: 0
D24: 0 | E24: 0 | F24: =TRUNC(D24*E24,0) -> 0 | G24: 0 | H24: =TRUNC(D24*G24,0) -> 0 | I24: 0 | J24: =TRUNC(D24*I24,0) -> 0 | K24: =TRUNC(E24+G24+I24,0) -> 0 | L24: =TRUNC(F24+H24+J24,0) -> 0
D25: 0 | E25: 0 | F25: =TRUNC(D25*E25,0) -> 0 | G25: 0 | H25: =TRUNC(D25*G25,0) -> 0 | I25: 0 | J25: =TRUNC(D25*I25,0) -> 0 | K25: =TRUNC(E25+G25+I25,0) -> 0 | L25: =TRUNC(F25+H25+J25,0) -> 0
D26: 0 | E26: 0 | F26: =TRUNC(D26*E26,0) -> 0 | G26: 0 | H26: =TRUNC(D26*G26,0) -> 0 | I26: 0 | J26: =TRUNC(D26*I26,0) -> 0 | K26: =TRUNC(E26+G26+I26,0) -> 0 | L26: =TRUNC(F26+H26+J26,0) -> 0
D27: 0 | E27: 0 | F27: =TRUNC(D27*E27,0) -> 0 | G27: 0 | H27: =TRUNC(D27*G27,0) -> 0 | I27: 0 | J27: =TRUNC(D27*I27,0) -> 0 | K27: =TRUNC(E27+G27+I27,0) -> 0 | L27: =TRUNC(F27+H27+J27,0) -> 0
A28: [ 합 계 ] | E28: 0 | F28: =SUM(F5:F9) -> 0 | H28: =SUM(H5:H9) -> 0 | J28: =SUM(J5:J9) -> 0 | L28: =SUM(L5:L9) -> 0
