Workbook
Name ___LPB1: [1]부하계산서!#REF!
Name ___LPB1: [1]부하계산서!#REF!
Name ___LPB1: [1]부하계산서!#REF!
Name ___LPB1: [1]부하계산서!#REF!
Name ___LPK1: [1]부하계산서!#REF!
Name ___LPK1: [1]부하계산서!#REF!
Name ___LPK1: [1]부하계산서!#REF!
Name ___LPK1: [1]부하계산서!#REF!
Name ___LU1: '[2]부하(성남)'!#REF!
Name ___LU1: '[2]부하(성남)'!#REF!
Name ___LU1: '[2]부하(성남)'!#REF!
Name ___LU1: '[2]부하(성남)'!#REF!
Name ___LU2: '[2]부하(성남)'!#REF!
Name ___LU2: '[2]부하(성남)'!#REF!
Name ___LU2: '[2]부하(성남)'!#REF!
Name ___LU2: '[2]부하(성남)'!#REF!
Name ___LV01: '[2]부하(성남)'!#REF!
Name ___LV01: '[2]부하(성남)'!#REF!
Name ___LV01: '[2]부하(성남)'!#REF!
Name ___LV01: '[2]부하(성남)'!#REF!
Name ___UP1: [1]부하계산서!#REF!
Name ___UP1: [1]부하계산서!#REF!
Name ___UP1: [1]부하계산서!#REF!
Name ___UP1: [1]부하계산서!#REF!
Name ___UP2: [1]부하계산서!#REF!
Name ___UP2: [1]부하계산서!#REF!
Name ___UP2: [1]부하계산서!#REF!
Name ___UP2: [1]부하계산서!#REF!
Name __LP2: #REF!
Name __LP2: #REF!
Name __LP2: #REF!
Name __LP2: #REF!
Name __LPB1: [1]부하계산서!#REF!
Name __LPB1: [1]부하계산서!#REF!
Name __LPB1: [1]부하계산서!#REF!
Name __LPB1: [1]부하계산서!#REF!
Name __LPK1: [1]부하계산서!#REF!
Name __LPK1: [1]부하계산서!#REF!
Name __LPK1: [1]부하계산서!#REF!
Name __LPK1: [1]부하계산서!#REF!
Name __LU1: '[2]부하(성남)'!#REF!
Name __LU1: '[2]부하(성남)'!#REF!
Name __LU1: '[2]부하(성남)'!#REF!
Name __LU1: '[2]부하(성남)'!#REF!
Name __LU2: '[2]부하(성남)'!#REF!
Name __LU2: '[2]부하(성남)'!#REF!
Name __LU2: '[2]부하(성남)'!#REF!
Name __LU2: '[2]부하(성남)'!#REF!
Name __LV01: '[2]부하(성남)'!#REF!
Name __LV01: '[2]부하(성남)'!#REF!
Name __LV01: '[2]부하(성남)'!#REF!
Name __LV01: '[2]부하(성남)'!#REF!
Name __UP1: [1]부하계산서!#REF!
Name __UP1: [1]부하계산서!#REF!
Name __UP1: [1]부하계산서!#REF!
Name __UP1: [1]부하계산서!#REF!
Name __UP2: [1]부하계산서!#REF!
Name __UP2: [1]부하계산서!#REF!
Name __UP2: [1]부하계산서!#REF!
Name __UP2: [1]부하계산서!#REF!

Sheet 전체 합계 원가계산서
A1: 공 사 원 가 계 산 서
A2: 공사명: | C2: 성서캠퍼스 노천강당 야외 객석, 화장실 환경개선 건축공사(내역서 취합)
D3: 야외 객석 | E3: 화장실 등 | F3: 합 계 | G3: 요율 | H3: 구성비 | I3: 비고
A4: 순 공 사 비 | B4: 재료비 | C4: 직접재료비 | F4: =D4+E4 -> 0
C5: 간접재료비
C6: 작업부산물(△)
C7: 소 계 | D7: =SUM(D4:D6) -> 0 | E7: =SUM(E4:E6) -> 0 | F7: =D7+E7 -> 0
B8: 노무비 | C8: 직접노무비 | F8: =D8+E8 -> 0
C9: 간접노무비 | D9: =INT(D8*G9) -> 0 | E9: =INT(E8*G9) -> 0 | F9: =D9+E9 -> 0 | G9: 0.06 | H9: =IF(G9>0," 직접노무비 × "&G9," ") -> 직접노무비 × 0.06
C10: 소 계 | D10: =SUM(D8:D9) -> 0 | E10: =SUM(E8:E9) -> 0 | F10: =D10+E10 -> 0
B11: 경 비 | C11: 기계경비 | F11: =D11+E11 -> 0
C12: 산재보험료 | D12: =INT(D10*G12) -> 0 | E12: =INT(E10*G12) -> 0 | F12: =D12+E12 -> 0 | G12: 0.0356 | H12: =IF(G12>0," 노무비 × "&G12," ") -> 노무비 × 0.0356
C13: 고용보험료 | D13: =INT(D8*G13) -> 0 | E13: =INT(E8*G13) -> 0 | F13: =D13+E13 -> 0 | G13: 0.0101 | H13: =IF(G13>0," 직접노무비 × "&G13," ") -> 직접노무비 × 0.0101
C14: 건강보험료 | D14: 4989141 | E14: 0 | F14: 4989141 | G14: 0.03595 | H14: =IF(G14>0," 직접노무비 × "&G14," ") -> 직접노무비 × 0.03595
C15: 연금보험료 | D15: 6592050 | E15: 0 | F15: 6592050 | G15: 0.0475 | H15: =IF(G15>0," 직접노무비 × "&G15," ") -> 직접노무비 × 0.0475
C16: 노인장기요양보험료 | D16: 655573 | E16: 0 | F16: 655573 | G16: 0.1314 | H16: =IF(G16>0," 건강보험료 × "&G16," ") -> 건강보험료 × 0.1314
C17: 석면피해구제분담금 | D17: =IF(G17>0,INT(D10*G17),0) -> 0 | E17: =IF(H17>0,INT(E10*G17),0) -> 0 | F17: =D17+E17 -> 0 | G17: 6e-05 | H17: =IF(G17>0," 노무비 × "&G17," ") -> 노무비 × 0.00006
C18: 임금채권부담금 | D18: =IF(G18>0,INT(D10*G18),0) -> 0 | E18: =IF(H18>0,INT(E10*G18),0) -> 0 | F18: =D18+E18 -> 0 | G18: 0.0009 | H18: =IF(G18>0," 노무비 × "&G18," ") -> 노무비 × 0.0009
C19: 안전관리비 | D19: 5642877 | E19: 986800 | F19: 6629677 | G19: 0.0311 | H19: =IF(G19>0," (재료비 + 직접노무비) × "&G19," ") -> (재료비 + 직접노무비) × 0.0311
C20: 환경보전비 | D20: =INT((D7+D8+D11)*G20) -> 0 | E20: =INT((E7+E8+E11)*G20) -> 0 | F20: =D20+E20 -> 0 | G20: 0.003 | H20: =IF(G20>0," (재료비 + 직접노무비 + 기계경비) × "&G20," ") -> (재료비 + 직접노무비 + 기계경비) × 0.003
C21: 기타경비 | D21: =INT((D7+D10)*G21) -> 0 | E21: =INT((E7+E10)*G21) -> 0 | F21: =D21+E21 -> 0 | G21: 0.046 | H21: =IF(G21>0," (재료비 + 노무비) × "&G21," ") -> (재료비 + 노무비) × 0.046
C22: 소 계 | F22: =D22+E22 -> 0
A23: 합 계 | D23: =D7+D10+D22 -> 0 | E23: =E7+E10+E22 -> 0 | F23: =D23+E23 -> 0
A24: 일반관리비 | D24: =INT(D23*G24) -> 0 | E24: =INT(E23*G24) -> 0 | F24: =D24+E24 -> 0 | G24: 0.03 | H24: =IF(G24>0," 합 계 × "&G24," ") -> 합 계 × 0.03
A25: 이 윤 | D25: =INT((D10+D22+D24)*G25) -> 0 | E25: =INT((E10+E22+E24)*G25) -> 0 | F25: =D25+E25 -> 0 | G25: 0.1 | H25: =IF(G25>0," (노무비 + 경비 + 일반관리비) × "&G25," ") -> (노무비 + 경비 + 일반관리비) × 0.1
A26: 총 원 가 | D26: =SUM(D23:D25) -> 0 | E26: =SUM(E23:E25) -> 0 | F26: =D26+E26 -> 0
A27: 부가가치세 | D27: =INT(D26*G27) -> 0 | E27: =INT(E26*G27) -> 0 | F27: =D27+E27 -> 0 | G27: 0.1 | H27: =" 총 원 가 × "&G27 -> 총 원 가 × 0.1
A28: 총 공 사 비 | D28: =SUM(D26:D27) -> 0 | E28: =SUM(E26:E27) -> 0 | F28: =D28+E28 -> 0

Sheet 객석_원가계산서
A1: 공 사 원 가 계 산 서
A2: 공사명: | B2: =객석_내역!P2 -> 노천강당 야외 객석 환경개선 공사
D3: 금액 | E3: 요율 | F3: 구성비 | G3: 비고
A4: 순 공 사 비 | B4: 재료비 | C4: 직접재료비 | D4: =객석_내역!F38 -> 0
C5: 간접재료비
C6: 작업부산물(△)
C7: 소 계 | D7: =SUM(D4:D6) -> 0
B8: 노무비 | C8: 직접노무비 | D8: =객석_내역!H38 -> 0
C9: 간접노무비 | D9: =INT(D8*E9) -> 0 | E9: 0.06 | F9: =IF(E9>0," 직접노무비 × "&E9," ") -> 직접노무비 × 0.06
C10: 소 계 | D10: =SUM(D8:D9) -> 0
B11: 경 비 | C11: 기계경비 | D11: =객석_내역!J38 -> 0
C12: 산재보험료 | D12: =INT(D10*E12) -> 0 | E12: 0.0356 | F12: =IF(E12>0," 노무비 × "&E12," ") -> 노무비 × 0.0356
C13: 고용보험료 | D13: =INT(D8*E13) -> 0 | E13: 0.0101 | F13: =IF(E13>0," 직접노무비 × "&E13," ") -> 직접노무비 × 0.0101
C14: 건강보험료 | D14: 4989141 | E14: 0.03595 | F14: =IF(E14>0," 직접노무비 × "&E14," ") -> 직접노무비 × 0.03595
C15: 연금보험료 | D15: 6592050 | E15: 0.0475 | F15: =IF(E15>0," 직접노무비 × "&E15," ") -> 직접노무비 × 0.0475
C16: 노인장기요양보험료 | D16: 655573 | E16: 0.1314 | F16: =IF(E16>0," 건강보험료 × "&E16," ") -> 건강보험료 × 0.1314
C17: 석면피해구제분담금 | D17: =IF(E17>0,INT(D10*E17),0) -> 0 | E17: 6e-05 | F17: =IF(E17>0," 노무비 × "&E17," ") -> 노무비 × 0.00006
C18: 임금채권부담금 | D18: =IF(E18>0,INT(D10*E18),0) -> 0 | E18: 0.0009 | F18: =IF(E18>0," 노무비 × "&E18," ") -> 노무비 × 0.0009
C19: 안전관리비 | D19: 5642877 | E19: 0.0311 | F19: =IF(E19>0," (재료비 + 직접노무비) × "&E19," ") -> (재료비 + 직접노무비) × 0.0311
C20: 환경보전비 | D20: =INT((D7+D8+D11)*E20) -> 0 | E20: 0.003 | F20: =IF(E20>0," (재료비 + 직접노무비 + 기계경비) × "&E20," ") -> (재료비 + 직접노무비 + 기계경비) × 0.003
C21: 기타경비 | D21: =INT((D7+D10)*E21) -> 0 | E21: 0.046 | F21: =IF(E21>0," (재료비 + 노무비) × "&E21," ") -> (재료비 + 노무비) × 0.046
C22: 소 계
A23: 합 계 | D23: =D7+D10+D22 -> 0
A24: 일반관리비 | D24: =INT(D23*E24) -> 0 | E24: 0.03 | F24: =IF(E24>0," 합 계 × "&E24," ") -> 합 계 × 0.03
A25: 이 윤 | D25: =INT((D10+D22+D24)*E25) -> 0 | E25: 0.1 | F25: =IF(E25>0," (노무비 + 경비 + 일반관리비) × "&E25," ") -> (노무비 + 경비 + 일반관리비) × 0.1
A26: 총 원 가 | D26: =SUM(D23:D25) -> 0
A27: 부가가치세 | D27: =INT(D26*E27) -> 0 | E27: 0.1 | F27: =" 총 원 가 × "&E27 -> 총 원 가 × 0.1
A28: 총 공 사 비 | D28: =SUM(D26:D27) -> 0

Sheet 객석_내역
A1: 내 역 서
A2: ="공 사 명: "&P2 -> 공 사 명: 노천강당 야외 객석 환경개선 공사 | O2: 공사명입력: | P2: 노천강당 야외 객석 환경개선 공사
A3: 명 칭 | B3: 규 격 | C3: 단 위 | D3: 수 량 | E3: 재 료 비 | G3: 노 무 비 | I3: 경 비 | K3: 계 | M3: 비 고
E4: 단 가 | F4: 금 액 | G4: 단 가 | H4: 금 액 | I4: 단 가 | J4: 금 액 | K4: 단 가 | L4: 금 액
A5: 1. 철거공사 | F5: =SUM(F6:F10) -> 0 | H5: =SUM(H6:H10) -> 0 | J5: =SUM(J6:J10) -> 0 | L5: =SUM(L6:L10) -> 0
A6: 기존 화강판석 철거 | B6: 재사용 | C6: m | D6: 2320 | F6: =$D6*E6 -> 0 | H6: =$D6*G6 -> 0 | J6: =$D6*I6 -> 0 | K6: =E6+G6+I6 -> 0 | L6: =F6+H6+J6 -> 0
A7: 화강판석 손보기 등 | C7: 식 | D7: 1 | F7: =$D7*E7 -> 0 | H7: =$D7*G7 -> 0 | J7: =$D7*I7 -> 0 | K7: =E7+G7+I7 -> 0 | L7: =F7+H7+J7 -> 0
A8: 콘크리트 컷팅+철거 | C8: m | D8: 2320 | F8: =$D8*E8 -> 0 | H8: =$D8*G8 -> 0 | J8: =$D8*I8 -> 0 | K8: =E8+G8+I8 -> 0 | L8: =F8+H8+J8 -> 0
A9: 폐기물 운반 | C9: 식 | D9: 1 | F9: =$D9*E9 -> 0 | H9: =$D9*G9 -> 0 | J9: =$D9*I9 -> 0 | K9: =E9+G9+I9 -> 0 | L9: =F9+H9+J9 -> 0
A10: 폐기물 처리 | C10: 대 | D10: 5 | F10: =$D10*E10 -> 0 | H10: =$D10*G10 -> 0 | J10: =$D10*I10 -> 0 | K10: =E10+G10+I10 -> 0 | L10: =F10+H10+J10 -> 0
A12: 2. 조적공사 | F12: =SUM(F13:F14) -> 0 | H12: =SUM(H13:H14) -> 0 | J12: =SUM(J13:J14) -> 0 | L12: =SUM(L13:L14) -> 0
A13: 치장벽돌 | B13: 삼한씨원 슈퍼칼라 | C13: 매 | D13: 72100 | F13: =$D13*E13 -> 0 | H13: =$D13*G13 -> 0 | J13: =$D13*I13 -> 0 | K13: =E13+G13+I13 -> 0 | L13: =F13+H13+J13 -> 0
A14: 0.5B 한면 치장쌓기 | B14: 줄눈 시공 포함 | C14: 매 | D14: 70000 | F14: =$D14*E14 -> 0 | H14: =$D14*G14 -> 0 | J14: =$D14*I14 -> 0 | K14: =E14+G14+I14 -> 0 | L14: =F14+H14+J14 -> 0
A16: 3. 석공사 | F16: =SUM(F17:F18) -> 0 | H16: =SUM(H17:H18) -> 0 | J16: =SUM(J17:J18) -> 0 | L16: =SUM(L17:L18) -> 0
A17: 화강석 재설치 | B17: 부분 신설 포함 | C17: m | D17: 2320 | F17: =$D17*E17 -> 0 | H17: =$D17*G17 -> 0 | J17: =$D17*I17 -> 0 | K17: =E17+G17+I17 -> 0 | L17: =F17+H17+J17 -> 0 | M17: 건식+습식
A18: 코킹 | C18: 식 | D18: 1 | F18: =$D18*E18 -> 0 | H18: =$D18*G18 -> 0 | J18: =$D18*I18 -> 0 | K18: =E18+G18+I18 -> 0 | L18: =F18+H18+J18 -> 0
A20: 4. 기타공사 | F20: =SUM(F21:F25) -> 0 | H20: =SUM(H21:H25) -> 0 | J20: =SUM(J21:J25) -> 0 | L20: =SUM(L21:L25) -> 0
A21: 레미탈 | B21: 40kg | C21: 포 | D21: 1800 | F21: =$D21*E21 -> 0 | H21: =$D21*G21 -> 0 | J21: =$D21*I21 -> 0 | K21: =E21+G21+I21 -> 0 | L21: =F21+H21+J21 -> 0
A22: 줄눈 | B22: 20kg | C22: 포 | D22: 450 | F22: =$D22*E22 -> 0 | H22: =$D22*G22 -> 0 | J22: =$D22*I22 -> 0 | K22: =E22+G22+I22 -> 0 | L22: =F22+H22+J22 -> 0
A23: 기존 벽체 줄눈 철거 후 신설 | C23: 식 | D23: 1 | F23: =$D23*E23 -> 0 | H23: =$D23*G23 -> 0 | J23: =$D23*I23 -> 0 | K23: =E23+G23+I23 -> 0 | L23: =F23+H23+J23 -> 0
A24: 바닥 미장 보수 | C24: 식 | D24: 1 | F24: =$D24*E24 -> 0 | H24: =$D24*G24 -> 0 | J24: =$D24*I24 -> 0 | K24: =E24+G24+I24 -> 0 | L24: =F24+H24+J24 -> 0
A25: 현장정리 및 청소 | C25: 식 | D25: 1 | F25: =$D25*E25 -> 0 | H25: =$D25*G25 -> 0 | J25: =$D25*I25 -> 0 | K25: =E25+G25+I25 -> 0 | L25: =F25+H25+J25 -> 0
A38: 합 계 | F38: =F5+F12+F16+F20 -> 0 | H38: =H5+H12+H16+H20 -> 0 | J38: =J5+J12+J16+J20 -> 0 | L38: =L5+L12+L16+L20 -> 0

Sheet 화장실_원가계산서
A1: 공 사 원 가 계 산 서
A2: 공사명: | B2: =화장실_내역!P2 -> 노천강당 화장실(샤워실), 출입구 환경개선 공사
D3: 금액 | E3: 요율 | F3: 구성비 | G3: 비고
A4: 순 공 사 비 | B4: 재료비 | C4: 직접재료비 | D4: =INT(화장실_내역!F55) -> 0
C5: 간접재료비
C6: 작업부산물(△)
C7: 소 계 | D7: =SUM(D4:D6) -> 0
B8: 노무비 | C8: 직접노무비 | D8: =INT(화장실_내역!H55) -> 0
C9: 간접노무비 | D9: =INT(D8*E9) -> 0 | E9: 0.06 | F9: =IF(E9>0," 직접노무비 × "&E9," ") -> 직접노무비 × 0.06
C10: 소 계 | D10: =SUM(D8:D9) -> 0
B11: 경 비 | C11: 기계경비 | D11: =INT(화장실_내역!J55) -> 0
C12: 산재보험료 | D12: =INT(D10*E12) -> 0 | E12: 0.0356 | F12: =IF(E12>0," 노무비 × "&E12," ") -> 노무비 × 0.0356
C13: 고용보험료 | D13: =INT(D8*E13) -> 0 | E13: 0.0101 | F13: =IF(E13>0," 직접노무비 × "&E13," ") -> 직접노무비 × 0.0101
C14: 건강보험료 | D14: =IF(E14>0,INT(D8*E14),0) -> 0 | F14: =IF(E14>0," 직접노무비 × "&E14," ")
C15: 연금보험료 | D15: =IF(E15>0,INT(D8*E15),0) -> 0 | F15: =IF(E15>0," 직접노무비 × "&E15," ")
C16: 노인장기요양보험료 | D16: =IF(E16>0,INT(D14*E16),0) -> 0 | F16: =IF(E16>0," 건강보험료 × "&E16," ")
C17: 석면피해구제분담금 | D17: =IF(E17>0,INT(D10*E17),0) -> 0 | E17: 6e-05 | F17: =IF(E17>0," 노무비 × "&E17," ") -> 노무비 × 0.00006
C18: 임금채권부담금 | D18: =IF(E18>0,INT(D10*E18),0) -> 0 | E18: 0.0009 | F18: =IF(E18>0," 노무비 × "&E18," ") -> 노무비 × 0.0009
C19: 안전관리비 | D19: 986800 | E19: 0.0311 | F19: =IF(E19>0," (재료비 + 직접노무비) × "&E19," ") -> (재료비 + 직접노무비) × 0.0311
C20: 환경보전비 | D20: =INT((D7+D8+D11)*E20) -> 0 | E20: 0.003 | F20: =IF(E20>0," (재료비 + 직접노무비 + 기계경비) × "&E20," ") -> (재료비 + 직접노무비 + 기계경비) × 0.003
C21: 기타경비 | D21: =INT((D7+D10)*E21) -> 0 | E21: 0.046 | F21: =IF(E21>0," (재료비 + 노무비) × "&E21," ") -> (재료비 + 노무비) × 0.046
C22: 소 계
A23: 합 계 | D23: =D7+D10+D22 -> 0
A24: 일반관리비 | D24: =INT(D23*E24) -> 0 | E24: 0.03 | F24: =IF(E24>0," 합 계 × "&E24," ") -> 합 계 × 0.03
A25: 이 윤 | D25: =INT((D10+D22+D24)*E25) -> 0 | E25: 0.1 | F25: =IF(E25>0," (노무비 + 경비 + 일반관리비) × "&E25," ") -> (노무비 + 경비 + 일반관리비) × 0.1
A26: 총 원 가 | D26: =SUM(D23:D25) -> 0
A27: 부가가치세 | D27: =INT(D26*E27) -> 0 | E27: 0.1 | F27: =" 총 원 가 × "&E27 -> 총 원 가 × 0.1
A28: 총 공 사 비 | D28: =SUM(D26:D27) -> 0

Sheet 화장실_내역
A1: 내 역 서
A2: ="공 사 명: "&P2 -> 공 사 명: 노천강당 화장실(샤워실), 출입구 환경개선 공사 | O2: 공사명입력: | P2: 노천강당 화장실(샤워실), 출입구 환경개선 공사
A3: 명 칭 | B3: 규 격 | C3: 단 위 | D3: 수 량 | E3: 재 료 비 | G3: 노 무 비 | I3: 경 비 | K3: 계 | M3: 비 고
E4: 단 가 | F4: 금 액 | G4: 단 가 | H4: 금 액 | I4: 단 가 | J4: 금 액 | K4: 단 가 | L4: 금 액
A5: 1. 가설공사 | F5: =SUM(F6:F7) -> 0 | H5: =SUM(H6:H7) -> 0 | J5: =SUM(J6:J7) -> 0 | L5: =SUM(L6:L7) -> 0
A6: 먹매김 | B6: 사무공간, 교육장, 회의·강연장 | C6: M2 | D6: 20 | F6: =$D6*E6 -> 0 | H6: =$D6*G6 -> 0 | J6: =$D6*I6 -> 0 | K6: =E6+G6+I6 -> 0 | L6: =F6+H6+J6 -> 0
A7: 준공청소 | B7: 1회 기준 | C7: M2 | D7: 20 | F7: =$D7*E7 -> 0 | H7: =$D7*G7 -> 0 | J7: =$D7*I7 -> 0 | K7: =E7+G7+I7 -> 0 | L7: =F7+H7+J7 -> 0
A9: 2. 철거공사 | F9: =SUM(F10:F19) -> 0 | H9: =SUM(H10:H19) -> 0 | J9: =SUM(J10:J19) -> 0 | L9: =SUM(L10:L19) -> 0
A10: 경량천장철골틀 해체 | B10: 해체재 재사용 안함 | C10: M2 | D10: 20 | F10: =$D10*E10 -> 0 | H10: =$D10*G10 -> 0 | J10: =$D10*I10 -> 0 | K10: =E10+G10+I10 -> 0 | L10: =F10+H10+J10 -> 0
A11: 텍스류 철거 | B11: 천장 | C11: M2 | D11: 20 | F11: =$D11*E11 -> 0 | H11: =$D11*G11 -> 0 | J11: =$D11*I11 -> 0 | K11: =E11+G11+I11 -> 0 | L11: =F11+H11+J11 -> 0
A12: 조적벽 철거 | B12: 0.5B | C12: M2 | D12: 34 | F12: =$D12*E12 -> 0 | H12: =$D12*G12 -> 0 | J12: =$D12*I12 -> 0 | K12: =E12+G12+I12 -> 0 | L12: =F12+H12+J12 -> 0
A13: 창호철거(소운반품포함) | B13: 목 재 | C13: M2 | D13: 11.34 | F13: =$D13*E13 -> 0 | H13: =$D13*G13 -> 0 | J13: =$D13*I13 -> 0 | K13: =E13+G13+I13 -> 0 | L13: =F13+H13+J13 -> 0
A14: 창호철거(소운반품포함) | B14: 철 재 | C14: M2 | D14: 1 | F14: =$D14*E14 -> 0 | H14: =$D14*G14 -> 0 | J14: =$D14*I14 -> 0 | K14: =E14+G14+I14 -> 0 | L14: =F14+H14+J14 -> 0
A15: 타일 철거 | B15: 벽체 | C15: M2 | D15: 36.5 | F15: =$D15*E15 -> 0 | H15: =$D15*G15 -> 0 | J15: =$D15*I15 -> 0 | K15: =E15+G15+I15 -> 0 | L15: =F15+H15+J15 -> 0
A16: 타일 철거 | B16: 바닥 | C16: M2 | D16: 15.3 | F16: =$D16*E16 -> 0 | H16: =$D16*G16 -> 0 | J16: =$D16*I16 -> 0 | K16: =E16+G16+I16 -> 0 | L16: =F16+H16+J16 -> 0
A17: 바닥 미장 철거 | C17: M2 | D17: 15.3 | F17: =$D17*E17 -> 0 | H17: =$D17*G17 -> 0 | J17: =$D17*I17 -> 0 | K17: =E17+G17+I17 -> 0 | L17: =F17+H17+J17 -> 0
A18: 위생도기 철거 | C18: ea | D18: 8 | F18: =$D18*E18 -> 0 | H18: =$D18*G18 -> 0 | J18: =$D18*I18 -> 0 | K18: =E18+G18+I18 -> 0 | L18: =F18+H18+J18 -> 0
A19: 혼합건설폐기물 | B19: 그 밖의 건설폐기물에 가연성 5% 이하 혼합 | C19: TON | D19: 5 | F19: =$D19*E19 -> 0 | H19: =$D19*G19 -> 0 | J19: =$D19*I19 -> 0 | K19: =E19+G19+I19 -> 0 | L19: =F19+H19+J19 -> 0
A22: 3. 조적공사 | F22: =SUM(F23:F25) -> 0 | H22: =SUM(H23:H25) -> 0 | J22: =SUM(J23:J25) -> 0 | L22: =SUM(L23:L25) -> 0
A23: 벽돌 쌓기(0.5B) | B23: 3.6m 이하 | C23: M2 | D23: 16.1 | F23: =$D23*E23 -> 0 | H23: =$D23*G23 -> 0 | J23: =$D23*I23 -> 0 | K23: =E23+G23+I23 -> 0 | L23: =F23+H23+J23 -> 0
A24: 벽돌 쌓기(1.0B) | B24: 3.6m 이하 | C24: M2 | D24: 10.1 | F24: =$D24*E24 -> 0 | H24: =$D24*G24 -> 0 | J24: =$D24*I24 -> 0 | K24: =E24+G24+I24 -> 0 | L24: =F24+H24+J24 -> 0
A25: 모르타르바름 | B25: 내벽, 11mm, 3.6m 이하 전실 벽체 | C25: 식 | D25: 1 | F25: =$D25*E25 -> 0 | H25: =$D25*G25 -> 0 | J25: =$D25*I25 -> 0 | K25: =E25+G25+I25 -> 0 | L25: =F25+H25+J25 -> 0
A27: 4. 방수공사 | F27: =SUM(F28:F32) -> 0 | H27: =SUM(H28:H32) -> 0 | J27: =SUM(J28:J32) -> 0 | L27: =SUM(L28:L32) -> 0
A28: 바탕처리 - 보통 | B28: 바닥 | C28: M2 | D28: 20 | F28: =$D28*E28 -> 0 | H28: =$D28*G28 -> 0 | J28: =$D28*I28 -> 0 | K28: =E28+G28+I28 -> 0 | L28: =F28+H28+J28 -> 0
A29: 바탕처리 - 보통 | B29: 수직부 | C29: M2 | D29: 44.5 | F29: =$D29*E29 -> 0 | H29: =$D29*G29 -> 0 | J29: =$D29*I29 -> 0 | K29: =E29+G29+I29 -> 0 | L29: =F29+H29+J29 -> 0
A30: 시멘트 액체방수 바름 | B30: 2회 바닥 | C30: M2 | D30: 20 | F30: =$D30*E30 -> 0 | H30: =$D30*G30 -> 0 | J30: =$D30*I30 -> 0 | K30: =E30+G30+I30 -> 0 | L30: =F30+H30+J30 -> 0
A31: 시멘트 액체방수 바름 | B31: 2회 수직 | C31: M2 | D31: 44.5 | F31: =$D31*E31 -> 0 | H31: =$D31*G31 -> 0 | J31: =$D31*I31 -> 0 | K31: =E31+G31+I31 -> 0 | L31: =F31+H31+J31 -> 0
A32: 도막방수재 바름 | B32: 고뫄스방수 | C32: M2 | D32: 64.5 | F32: =$D32*E32 -> 0 | H32: =$D32*G32 -> 0 | J32: =$D32*I32 -> 0 | K32: =E32+G32+I32 -> 0 | L32: =F32+H32+J32 -> 0
A34: 5. 타일 및 석공사 | F34: =SUM(F35:F40) -> 0 | H34: =SUM(H35:H40) -> 0 | J34: =SUM(J35:J40) -> 0 | L34: =SUM(L35:L40) -> 0
A35: 화강석창대석(수마) | B35: 마천석200×30mm,몰탈30mm | C35: M | D35: 2 | F35: =$D35*E35 -> 0 | H35: =$D35*G35 -> 0 | J35: =$D35*I35 -> 0 | K35: =E35+G35+I35 -> 0 | L35: =F35+H35+J35 -> 0
A36: 재료분리대 설치 | B36: 25T 마천석 물갈기 | C36: 개소 | D36: 3 | F36: =$D36*E36 -> 0 | H36: =$D36*G36 -> 0 | J36: =$D36*I36 -> 0 | K36: =E36+G36+I36 -> 0 | L36: =F36+H36+J36 -> 0
A37: 재료분리대 설치 | B37: 인조대리석 | C37: 개소 | D37: 1 | F37: =$D37*E37 -> 0 | H37: =$D37*G37 -> 0 | J37: =$D37*I37 -> 0 | K37: =E37+G37+I37 -> 0 | L37: =F37+H37+J37 -> 0
A38: 타일압착붙임(바탕24mm+압5mm) | B38: 바닥,300*300(일반C,일반줄눈) | C38: M2 | D38: 20 | F38: =$D38*E38 -> 0 | H38: =$D38*G38 -> 0 | J38: =$D38*I38 -> 0 | K38: =E38+G38+I38 -> 0 | L38: =F38+H38+J38 -> 0
A39: 타일접착붙임(도기질:300*600) | B39: 벽,바탕몰탈15mm+접착붙임(백색줄눈) | C39: M2 | D39: 98.5 | F39: =$D39*E39 -> 0 | H39: =$D39*G39 -> 0 | J39: =$D39*I39 -> 0 | K39: =E39+G39+I39 -> 0 | L39: =F39+H39+J39 -> 0
A40: 테라죠판붙임(습식, 일반) | B40: 바닥, 400×400×25mm, 모르타르 25mm | C40: M2 | D40: 5.6 | F40: =$D40*E40 -> 0 | H40: =$D40*G40 -> 0 | J40: =$D40*I40 -> 0 | K40: =E40+G40+I40 -> 0 | L40: =F40+H40+J40 -> 0
A42: 6. 수장공사 | F42: =SUM(F43:F47) -> 0 | H42: =SUM(H43:H47) -> 0 | J42: =SUM(J43:J47) -> 0 | L42: =SUM(L43:L47) -> 0
A43: 경량철골천장틀 | B43: M-BAR,일부자재재사용 | C43: M2 | D43: 20 | F43: =$D43*E43 -> 0 | H43: =$D43*G43 -> 0 | J43: =$D43*I43 -> 0 | K43: =E43+G43+I43 -> 0 | L43: =F43+H43+J43 -> 0
A44: 열경화성수지천장판 설치 | B44: 열경화성수지천장재, SMC, 1.5×300×600mm, 난연3급 | C44: M2 | D44: 14.3 | F44: =$D44*E44 -> 0 | H44: =$D44*G44 -> 0 | J44: =$D44*I44 -> 0 | K44: =E44+G44+I44 -> 0 | L44: =F44+H44+J44 -> 0
A45: 천장텍스붙임(텍스포함) | B45: 친환경흡음텍스 12*300*600mm,천장틀별도 | C45: M2 | D45: 5.7 | F45: =$D45*E45 -> 0 | H45: =$D45*G45 -> 0 | J45: =$D45*I45 -> 0 | K45: =E45+G45+I45 -> 0 | L45: =F45+H45+J45 -> 0
A46: 라미네이트 패널 | B46: 라미네이트 패널, 600×2400×10.2T 7겹합판위 고압라미네이트마감 | C46: M2 | D46: 11 | F46: =$D46*E46 -> 0 | H46: =$D46*G46 -> 0 | J46: =$D46*I46 -> 0 | K46: =E46+G46+I46 -> 0 | L46: =F46+H46+J46 -> 0
...
