Workbook

Sheet 설계서용지
B1: 설 계 서 용 지
B3: 확 인 | E3: 설 계 | H3: 2026년 5월 일 설 계
D5: 2026학년도
D7: 공 사 명 : | F7: 공용 스마트 교육공간 인프라 구축 건축공사
D9: 설계공사금액 : | F9: =" 금"&TEXT(원가계산서!E30, "#,###원")&" (금"&NUMBERSTRING(원가계산서!E30, 1)&"원)" -> 금원 (금영원)

Sheet 갑지A
B1: 설 계 서 용 지 (갑 지)
B2: 과장 | E2: 담당 | H2: 검수자 | K2: 설계자 | N2: 2026년 4월 30일 설계
C4: 2026년
C6: 공용 스마트 교육공간 인프라 구축(건축)
C8: 개 요 : 공용 스마트 교육공간 인프라 구축(건축)
C10: 총공사비 : | E10: =" 일금 "&NUMBERSTRING(G15, 1)&"원정 ("&TEXT(G15, "#,###원")&")" -> 일금 영원정 (원)
D12: 도급금액 | E12: 공급가액 | G12: =원가계산서!E26 -> 0
E13: 부가세 | G13: =원가계산서!E27 -> 0
E14: 도급액 | G14: =원가계산서!E28 -> 0
D15: 총 공 사 비 | G15: =TRUNC(G14, -4) -> 0 | J15: 천원단위절삭

Sheet 원가계산서
A1: 공 사 원 가 계 산 서
A2: ="[" & 설계서용지!F7 & "]" -> [공용 스마트 교육공간 인프라 구축 건축공사] | F2: ="금액: 일금 "&NUMBERSTRING(E30,1)&"원정("&TEXT(E30,"#,###원")&")" -> 금액: 일금 영원정(원)
B3: 비 목 | E3: 금 액 | F3: 구 성 비 | G3: 비 고 | H3: A | I3: 8
A4: A10 | B4: 순 공 사 원 가 | C4: 재 료 비 | D4: 직 접 재 료 비 | E4: =TRUNC(공종별집계표!F5, 0) -> 0 | H4: 100 | I4: 직 접 재 료 비 | J4: 0 | K4: 56401047 | L4: 56401047 | M4: 0 | N4: 20120321 | O4: ZZ0000100000
A5: A20 | D5: 간 접 재 료 비 | E5: =TRUNC(, 0) -> 0 | H5: 110 | I5: 간 접 재 료 비 | J5: 0 | L5: 0 | M5: 0 | O5: YZA001000000
A6: A30 | D6: 작업설,부산물(△) | E6: =TRUNC(, 0) -> 0 | H6: 120 | I6: 작업설,부산물(△) | J6: 0 | L6: 0 | M6: 0 | O6: YZA002000000
A7: AZZ | D7: [ 소 계 ] | E7: =TRUNC(E4+E5-E6, 0) -> 0 | H7: 190 | I7: [ 소 계 ] | J7: 0 | K7: A10+A20-A30 | L7: 56401047 | M7: 0 | O7: YZS001000000
A8: B10 | C8: 노 무 비 | D8: 직 접 노 무 비 | E8: =TRUNC(공종별집계표!H5, 0) -> 0 | H8: 200 | I8: 직 접 노 무 비 | J8: 0 | K8: 28861908 | L8: 28861908 | M8: 0 | O8: ZZA000100000
A9: B20 | D9: 간 접 노 무 비 | E9: =TRUNC(E8*0.12, 0) -> 0 | F9: 직접노무비* 12% | H9: 210 | I9: 간 접 노 무 비 | J9: 15 | K9: B10*%% | L9: 4329286 | M9: 0 | O9: ZZA000200000
A10: BZZ | D10: [ 소 계 ] | E10: =TRUNC(E8+E9, 0) -> 0 | H10: 290 | I10: [ 소 계 ] | J10: 0 | K10: B10+B20 | L10: 33191194 | M10: 0 | O10: YZS002000000
A11: C30 | C11: 경 비 | D11: 산출경비(기계경비) | E11: =TRUNC(공종별집계표!J5, 0) -> 0 | H11: 3100 | I11: 산출경비(기계경비) | J11: 0 | K11: 1990889 | L11: 1990889 | M11: 0 | O11: ZZB000100000
A12: C90 | D12: 산 재 보 험 료 | E12: =TRUNC(E10*0.0356, 0) -> 0 | F12: 노무비*3.56% | G12: 모든 건설공사 | H12: 3300 | I12: 산 재 보 험 료 | J12: 3.56 | K12: BZZ*%% | L12: 1181606 | M12: 0 | O12: ZZB110100000
A13: CA0 | D13: 고 용 보 험 료 | E13: =TRUNC(E10*0.0101, 0) -> 0 | F13: 노무비 * 1.01% | G13: [7등급+7등급미만] 130억 미만 ~ 81억(고시금액) 이상 | H13: 3400 | I13: 고 용 보 험 료 | J13: 1.01 | K13: BZZ*%% | L13: 335231 | M13: 0 | O13: ZZB120100000
A14: CB0 | D14: 국민 건강 보험료 | E14: =TRUNC(E8*0, 0) -> 0 | F14: 직접노무비* 3.595% | G14: 공사기간 1개월미만 제외 | H14: 3500 | I14: 국민 건강 보험료 | J14: 3.595 | K14: B10*%% | L14: 1037585 | M14: 0 | O14: ZZB130100000
A15: CC0 | D15: 국민 연금 보험료 | E15: =TRUNC(E8*0, 0) -> 0 | F15: 직접노무비 * 4.75% | G15: 공사기간 1개월미만 제외 | H15: 3600 | I15: 국민 연금 보험료 | J15: 4.75 | K15: B10*%% | L15: 1370940 | M15: 0 | O15: ZZB140100000
A16: CD0 | D16: 노인장기요양보험료 | E16: =TRUNC(E14*0.1314, 0) -> 0 | F16: 건강보험료* 13.14% | G16: 공사기간 1개월미만 제외 | H16: 3750 | I16: 노인장기요양보험료 | J16: 13.14 | K16: CB0*%% | L16: 136338 | M16: 0 | O16: ZZB130200000
A17: CE0 | D17: 퇴직 공제 부금비 | F17: 직접노무비 * 2.3% | G17: 추정금액 50억원이상 건설공사 | H17: 3775 | I17: 퇴직 공제 부금비 | J17: 2.3 | K17: B10*%% | L17: 663823 | M17: 0 | O17: ZZB200100000
A18: CH0 | D18: 산업안전보건관리비 | E18: =TRUNC((E7+E8+0/1.1)*0.0311, 0) -> 0 | F18: (재료비+직노+도급자관급) * 3.11% | G18: 5억미만, 일반건설공사(갑) | H18: 3900 | I18: 산업안전보건관리비 | J18: 3.11 | K18: (AZZ+B10+Q10/1.1)*%% | L18: 2651677 | M18: 0 | O18: ZZB300100000
A19: CQ0 | D19: 환경보전비 | E19: =TRUNC((E7+E8+E11)*0.005, 0) -> 0 | F19: (재료비+직노+기계경비) * 0.5% | H19: 4600 | I19: 환경보전비 | J19: 0.5 | K19: (AZZ+B10+C30)*%% | L19: 436269 | M19: 0 | O19: ZZB700100000
A20: CT0 | D20: 기 타 경 비 | E20: =TRUNC((E7+E10)*0.046, 0) -> 0 | F20: (재료비+노무비)* 4.6% | H20: 4700 | I20: 기 타 경 비 | J20: 4.6 | K20: (AZZ+BZZ)*%% | L20: 4121243 | M20: 0 | O20: ZZB400100000
A21: CZZ | D21: [ 소 계 ] | E21: =TRUNC(0+E11+0+0+E12+E13+E14+E15+E16+E17+0+E18+0+0+0+0+E19+E20+0+0+0+0+0, 0) -> 0 | H21: 9910 | I21: [ 소 계 ] | J21: 0 | K21: C20+C30+C60+C70+C90+CA0+CB0+CC0+CD0+CE0+CE1+CH0+CH1+CH2+CH3+CH4+CQ0+CT0+CT1+CT2+CU0+CV0+CW0 | L21: 13925601 | M21: 0 | O21: YZS003000000
A22: DZZ | B22: 계 | E22: =TRUNC(E7+E10+E21, 0) -> 0 | H22: 900710 | I22: 계 | J22: 0 | K22: AZZ+BZZ+CZZ | L22: 103517842 | M22: 0 | O22: YZS004000000
A23: E10 | B23: 일 반 관 리 비 | E23: =TRUNC(E22*0.06, 0) -> 0 | F23: 계 * 6% | H23: 900810 | I23: 일 반 관 리 비 | J23: 8 | K23: DZZ*%% | L23: 8281427 | M23: 0 | O23: ZZC000100000
A24: E20 | B24: 이 윤 | E24: =TRUNC((E10+E21+E23)*0.12, 0) -> 0 | F24: (노무비+경비+일반관리비) * 12% | H24: 900820 | I24: 이 윤 | J24: 15 | K24: (BZZ+CZZ+E10)*%% | L24: 8309733 | M24: 0 | O24: ZZD000100000
B25: 폐 기 물 처 리 비 | E25: =공종별집계표!L8 -> 0
A26: P10 | B26: 공 급 가 액 | E26: =TRUNC(E22+E23+E24+E25, 0) -> 0 | H26: 900900 | I26: 공 급 가 액 | J26: 0 | K26: DZZ+E10+E20+CE1+F30+F40+F10+F60+F70 | L26: 120109002 | M26: 0 | O26: YZD007000000
A27: P20 | B27: 부 가 가 치 세 | E27: =TRUNC(E26*0.1, 0) -> 0 | F27: 공급가액 * 10% | H27: 900920 | I27: 부 가 가 치 세 | J27: 10 | K27: P10*%% | L27: 12010900 | M27: 0 | O27: ZZF000100000
A28: P30 | B28: 도 급 액 | E28: =TRUNC(E26+E27, 0) -> 0 | H28: 900990 | I28: 도 급 액 | J28: 0 | K28: P10+P20 | L28: 132119902 | M28: 0 | O28: YZD014000000
A29: P40 | B29: 총 원 가 | E29: =TRUNC(, 0) -> 0 | H29: 900910 | I29: 총 원 가 | J29: 0 | L29: 0 | M29: 0 | O29: YZDH00100000
A30: W10 | B30: 총 공 사 비 | E30: =TRUNC(E28, -4) -> 0 | F30: 천단위 이하 버림 | H30: 1001100 | I30: 총 공 사 비 | J30: 0 | K30: P30+Q10+Q20+Q30+Q40+Q50+Q60 | L30: 132119902 | M30: 0 | O30: YZS005000000
A31: ZZZ | B31: 결 정 금 액 | E31: =TRUNC(, 0) -> 0 | H31: 1001300 | I31: 결 정 금 액 | J31: 0 | L31: 0 | M31: 0 | O31: YZS007000000

Sheet 공종별집계표
A1: 공 종 별 집 계 표
A2: ="[" & 설계서용지!F7 & "]" -> [공용 스마트 교육공간 인프라 구축 건축공사]
A3: 품 목 | B3: 규 격 | C3: 단위 | D3: 수량 | E3: 재 료 비 | G3: 노 무 비 | I3: 경 비 | K3: 합 계 | M3: 비 고
E4: 단 가 | F4: 금 액 | G4: 단 가 | H4: 금 액 | I4: 단 가 | J4: 금 액 | K4: 단 가 | L4: 금 액
A5: 01 공용 스마트 교육공간 인프라 구축(건축) | D5: 1 | E5: =F6+F7+F9+F11+F12+F13+F14+F10 -> 0 | F5: =D5*E5 -> 0 | G5: =H6+H7+H9+H11+H12+H13+H14+H10 -> 0 | H5: =D5*G5 -> 0 | I5: =J6+J7+J9+J11+J12+J13+J14+J10 -> 0 | J5: =D5*I5 -> 0 | K5: =E5+G5+I5 -> 0 | L5: =F5+H5+J5 -> 0 | N5: 01 | O5: 100000
A6: 0101 가설공사 | D6: 1 | E6: =공종별내역서!F26 -> 0 | F6: =D6*E6 -> 0 | G6: =공종별내역서!H26 -> 0 | H6: =D6*G6 -> 0 | I6: =공종별내역서!J26 -> 0 | J6: =D6*I6 -> 0 | K6: =E6+G6+I6 -> 0 | L6: =F6+H6+J6 -> 0 | N6: 0101 | O6: 239729 | S6: =HYPERLINK("#공종별내역서!A5", "▶바로가기") -> ▶바로가기
A7: 0102 철거공사 | D7: 1 | E7: =공종별내역서!F48 -> 0 | F7: =D7*E7 -> 0 | G7: =공종별내역서!H48 -> 0 | H7: =D7*G7 -> 0 | I7: =공종별내역서!J48 -> 0 | J7: =D7*I7 -> 0 | K7: =E7+G7+I7 -> 0 | L7: =F7+H7+J7 -> 0 | N7: 0102 | O7: 385632 | S7: =HYPERLINK("#공종별내역서!A27", "▶바로가기") -> ▶바로가기
A8: 0103 폐기물처리비 | D8: 1 | E8: =공종별내역서!F70 -> 0 | F8: =D8*E8 -> 0 | G8: =공종별내역서!H70 -> 0 | H8: =D8*G8 -> 0 | I8: =공종별내역서!J70 -> 0 | J8: =D8*I8 -> 0 | K8: =E8+G8+I8 -> 0 | L8: =F8+H8+J8 -> 0 | M8: 합산 제외 | N8: 0103 | O8: 454493 | S8: =HYPERLINK("#공종별내역서!A49", "▶바로가기") -> ▶바로가기
A9: 0104 목공사 | D9: 1 | E9: =공종별내역서!F92 -> 0 | F9: =D9*E9 -> 0 | G9: =공종별내역서!H92 -> 0 | H9: =D9*G9 -> 0 | I9: =공종별내역서!J92 -> 0 | J9: =D9*I9 -> 0 | K9: =E9+G9+I9 -> 0 | L9: =F9+H9+J9 -> 0 | N9: 0104 | O9: 592989 | S9: =HYPERLINK("#공종별내역서!A71", "▶바로가기") -> ▶바로가기
A10: 0105 도장공사 | D10: 1 | E10: =공종별내역서!F114 -> 0 | F10: =D10*E10 -> 0 | G10: =공종별내역서!H114 -> 0 | H10: =D10*G10 -> 0 | I10: =공종별내역서!J114 -> 0 | J10: =D10*I10 -> 0 | K10: =E10+G10+I10 -> 0 | L10: =F10+H10+J10 -> 0 | N10: 0105 | O10: 592990 | S10: =HYPERLINK("#공종별내역서!A93", "▶바로가기") -> ▶바로가기
A11: 0106 수장공사 | D11: 1 | E11: =공종별내역서!F136 -> 0 | F11: =D11*E11 -> 0 | G11: =공종별내역서!H136 -> 0 | H11: =D11*G11 -> 0 | I11: =공종별내역서!J136 -> 0 | J11: =D11*I11 -> 0 | K11: =E11+G11+I11 -> 0 | L11: =F11+H11+J11 -> 0 | N11: 0106 | O11: 670283 | S11: =HYPERLINK("#공종별내역서!A115", "▶바로가기") -> ▶바로가기
A12: 0107 창호및유리공사 | D12: 1 | E12: =공종별내역서!F158 -> 0 | F12: =D12*E12 -> 0 | G12: =공종별내역서!H158 -> 0 | H12: =D12*G12 -> 0 | I12: =공종별내역서!J158 -> 0 | J12: =D12*I12 -> 0 | K12: =E12+G12+I12 -> 0 | L12: =F12+H12+J12 -> 0 | N12: 0107 | O12: 805137 | S12: =HYPERLINK("#공종별내역서!A137", "▶바로가기") -> ▶바로가기
A13: 0108 금속공사 | D13: 1 | E13: =공종별내역서!F180 -> 0 | F13: =D13*E13 -> 0 | G13: =공종별내역서!H180 -> 0 | H13: =D13*G13 -> 0 | I13: =공종별내역서!J180 -> 0 | J13: =D13*I13 -> 0 | K13: =E13+G13+I13 -> 0 | L13: =F13+H13+J13 -> 0 | N13: 0108 | O13: 935666 | S13: =HYPERLINK("#공종별내역서!A159", "▶바로가기") -> ▶바로가기
A14: 0109 기타공사 | D14: 1 | E14: =공종별내역서!F202 -> 0 | F14: =D14*E14 -> 0 | G14: =공종별내역서!H202 -> 0 | H14: =D14*G14 -> 0 | I14: =공종별내역서!J202 -> 0 | J14: =D14*I14 -> 0 | K14: =E14+G14+I14 -> 0 | L14: =F14+H14+J14 -> 0 | N14: 0109 | O14: 1062255 | S14: =HYPERLINK("#공종별내역서!A181", "▶바로가기") -> ▶바로가기
A29: [ 합 계 ] | F29: =F5 -> 0 | H29: =H5 -> 0 | J29: =J5 -> 0 | L29: =L5 -> 0

Sheet 공종별내역서
A1: 공 종 별 내 역 서
A2: ="[" & 설계서용지!F7 & "]" -> [공용 스마트 교육공간 인프라 구축 건축공사]
A3: 품 목 | B3: 규 격 | C3: 단위 | D3: 수량 | E3: 재 료 비 | G3: 노 무 비 | I3: 경 비 | K3: 합 계 | M3: 비 고 | N3: 품목코드 | O3: 변수 | P3: 설정 | Q3: 공종코드 | R3: SEQNO | S3: ITEMSEQNO | T3: 일위 | U3: 단산 | V3: 자재 | W3: 산근 | X3: 손료적용 | Y3: 손료저장 | Z3: 적용률 | AA3: JUK1 | AB3: JUK2 | AC3: JUK3 | AD3: JUK4 | AE3: JUK5 | AF3: JUK6 | AG3: JUK7 | AH3: JUK8 | AI3: JUK9 | AJ3: JUK10 | AK3: JUK11 | AL3: JUK12 | AM3: JUK13 | AN3: JUK14 | AO3: JUK15 | AP3: JUK16 | AQ3: JUK17 | AR3: JUK18 | AS3: JUK19 | AT3: JUK20 | AU3: 메모장 | AV3: 조정률
E4: 단 가 | F4: 금 액 | G4: 단 가 | H4: 금 액 | I4: 단 가 | J4: 금 액 | K4: 단 가 | L4: 금 액
A5: 0101 가설공사 | Q5: 0101 | R5: 239729 | S5: 0
A6: 먹매김 | B6: 사무공간, 교육장, 회의·강연장 | C6: M2 | D6: 286.78 | N6: =HYPERLINK("#일위대가목록!A4", "IA0000000500") -> IA0000000500 | Q6: 0101 | R6: 239729 | S6: 20 | T6: T | U6: F | V6: F | X6: 0 | Y6: 0 | Z6: 0 | AA6: 0 | AB6: 0 | AC6: 0 | AD6: 0 | AE6: 0 | AF6: 0 | AG6: 0 | AH6: 0 | AI6: 2 | AJ6: 0 | AK6: 0 | AL6: 0 | AM6: 0 | AN6: 0 | AO6: 0 | AP6: 0 | AQ6: 0 | AR6: 0 | AS6: 0 | AT6: 0 | AV6: 100 | AY6: =HYPERLINK("#일위대가목록!A4", "▶바로가기") -> ▶바로가기
A7: 자재 소운반 | B7: 15층 이하 기준 | C7: M2 | D7: 286.78 | N7: =HYPERLINK("#일위대가목록!A5", "IA0000002000") -> IA0000002000 | Q7: 0101 | R7: 239729 | S7: 30 | T7: T | U7: F | V7: F | X7: 0 | Y7: 0 | Z7: 0 | AA7: 0 | AB7: 0 | AC7: 0 | AD7: 0 | AE7: 0 | AF7: 0 | AG7: 0 | AH7: 0 | AI7: 2 | AJ7: 0 | AK7: 0 | AL7: 0 | AM7: 0 | AN7: 0 | AO7: 0 | AP7: 0 | AQ7: 0 | AR7: 0 | AS7: 0 | AT7: 0 | AV7: 100 | AY7: =HYPERLINK("#일위대가목록!A5", "▶바로가기") -> ▶바로가기
A8: 보양 | B8: 합판, T=3 | C8: M2 | D8: 6.8 | N8: =HYPERLINK("#일위대가목록!A6", "IA0000003000") -> IA0000003000 | Q8: 0101 | R8: 239729 | S8: 35 | T8: T | U8: F | V8: F | X8: 0 | Y8: 0 | Z8: 0 | AA8: 0 | AB8: 0 | AC8: 0 | AD8: 0 | AE8: 0 | AF8: 0 | AG8: 0 | AH8: 0 | AI8: 2 | AJ8: 0 | AK8: 0 | AL8: 0 | AM8: 0 | AN8: 0 | AO8: 0 | AP8: 0 | AQ8: 0 | AR8: 0 | AS8: 0 | AT8: 0 | AV8: 100 | AY8: =HYPERLINK("#일위대가목록!A6", "▶바로가기") -> ▶바로가기
A9: 준공청소 | B9: 1회 기준 | C9: M2 | D9: 286.78 | M9: 별도 | N9: =HYPERLINK("#일위대가목록!A7", "IA0000003500") -> IA0000003500 | Q9: 0101 | R9: 239729 | S9: 40 | T9: T | U9: F | V9: F | X9: 0 | Y9: 0 | Z9: 0 | AA9: 0 | AB9: 0 | AC9: 0 | AD9: 0 | AE9: 0 | AF9: 0 | AG9: 0 | AH9: 0 | AI9: 2 | AJ9: 0 | AK9: 0 | AL9: 0 | AM9: 0 | AN9: 0 | AO9: 0 | AP9: 0 | AQ9: 0 | AR9: 0 | AS9: 0 | AT9: 0 | AV9: 100 | AY9: =HYPERLINK("#일위대가목록!A7", "▶바로가기") -> ▶바로가기
D10: 0 | AV10: 0
D11: 0 | AV11: 0
D12: 0 | AV12: 0
D13: 0 | AV13: 0
D14: 0 | AV14: 0
D15: 0 | AV15: 0
D16: 0 | AV16: 0
D17: 0 | AV17: 0
D18: 0 | AV18: 0
D19: 0 | AV19: 0
D20: 0 | AV20: 0
D21: 0 | AV21: 0
... D25: 0 | AV25: 0
A26: [ 합 계 ]
A27: 0102 철거공사 | Q27: 0102 | R27: 385632 | S27: 0
A28: 경량 구조틀 철거 | C28: M2 | D28: 6 | N28: =HYPERLINK("#일위대가목록!A8", "IB0000003400") -> IB0000003400 | Q28: 0102 | R28: 385632 | S28: 10 | T28: T | U28: F | V28: F | X28: 0 | Y28: 0 | Z28: 0 | AA28: 0 | AB28: 0 | AC28: 0 | AD28: 0 | AE28: 0 | AF28: 0 | AG28: 0 | AH28: 0 | AI28: 3 | AJ28: 0 | AK28: 0 | AL28: 0 | AM28: 0 | AN28: 0 | AO28: 0 | AP28: 0 | AQ28: 0 | AR28: 0 | AS28: 0 | AT28: 0 | AV28: 100 | AY28: =HYPERLINK("#일위대가목록!A8", "▶바로가기") -> ▶바로가기
A29: 합판 또는 판재류 철거 | B29: 벽체, 2PLY | C29: M2 | D29: 11.52 | N29: =HYPERLINK("#일위대가목록!A9", "IB0000004100") -> IB0000004100 | Q29: 0102 | R29: 385632 | S29: 20 | T29: T | U29: F | V29: F | X29: 0 | Y29: 0 | Z29: 0 | AA29: 0 | AB29: 0 | AC29: 0 | AD29: 0 | AE29: 0 | AF29: 0 | AG29: 0 | AH29: 0 | AI29: 3 | AJ29: 0 | AK29: 0 | AL29: 0 | AM29: 0 | AN29: 0 | AO29: 0 | AP29: 0 | AQ29: 0 | AR29: 0 | AS29: 0 | AT29: 0 | AV29: 100 | AY29: =HYPERLINK("#일위대가목록!A9", "▶바로가기") -> ▶바로가기
A30: 카페트 및 비닐 시트류 철거 | C30: M2 | D30: 2.13 | N30: =HYPERLINK("#일위대가목록!A10", "IB0000004600") -> IB0000004600 | Q30: 0102 | R30: 385632 | S30: 30 | T30: T | U30: F | V30: F | X30: 0 | Y30: 0 | Z30: 0 | AA30: 0 | AB30: 0 | AC30: 0 | AD30: 0 | AE30: 0 | AF30: 0 | AG30: 0 | AH30: 0 | AI30: 3 | AJ30: 0 | AK30: 0 | AL30: 0 | AM30: 0 | AN30: 0 | AO30: 0 | AP30: 0 | AQ30: 0 | AR30: 0 | AS30: 0 | AT30: 0 | AV30: 100 | AY30: =HYPERLINK("#일위대가목록!A10", "▶바로가기") -> ▶바로가기
A31: 유리프레임 철거 | B31: 150×50 기준 | C31: M | D31: 9.2 | N31: =HYPERLINK("#일위대가목록!A11", "IB0000005500") -> IB0000005500 | Q31: 0102 | R31: 385632 | S31: 40 | T31: T | U31: F | V31: F | X31: 0 | Y31: 0 | Z31: 0 | AA31: 0 | AB31: 0 | AC31: 0 | AD31: 0 | AE31: 0 | AF31: 0 | AG31: 0 | AH31: 0 | AI31: 3 | AJ31: 0 | AK31: 0 | AL31: 0 | AM31: 0 | AN31: 0 | AO31: 0 | AP31: 0 | AQ31: 0 | AR31: 0 | AS31: 0 | AT31: 0 | AV31: 100 | AY31: =HYPERLINK("#일위대가목록!A11", "▶바로가기") -> ▶바로가기
A32: 유리 철거 | B32: T=12, 일반유리 기준 | C32: M2 | D32: 1.2 | N32: =HYPERLINK("#일위대가목록!A12", "IB0000005200") -> IB0000005200 | Q32: 0102 | R32: 385632 | S32: 50 | T32: T | U32: F | V32: F | X32: 0 | Y32: 0 | Z32: 0 | AA32: 0 | AB32: 0 | AC32: 0 | AD32: 0 | AE32: 0 | AF32: 0 | AG32: 0 | AH32: 0 | AI32: 3 | AJ32: 0 | AK32: 0 | AL32: 0 | AM32: 0 | AN32: 0 | AO32: 0 | AP32: 0 | AQ32: 0 | AR32: 0 | AS32: 0 | AT32: 0 | AV32: 100 | AY32: =HYPERLINK("#일위대가목록!A12", "▶바로가기") -> ▶바로가기
A33: 경량철골천장틀 철거 | C33: M2 | D33: 263 | N33: =HYPERLINK("#일위대가목록!A13", "SF0330002100") -> SF0330002100 | Q33: 0102 | R33: 385632 | S33: 52 | T33: T | U33: F | V33: F | X33: 0 | Y33: 0 | Z33: 0 | AA33: 0 | AB33: 0 | AC33: 0 | AD33: 0 | AE33: 0 | AF33: 0 | AG33: 0 | AH33: 0 | AI33: 3 | AJ33: 0 | AK33: 0 | AL33: 0 | AM33: 0 | AN33: 0 | AO33: 0 | AP33: 0 | AQ33: 0 | AR33: 0 | AS33: 0 | AT33: 0 | AV33: 100 | AY33: =HYPERLINK("#일위대가목록!A13", "▶바로가기") -> ▶바로가기
A34: 텍스류 철거 | B34: 천장 | C34: M2 | D34: 263 | N34: =HYPERLINK("#일위대가목록!A14", "IB0000003900") -> IB0000003900 | Q34: 0102 | R34: 385632 | S34: 55 | T34: T | U34: F | V34: F | X34: 0 | Y34: 0 | Z34: 0 | AA34: 0 | AB34: 0 | AC34: 0 | AD34: 0 | AE34: 0 | AF34: 0 | AG34: 0 | AH34: 0 | AI34: 3 | AJ34: 0 | AK34: 0 | AL34: 0 | AM34: 0 | AN34: 0 | AO34: 0 | AP34: 0 | AQ34: 0 | AR34: 0 | AS34: 0 | AT34: 0 | AV34: 100 | AY34: =HYPERLINK("#일위대가목록!A14", "▶바로가기") -> ▶바로가기
A35: 철제커텐박스철거 | C35: M | D35: 29.4 | N35: =HYPERLINK("#일위대가목록!A15", "SF0330002300") -> SF0330002300 | Q35: 0102 | R35: 385632 | S35: 60 | T35: T | U35: F | V35: F | X35: 0 | Y35: 0 | Z35: 0 | AA35: 0 | AB35: 0 | AC35: 0 | AD35: 0 | AE35: 0 | AF35: 0 | AG35: 0 | AH35: 0 | AI35: 3 | AJ35: 0 | AK35: 0 | AL35: 0 | AM35: 0 | AN35: 0 | AO35: 0 | AP35: 0 | AQ35: 0 | AR35: 0 | AS35: 0 | AT35: 0 | AV35: 100 | AY35: =HYPERLINK("#일위대가목록!A15", "▶바로가기") -> ▶바로가기
A36: 건설용 리프트(인화물용) | B36: 1 톤 X 45 m | C36: 대 | D36: 1 | M36: 사다리차 | N36: =HYPERLINK("#단가대비표!B61", "0000221001450000") -> 0000221001450000 | Q36: 0102 | R36: 385632 | S36: 70 | T36: F | U36: F | V36: T | X36: 0 | Y36: 0 | Z36: 0 | AA36: 0 | AB36: 0 | AC36: 0 | AD36: 0 | AE36: 0 | AF36: 0 | AG36: 0 | AH36: 0 | AI36: 3 | AJ36: 0 | AK36: 0 | AL36: 0 | AM36: 0 | AN36: 0 | AO36: 0 | AP36: 0 | AQ36: 0 | AR36: 0 | AS36: 0 | AT36: 0 | AV36: 100 | AY36: =HYPERLINK("#단가대비표!B61", "▶바로가기") -> ▶바로가기
A37: 보통인부 | B37: 일반공사 직종 | C37: 인 | D37: 10 | M37: 집기이동 및 해체 | N37: =HYPERLINK("#단가대비표!B53", "L001010101000002") -> L001010101000002 | Q37: 0102 | R37: 385632 | S37: 80 | T37: F | U37: F | V37: T | X37: 0 | Y37: 0 | Z37: 0 | AA37: 0 | AB37: 0 | AC37: 0 | AD37: 0 | AE37: 0 | AF37: 0 | AG37: 0 | AH37: 0 | AI37: 3 | AJ37: 0 | AK37: 0 | AL37: 0 | AM37: 0 | AN37: 0 | AO37: 0 | AP37: 0 | AQ37: 0 | AR37: 0 | AS37: 0 | AT37: 0 | AV37: 100 | AY37: =HYPERLINK("#단가대비표!B53", "▶바로가기") -> ▶바로가기
D38: 0 | AV38: 0
D39: 0 | AV39: 0
D40: 0 | AV40: 0
D41: 0 | AV41: 0
D42: 0 | AV42: 0
D43: 0 | AV43: 0
D44: 0 | AV44: 0
D45: 0 | AV45: 0
D46: 0 | AV46: 0
D47: 0 | AV47: 0
A48: [ 합 계 ]
A49: 0103 폐기물처리비 | Q49: 0103 | R49: 454493 | S49: 0
A50: 혼합건설폐기물 | B50: 그 밖의 건설폐기물에 가연성 5% 이하 혼합 | C50: TON | D50: 5 | M50: 상차 및 운반비포함 | N50: =HYPERLINK("#단가대비표!B62", "E001010115010520") -> E001010115010520 | Q50: 0103 | R50: 454493 | S50: 10 | T50: F | U50: F | V50: T | X50: 0 | Y50: 0 | Z50: 0 | AA50: 0 | AB50: 0 | AC50: 0 | AD50: 0 | AE50: 0 | AF50: 0 | AG50: 0 | AH50: 0 | AI50: 4 | AJ50: 0 | AK50: 0 | AL50: 0 | AM50: 0 | AN50: 0 | AO50: 0 | AP50: 0 | AQ50: 0 | AR50: 0 | AS50: 0 | AT50: 0 | AV50: 100 | AY50: =HYPERLINK("#단가대비표!B62", "▶바로가기") -> ▶바로가기
A51: 폐목재 | B51: 처리비/나무창문틀,가구 | C51: TON | D51: 10 | M51: 상차 및 운반비포함 | N51: =HYPERLINK("#단가대비표!B63", "E001010115010612") -> E001010115010612 | Q51: 0103 | R51: 454493 | S51: 20 | T51: F | U51: F | V51: T | X51: 0 | Y51: 0 | Z51: 0 | AA51: 0 | AB51: 0 | AC51: 0 | AD51: 0 | AE51: 0 | AF51: 0 | AG51: 0 | AH51: 0 | AI51: 4 | AJ51: 0 | AK51: 0 | AL51: 0 | AM51: 0 | AN51: 0 | AO51: 0 | AP51: 0 | AQ51: 0 | AR51: 0 | AS51: 0 | AT51: 0 | AV51: 100 | AY51: =HYPERLINK("#단가대비표!B63", "▶바로가기") -> ▶바로가기
D52: 0 | AV52: 0
D53: 0 | AV53: 0
D54: 0 | AV54: 0
D55: 0 | AV55: 0
D56: 0 | AV56: 0
D57: 0 | AV57: 0
D58: 0 | AV58: 0
D59: 0 | AV59: 0
D60: 0 | AV60: 0
D61: 0 | AV61: 0
D62: 0 | AV62: 0
D63: 0 | AV63: 0
... D69: 0 | AV69: 0
A70: [ 합 계 ]
A71: 0104 목공사 | Q71: 0104 | R71: 592989 | S71: 0
A72: 벽,띠장설치(미송) | B72: 30*30,@450*600 | C72: M2 | D72: 69.7 | N72: =HYPERLINK("#일위대가목록!A16", "AD0201000400") -> AD0201000400 | Q72: 0104 | R72: 592989 | S72: 10 | T72: T | U72: F | V72: F | X72: 0 | Y72: 0 | Z72: 0 | AA72: 0 | AB72: 0 | AC72: 0 | AD72: 0 | AE72: 0 | AF72: 0 | AG72: 0 | AH72: 0 | AI72: 5 | AJ72: 0 | AK72: 0 | AL72: 0 | AM72: 0 | AN72: 0 | AO72: 0 | AP72: 0 | AQ72: 0 | AR72: 0 | AS72: 0 | AT72: 0 | AV72: 100 | AY72: =HYPERLINK("#일위대가목록!A16", "▶바로가기") -> ▶바로가기
A73: 벽체합판 설치 | B73: 보통합판, THK4.8×1PLY | C73: M2 | D73: 69.7 | N73: =HYPERLINK("#일위대가목록!A17", "AD0203200400") -> AD0203200400 | Q73: 0104 | R73: 592989 | S73: 20 | T73: T | U73: F | V73: F | X73: 0 | Y73: 0 | Z73: 0 | AA73: 0 | AB73: 0 | AC73: 0 | AD73: 0 | AE73: 0 | AF73: 0 | AG73: 0 | AH73: 0 | AI73: 5 | AJ73: 0 | AK73: 0 | AL73: 0 | AM73: 0 | AN73: 0 | AO73: 0 | AP73: 0 | AQ73: 0 | AR73: 0 | AS73: 0 | AT73: 0 | AV73: 100 | AY73: =HYPERLINK("#일위대가목록!A17", "▶바로가기") -> ▶바로가기
A74: 벽, MDF붙임 | B74: 중밀도섬유판, THK12×1PLY | C74: M2 | D74: 50 | N74: =HYPERLINK("#일위대가목록!A18", "AD0203100600") -> AD0203100600 | Q74: 0104 | R74: 592989 | S74: 30 | T74: T | U74: F | V74: F | X74: 0 | Y74: 0 | Z74: 0 | AA74: 0 | AB74: 0 | AC74: 0 | AD74: 0 | AE74: 0 | AF74: 0 | AG74: 0 | AH74: 0 | AI74: 5 | AJ74: 0 | AK74: 0 | AL74: 0 | AM74: 0 | AN74: 0 | AO74: 0 | AP74: 0 | AQ74: 0 | AR74: 0 | AS74: 0 | AT74: 0 | AV74: 100 | AY74: =HYPERLINK("#일위대가목록!A18", "▶바로가기") -> ▶바로가기
A75: 템바보드붙임 | B75: THK12 반달 | C75: M2 | D75: 0.8 | N75: =HYPERLINK("#단가대비표!B46", "ZA00000000000003") -> ZA00000000000003 | Q75: 0104 | R75: 592989 | S75: 40 | T75: F | U75: F | V75: T | X75: 0 | Y75: 0 | Z75: 0 | AA75: 0 | AB75: 0 | AC75: 0 | AD75: 0 | AE75: 0 | AF75: 0 | AG75: 0 | AH75: 0 | AI75: 5 | AJ75: 0 | AK75: 0 | AL75: 0 | AM75: 0 | AN75: 0 | AO75: 0 | AP75: 0 | AQ75: 0 | AR75: 0 | AS75: 0 | AT75: 0 | AV75: 100 | AY75: =HYPERLINK("#단가대비표!B46", "▶바로가기") -> ▶바로가기
D76: 0 | AV76: 0
D77: 0 | AV77: 0
D78: 0 | AV78: 0
D79: 0 | AV79: 0
D80: 0 | AV80: 0
D81: 0 | AV81: 0
D82: 0 | AV82: 0
D83: 0 | AV83: 0
D84: 0 | AV84: 0
D85: 0 | AV85: 0
D86: 0 | AV86: 0
D87: 0 | AV87: 0
... D91: 0 | AV91: 0
A92: [ 합 계 ]
A93: 0105 도장공사 | Q93: 0105 | R93: 592990 | S93: 0
A94: 바탕+낙서방지 페인트칠 | B94: 롤러 2회 칠, 콘크리트·모르타르면 | C94: M2 | D94: 73.8 | N94: =HYPERLINK("#일위대가목록!A19", "AK0209000400") -> AK0209000400 | Q94: 0105 | R94: 592990 | S94: 10 | T94: T | U94: F | V94: F | X94: 0 | Y94: 0 | Z94: 0 | AA94: 0 | AB94: 0 | AC94: 0 | AD94: 0 | AE94: 0 | AF94: 0 | AG94: 0 | AH94: 0 | AI94: 42 | AJ94: 0 | AK94: 0 | AL94: 0 | AM94: 0 | AN94: 0 | AO94: 0 | AP94: 0 | AQ94: 0 | AR94: 0 | AS94: 0 | AT94: 0 | AV94: 100 | AY94: =HYPERLINK("#일위대가목록!A19", "▶바로가기") -> ▶바로가기
A95: 세라민페인트칠 | B95: 걸레받이,모르타르면3회 | C95: M2 | D95: 3.6 | N95: =HYPERLINK("#일위대가목록!A20", "AK0210000700") -> AK0210000700 | Q95: 0105 | R95: 592990 | S95: 20 | T95: T | U95: F | V95: F | X95: 0 | Y95: 0 | Z95: 0 | AA95: 0 | AB95: 0 | AC95: 0 | AD95: 0 | AE95: 0 | AF95: 0 | AG95: 0 | AH95: 0 | AI95: 42 | AJ95: 0 | AK95: 0 | AL95: 0 | AM95: 0 | AN95: 0 | AO95: 0 | AP95: 0 | AQ95: 0 | AR95: 0 | AS95: 0 | AT95: 0 | AV95: 100 | AY95: =HYPERLINK("#일위대가목록!A20", "▶바로가기") -> ▶바로가기
D96: 0 | AV96: 0
D97: 0 | AV97: 0
D98: 0 | AV98: 0
D99: 0 | AV99: 0
D100: 0 | AV100: 0
D101: 0 | AV101: 0
D102: 0 | AV102: 0
D103: 0 | AV103: 0
D104: 0 | AV104: 0
D105: 0 | AV105: 0
D106: 0 | AV106: 0
D107: 0 | AV107: 0
... D113: 0 | AV113: 0
A114: [ 합 계 ]
A115: 0106 수장공사 | Q115: 0106 | R115: 670283 | S115: 0
A116: 천장텍스설치 | B116: 흡음텍스(300 x 600㎜) | C116: M2 | D116: 263 | N116: =HYPERLINK("#단가대비표!B52", "AOC120306000") -> AOC120306000 | Q116: 0106 | R116: 670283 | S116: 10 | T116: F | U116: F | V116: T | X116: 0 | Y116: 0 | Z116: 0 | AA116: 0 | AB116: 0 | AC116: 0 | AD116: 0 | AE116: 0 | AF116: 0 | AG116: 0 | AH116: 0 | AI116: 6 | AJ116: 0 | AK116: 0 | AL116: 0 | AM116: 0 | AN116: 0 | AO116: 0 | AP116: 0 | AQ116: 0 | AR116: 0 | AS116: 0 | AT116: 0 | AV116: 100 | AY116: =HYPERLINK("#단가대비표!B52", "▶바로가기") -> ▶바로가기
...

Sheet 일위대가목록
A1: 일 위 대 가 목 록
A2: ="[" & 설계서용지!F7 & "]" -> [공용 스마트 교육공간 인프라 구축 건축공사]
A3: 코 드 | B3: 품 명 | C3: 규 격 | D3: 단위 | E3: 재 료 비 | F3: 노 무 비 | G3: 경 비 | H3: 합 계 | I3: 비 고 | J3: 노임계수 | K3: 할증 | L3: 품셈개요 | M3: 장비일위
A4: IA0000000500 | B4: 먹매김 | C4: 사무공간, 교육장, 회의·강연장 | D4: M2 | E4: =TRUNC(일위대가!F7, 0) -> 0 | F4: =TRUNC(일위대가!H7, 0) -> 8051 | G4: =TRUNC(일위대가!J7, 0) -> 0 | H4: =TRUNC(E4+F4+G4, 0) -> 8051 | I4: 실내건축 가설-05 | L4: 실내건축 가설-05 | P4: =HYPERLINK("#일위대가!A5", "▶바로가기") -> ▶바로가기
A5: IA0000002000 | B5: 자재 소운반 | C5: 15층 이하 기준 | D5: M2 | E5: =TRUNC(일위대가!F11, 0) -> 0 | F5: =TRUNC(일위대가!H11, 0) -> 7743 | G5: =TRUNC(일위대가!J11, 0) -> 0 | H5: =TRUNC(E5+F5+G5, 0) -> 7743 | I5: 실내건축 가설-20 | L5: 실내건축 가설-20 | P5: =HYPERLINK("#일위대가!A9", "▶바로가기") -> ▶바로가기
A6: IA0000003000 | B6: 보양 | C6: 합판, T=3 | D6: M2 | E6: =TRUNC(일위대가!F17, 0) -> 3290 | F6: =TRUNC(일위대가!H17, 0) -> 5850 | G6: =TRUNC(일위대가!J17, 0) -> 0 | H6: =TRUNC(E6+F6+G6, 0) -> 9140 | I6: 실내건축-가설-30 | L6: 실내건축-가설-30 | P6: =HYPERLINK("#일위대가!A13", "▶바로가기") -> ▶바로가기
A7: IA0000003500 | B7: 준공청소 | C7: 1회 기준 | D7: M2 | E7: =TRUNC(일위대가!F21, 0) -> 0 | F7: =TRUNC(일위대가!H21, 0) -> 8603 | G7: =TRUNC(일위대가!J21, 0) -> 0 | H7: =TRUNC(E7+F7+G7, 0) -> 8603 | I7: 실내건축-가설-35 | L7: 실내건축-가설-35 | P7: =HYPERLINK("#일위대가!A19", "▶바로가기") -> ▶바로가기
A8: IB0000003400 | B8: 경량 구조틀 철거 | D8: M2 | E8: =TRUNC(일위대가!F27, 0) -> 650 | F8: =TRUNC(일위대가!H27, 0) -> 13002 | G8: =TRUNC(일위대가!J27, 0) -> 0 | H8: =TRUNC(E8+F8+G8, 0) -> 13652 | I8: 실내건축 철거-13 | L8: 실내건축 철거-13 | P8: =HYPERLINK("#일위대가!A23", "▶바로가기") -> ▶바로가기
A9: IB0000004100 | B9: 합판 또는 판재류 철거 | C9: 벽체, 2PLY | D9: M2 | E9: =TRUNC(일위대가!F33, 0) -> 0 | F9: =TRUNC(일위대가!H33, 0) -> 7234 | G9: =TRUNC(일위대가!J33, 0) -> 144 | H9: =TRUNC(E9+F9+G9, 0) -> 7378 | I9: 실내건축 철거-20 | L9: 실내건축 철거-20 | P9: =HYPERLINK("#일위대가!A29", "▶바로가기") -> ▶바로가기
A10: IB0000004600 | B10: 카페트 및 비닐 시트류 철거 | D10: M2 | E10: =TRUNC(일위대가!F39, 0) -> 240 | F10: =TRUNC(일위대가!H39, 0) -> 4800 | G10: =TRUNC(일위대가!J39, 0) -> 0 | H10: =TRUNC(E10+F10+G10, 0) -> 5040 | I10: 실내건축 철거-25 | L10: 실내건축 철거-25 | P10: =HYPERLINK("#일위대가!A35", "▶바로가기") -> ▶바로가기
A11: IB0000005500 | B11: 유리프레임 철거 | C11: 150×50 기준 | D11: M | E11: =TRUNC(일위대가!F45, 0) -> 0 | F11: =TRUNC(일위대가!H45, 0) -> 25345 | G11: =TRUNC(일위대가!J45, 0) -> 1267 | H11: =TRUNC(E11+F11+G11, 0) -> 26612 | I11: 실내건축 철거-34 | L11: 실내건축 철거-34 | P11: =HYPERLINK("#일위대가!A41", "▶바로가기") -> ▶바로가기
A12: IB0000005200 | B12: 유리 철거 | C12: T=12, 일반유리 기준 | D12: M2 | E12: =TRUNC(일위대가!F51, 0) -> 972 | F12: =TRUNC(일위대가!H51, 0) -> 19441 | G12: =TRUNC(일위대가!J51, 0) -> 0 | H12: =TRUNC(E12+F12+G12, 0) -> 20413 | I12: 실내건축 철거-31 | L12: 실내건축 철거-31 | P12: =HYPERLINK("#일위대가!A47", "▶바로가기") -> ▶바로가기
A13: SF0330002100 | B13: 경량철골천장틀 철거 | D13: M2 | E13: =TRUNC(일위대가!F56, 0) -> 688 | F13: =TRUNC(일위대가!H56, 0) -> 13765 | G13: =TRUNC(일위대가!J56, 0) -> 0 | H13: =TRUNC(E13+F13+G13, 0) -> 14453 | I13: '20년경남교육청 | L13: '20년경남교육청 | P13: =HYPERLINK("#일위대가!A53", "▶바로가기") -> ▶바로가기
A14: IB0000003900 | B14: 텍스류 철거 | C14: 천장 | D14: M2 | E14: =TRUNC(일위대가!F61, 0) -> 0 | F14: =TRUNC(일위대가!H61, 0) -> 4886 | G14: =TRUNC(일위대가!J61, 0) -> 0 | H14: =TRUNC(E14+F14+G14, 0) -> 4886 | I14: 실내건축 철거-18 | L14: 실내건축 철거-18 | P14: =HYPERLINK("#일위대가!A58", "▶바로가기") -> ▶바로가기
A15: SF0330002300 | B15: 철제커텐박스철거 | D15: M | E15: =TRUNC(일위대가!F65, 0) -> 0 | F15: =TRUNC(일위대가!H65, 0) -> 3441 | G15: =TRUNC(일위대가!J65, 0) -> 0 | H15: =TRUNC(E15+F15+G15, 0) -> 3441 | I15: '20년경남교육청 | L15: '20년경남교육청 | P15: =HYPERLINK("#일위대가!A63", "▶바로가기") -> ▶바로가기
A16: AD0201000400 | B16: 벽,띠장설치(미송) | C16: 30*30,@450*600 | D16: M2 | E16: =TRUNC(일위대가!F71, 0) -> 2948 | F16: =TRUNC(일위대가!H71, 0) -> 9733 | G16: =TRUNC(일위대가!J71, 0) -> 0 | H16: =TRUNC(E16+F16+G16, 0) -> 12681 | I16: 건축 4-2-1 | L16: 건축 4-2-1 | P16: =HYPERLINK("#일위대가!A67", "▶바로가기") -> ▶바로가기
A17: AD0203200400 | B17: 벽체합판 설치 | C17: 보통합판, THK4.8×1PLY | D17: M2 | E17: =TRUNC(일위대가!F77, 0) -> 4999 | F17: =TRUNC(일위대가!H77, 0) -> 18183 | G17: =TRUNC(일위대가!J77, 0) -> 0 | H17: =TRUNC(E17+F17+G17, 0) -> 23182 | I17: 건축 4-2-3 | L17: 건축 4-2-3 | P17: =HYPERLINK("#일위대가!A73", "▶바로가기") -> ▶바로가기
A18: AD0203100600 | B18: 벽, MDF붙임 | C18: 중밀도섬유판, THK12×1PLY | D18: M2 | E18: =TRUNC(일위대가!F83, 0) -> 6261 | F18: =TRUNC(일위대가!H83, 0) -> 18183 | G18: =TRUNC(일위대가!J83, 0) -> 0 | H18: =TRUNC(E18+F18+G18, 0) -> 24444 | I18: 건축 4-2-3 | L18: 건축 4-2-3 | P18: =HYPERLINK("#일위대가!A79", "▶바로가기") -> ▶바로가기
A19: AK0209000400 | B19: 바탕+낙서방지 페인트칠 | C19: 롤러 2회 칠, 콘크리트·모르타르면 | D19: M2 | E19: =TRUNC(일위대가!F89, 0) -> 1950 | F19: =TRUNC(일위대가!H89, 0) -> 12159 | G19: =TRUNC(일위대가!J89, 0) -> 0 | H19: =TRUNC(E19+F19+G19, 0) -> 14109 | I19: 건축 11-2-9 | L19: 건축 11-2-9 | P19: =HYPERLINK("#일위대가!A85", "▶바로가기") -> ▶바로가기
A20: AK0210000700 | B20: 세라민페인트칠 | C20: 걸레받이,모르타르면3회 | D20: M2 | E20: =TRUNC(일위대가!F95, 0) -> 1270 | F20: =TRUNC(일위대가!H95, 0) -> 22316 | G20: =TRUNC(일위대가!J95, 0) -> 0 | H20: =TRUNC(E20+F20+G20, 0) -> 23586 | P20: =HYPERLINK("#일위대가!A91", "▶바로가기") -> ▶바로가기
A21: AH0204001600 | B21: 경량철골천장틀 | C21: M-BAR,1M이상,인서트 유 | D21: M2 | E21: =TRUNC(일위대가!F111, 0) -> 12714 | F21: =TRUNC(일위대가!H111, 0) -> 14549 | G21: =TRUNC(일위대가!J111, 0) -> 0 | H21: =TRUNC(E21+F21+G21, 0) -> 27263 | I21: 건축 8-2-4 | L21: 건축 8-2-4 | P21: =HYPERLINK("#일위대가!A97", "▶바로가기") -> ▶바로가기
A22: IN1000000100 | B22: 인테리어필름붙임 | C22: W=300이상, 3.6M이하 | D22: M2 | E22: =TRUNC(일위대가!F117, 0) -> 0 | F22: =TRUNC(일위대가!H117, 0) -> 25874 | G22: =TRUNC(일위대가!J117, 0) -> 0 | H22: =TRUNC(E22+F22+G22, 0) -> 25874 | I22: 실내건축 수장-19 | L22: 실내건축 수장-19 | P22: =HYPERLINK("#일위대가!A113", "▶바로가기") -> ▶바로가기
A23: AE0101201000 | B23: 데코타일붙임 | C23: 450*450*3.0mm (왁스무) | D23: M2 | E23: =TRUNC(일위대가!F122, 0) -> 20819 | F23: =TRUNC(일위대가!H122, 0) -> 17145 | G23: =TRUNC(일위대가!J122, 0) -> 0 | H23: =TRUNC(E23+F23+G23, 0) -> 37964 | I23: 건축 5-1-1 | L23: 건축 5-1-1 | P23: =HYPERLINK("#일위대가!A119", "▶바로가기") -> ▶바로가기
A24: AJ0301000200 | B24: 창호유리설치 / 판유리 | C24: 유리두께 5mm 이하 | D24: M2 | E24: =TRUNC(일위대가!F127, 0) -> 0 | F24: =TRUNC(일위대가!H127, 0) -> 23280 | G24: =TRUNC(일위대가!J127, 0) -> 0 | H24: =TRUNC(E24+F24+G24, 0) -> 23280 | I24: 건축 10-3-1 | L24: 건축 10-3-1 | P24: =HYPERLINK("#일위대가!A124", "▶바로가기") -> ▶바로가기
A25: AH1210002400 | B25: 철재커텐박스(ㄷ자형) | C25: 150*150*1.2T 분체도장 | D25: M | E25: =TRUNC(일위대가!F133, 0) -> 12576 | F25: =TRUNC(일위대가!H133, 0) -> 46686 | G25: =TRUNC(일위대가!J133, 0) -> 0 | H25: =TRUNC(E25+F25+G25, 0) -> 59262 | P25: =HYPERLINK("#일위대가!A129", "▶바로가기") -> ▶바로가기
A26: AD0201000100 | B26: 벽체틀 설치 | C26: 자재 별도 | D26: M2 | E26: =TRUNC(일위대가!F139, 0) -> 194 | F26: =TRUNC(일위대가!H139, 0) -> 9733 | G26: =TRUNC(일위대가!J139, 0) -> 0 | H26: =TRUNC(E26+F26+G26, 0) -> 9927 | I26: 건축 4-2-1 | L26: 건축 4-2-1 | P26: =HYPERLINK("#일위대가!A135", "▶바로가기") -> ▶바로가기
A27: AD0203000100 | B27: 벽체합판 설치 | C27: 합판 별도 | D27: M2 | E27: =TRUNC(일위대가!F145, 0) -> 363 | F27: =TRUNC(일위대가!H145, 0) -> 18183 | G27: =TRUNC(일위대가!J145, 0) -> 0 | H27: =TRUNC(E27+F27+G27, 0) -> 18546 | I27: 건축 4-2-3 | L27: 건축 4-2-3 | P27: =HYPERLINK("#일위대가!A141", "▶바로가기") -> ▶바로가기
A28: AE0101100100 | B28: PVC계 바닥재 설치 - 타일 | C28: 주재료 제외 | D28: M2 | E28: =TRUNC(일위대가!F151, 0) -> 869 | F28: =TRUNC(일위대가!H151, 0) -> 17145 | G28: =TRUNC(일위대가!J151, 0) -> 0 | H28: =TRUNC(E28+F28+G28, 0) -> 18014 | I28: 건축 5-1-1 | L28: 건축 5-1-1 | P28: =HYPERLINK("#일위대가!A147", "▶바로가기") -> ▶바로가기
A29: AH0104000300 | B29: 인서트(Insert) 설치 | C29: 설치대상 - 콘크리트 | D29: 개 | E29: =TRUNC(일위대가!F156, 0) -> 92 | F29: =TRUNC(일위대가!H156, 0) -> 2311 | G29: =TRUNC(일위대가!J156, 0) -> 0 | H29: =TRUNC(E29+F29+G29, 0) -> 2403 | I29: 건축 8-1-4 | L29: 건축 8-1-4 | P29: =HYPERLINK("#일위대가!A153", "▶바로가기") -> ▶바로가기
A30: AH0204000100 | B30: 경량천장철골틀 설치 | C30: BAR간격 300mm | D30: M2 | E30: =TRUNC(일위대가!F162, 0) -> 684 | F30: =TRUNC(일위대가!H162, 0) -> 11402 | G30: =TRUNC(일위대가!J162, 0) -> 0 | H30: =TRUNC(E30+F30+G30, 0) -> 12086 | I30: 건축 8-2-4 | L30: 건축 8-2-4 | P30: =HYPERLINK("#일위대가!A158", "▶바로가기") -> ▶바로가기
A31: AH0301000500 | B31: 잡철물 제작 및 설치(현장제작 설치) | C31: 일반철재 | D31: Ton | E31: =TRUNC(일위대가!F171, 0) -> 426279 | F31: =TRUNC(일위대가!H171, 0) -> 5328496 | G31: =TRUNC(일위대가!J171, 0) -> 0 | H31: =TRUNC(E31+F31+G31, 0) -> 5754775 | I31: 건축 8-3-1 | L31: 건축 8-3-1 | P31: =HYPERLINK("#일위대가!A164", "▶바로가기") -> ▶바로가기
A32: AH0301000600 | B32: 잡철물 제작 및 설치(현장제작 설치) | C32: 경량철재 | D32: Ton | E32: =TRUNC(일위대가!F180, 0) -> 415548 | F32: =TRUNC(일위대가!H180, 0) -> 6925816 | G32: =TRUNC(일위대가!J180, 0) -> 0 | H32: =TRUNC(E32+F32+G32, 0) -> 7341364 | I32: 건축 8-3-1 | L32: 건축 8-3-1 | P32: =HYPERLINK("#일위대가!A173", "▶바로가기") -> ▶바로가기
A33: AH0301002500 | B33: 잡철물 제작 및 설치 | C33: 현장제작 설치, 일반철재 | D33: kg | E33: =TRUNC(일위대가!F184, 0) -> 426 | F33: =TRUNC(일위대가!H184, 0) -> 5328 | G33: =TRUNC(일위대가!J184, 0) -> 0 | H33: =TRUNC(E33+F33+G33, 0) -> 5754 | I33: 건축 8-3-1 | L33: 건축 8-3-1 | P33: =HYPERLINK("#일위대가!A182", "▶바로가기") -> ▶바로가기
A34: AH0301002600 | B34: 잡철물 제작 및 설치 | C34: 현장제작 설치, 경량철재 | D34: kg | E34: =TRUNC(일위대가!F188, 0) -> 415 | F34: =TRUNC(일위대가!H188, 0) -> 6925 | G34: =TRUNC(일위대가!J188, 0) -> 0 | H34: =TRUNC(E34+F34+G34, 0) -> 7340 | I34: 건축 8-3-1 | L34: 건축 8-3-1 | P34: =HYPERLINK("#일위대가!A186", "▶바로가기") -> ▶바로가기
A35: AH1410000800 | B35: ST'L PLATE 제작/설치 | C35: THK=1.2mm(간단) | D35: M2 | E35: =TRUNC(일위대가!F194, 0) -> 12945 | F35: =TRUNC(일위대가!H194, 0) -> 65233 | G35: =TRUNC(일위대가!J194, 0) -> 0 | H35: =TRUNC(E35+F35+G35, 0) -> 78178 | P35: =HYPERLINK("#일위대가!A190", "▶바로가기") -> ▶바로가기
A36: AH1430000100 | B36: ㄱ형강[제작/설치] | C36: ㄱ형강, 등변, 25×25×3mm, 방청 | D36: M | E36: =TRUNC(일위대가!F201, 0) -> 1767 | F36: =TRUNC(일위대가!H201, 0) -> 6413 | G36: =TRUNC(일위대가!J201, 0) -> 0 | H36: =TRUNC(E36+F36+G36, 0) -> 8180 | P36: =HYPERLINK("#일위대가!A196", "▶바로가기") -> ▶바로가기
A37: AK0101000100 | B37: 콘크리트·모르타르면 바탕만들기 | D37: M2 | E37: =TRUNC(일위대가!F209, 0) -> 358 | F37: =TRUNC(일위대가!H209, 0) -> 2802 | G37: =TRUNC(일위대가!J209, 0) -> 0 | H37: =TRUNC(E37+F37+G37, 0) -> 3160 | I37: 건축 11-1-1 | L37: 건축 11-1-1 | P37: =HYPERLINK("#일위대가!A203", "▶바로가기") -> ▶바로가기
A38: AK0105100100 | B38: 도장 후 퍼티 및 연마 | D38: M2 | E38: =TRUNC(일위대가!F216, 0) -> 432 | F38: =TRUNC(일위대가!H216, 0) -> 1487 | G38: =TRUNC(일위대가!J216, 0) -> 0 | H38: =TRUNC(E38+F38+G38, 0) -> 1919 | I38: 건축 11-1-5 | L38: 건축 11-1-5 | P38: =HYPERLINK("#일위대가!A211", "▶바로가기") -> ▶바로가기
A39: AK0204100200 | B39: 유성페인트 붓칠 | C39: 철재면, 2회 | D39: M2 | E39: =TRUNC(일위대가!F224, 0) -> 237 | F39: =TRUNC(일위대가!H224, 0) -> 11897 | G39: =TRUNC(일위대가!J224, 0) -> 0 | H39: =TRUNC(E39+F39+G39, 0) -> 12134 | I39: 건축 11-2-4 | L39: 건축 11-2-4 | P39: =HYPERLINK("#일위대가!A218", "▶바로가기") -> ▶바로가기
A40: AK0204110300 | B40: 유성페인트 붓칠 - 재료비 | C40: 철재면, 2회 칠, 1급 | D40: M2 | E40: =TRUNC(일위대가!F230, 0) -> 1069 | F40: =TRUNC(일위대가!H230, 0) -> 0 | G40: =TRUNC(일위대가!J230, 0) -> 0 | H40: =TRUNC(E40+F40+G40, 0) -> 1069 | P40: =HYPERLINK("#일위대가!A226", "▶바로가기") -> ▶바로가기
A41: AK0204300100 | B41: 유성페인트(붓칠) | C41: 철재면2회.1급 | D41: M2 | E41: =TRUNC(일위대가!F235, 0) -> 1306 | F41: =TRUNC(일위대가!H235, 0) -> 11897 | G41: =TRUNC(일위대가!J235, 0) -> 0 | H41: =TRUNC(E41+F41+G41, 0) -> 13203 | I41: 건축 11-2-4 | L41: 건축 11-2-4 | P41: =HYPERLINK("#일위대가!A232", "▶바로가기") -> ▶바로가기
A42: AK0206050100 | B42: 녹막이 페인트칠 | C42: 철재면, 1회 | D42: M2 | E42: =TRUNC(일위대가!F241, 0) -> 89 | F42: =TRUNC(일위대가!H241, 0) -> 4461 | G42: =TRUNC(일위대가!J241, 0) -> 0 | H42: =TRUNC(E42+F42+G42, 0) -> 4550 | I42: 건축 11-2-6 | L42: 건축 11-2-6 | P42: =HYPERLINK("#일위대가!A237", "▶바로가기") -> ▶바로가기
A43: AK0206050700 | B43: 녹막이페인트 붓칠 - 재료비 | C43: 철재면, 1회, 1종 | D43: M2 | E43: =TRUNC(일위대가!F247, 0) -> 935 | F43: =TRUNC(일위대가!H247, 0) -> 0 | G43: =TRUNC(일위대가!J247, 0) -> 0 | H43: =TRUNC(E43+F43+G43, 0) -> 935 | I43: 건축 11-2-6 | L43: 건축 11-2-6 | P43: =HYPERLINK("#일위대가!A243", "▶바로가기") -> ▶바로가기
A44: AK0206100100 | B44: 녹막이페인트 칠 | C44: 1회.1종 | D44: M2 | E44: =TRUNC(일위대가!F252, 0) -> 1024 | F44: =TRUNC(일위대가!H252, 0) -> 4461 | G44: =TRUNC(일위대가!J252, 0) -> 0 | H44: =TRUNC(E44+F44+G44, 0) -> 5485 | I44: 건축 11-2-6 | L44: 건축 11-2-6 | P44: =HYPERLINK("#일위대가!A249", "▶바로가기") -> ▶바로가기
A45: AK0209000100 | B45: 낙서방지용 페인트칠 | C45: 롤러 2회, 노무비 | D45: M2 | E45: =TRUNC(일위대가!F258, 0) -> 280 | F45: =TRUNC(일위대가!H258, 0) -> 9357 | G45: =TRUNC(일위대가!J258, 0) -> 0 | H45: =TRUNC(E45+F45+G45, 0) -> 9637 | I45: 건축 11-2-9 | L45: 건축 11-2-9 | P45: =HYPERLINK("#일위대가!A254", "▶바로가기") -> ▶바로가기
A46: AK0209000200 | B46: 낙서방지용 페인트칠 - 재료비 | C46: 롤러 2회 칠 | D46: M2 | E46: =TRUNC(일위대가!F265, 0) -> 1312 | F46: =TRUNC(일위대가!H265, 0) -> 0 | G46: =TRUNC(일위대가!J265, 0) -> 0 | H46: =TRUNC(E46+F46+G46, 0) -> 1312 | P46: =HYPERLINK("#일위대가!A260", "▶바로가기") -> ▶바로가기
A47: AK0210000100 | B47: 걸레받이용 페인트칠 | C47: 붓칠, 2회, 노무비 | D47: M2 | E47: =TRUNC(일위대가!F271, 0) -> 390 | F47: =TRUNC(일위대가!H271, 0) -> 19514 | G47: =TRUNC(일위대가!J271, 0) -> 0 | H47: =TRUNC(E47+F47+G47, 0) -> 19904 | I47: 건축 11-2-10 | L47: 건축 11-2-10 | P47: =HYPERLINK("#일위대가!A267", "▶바로가기") -> ▶바로가기
A48: AK0210000400 | B48: 걸레받이용 페인트칠 - 재료비 | C48: 3회, 세라민페인트 | D48: M2 | E48: =TRUNC(일위대가!F279, 0) -> 522 | F48: =TRUNC(일위대가!H279, 0) -> 0 | G48: =TRUNC(일위대가!J279, 0) -> 0 | H48: =TRUNC(E48+F48+G48, 0) -> 522 | P48: =HYPERLINK("#일위대가!A273", "▶바로가기") -> ▶바로가기
A49: AKD000000200 | B49: 분체도장 | C49: 철재면 | D49: M2 | E49: =TRUNC(일위대가!F287, 0) -> 8079 | F49: =TRUNC(일위대가!H287, 0) -> 13384 | G49: =TRUNC(일위대가!J287, 0) -> 0 | H49: =TRUNC(E49+F49+G49, 0) -> 21463 | P49: =HYPERLINK("#일위대가!A281", "▶바로가기") -> ▶바로가기

Sheet 일위대가
A1: 일 위 대 가
A2: ="[" & 설계서용지!F7 & "]" -> [공용 스마트 교육공간 인프라 구축 건축공사]
A3: 품 목 | B3: 규 격 | C3: 단위 | D3: 수량 | E3: 재 료 비 | G3: 노 무 비 | I3: 경 비 | K3: 합 계 | M3: 비 고 | N3: 일위대가 | O3: 품목코드 | P3: 일위 | Q3: 단산 | R3: 합산제외 | S3: SEQNO | T3: 산근 | U3: 적용률 | V3: JUK1 | W3: JUK2 | X3: JUK3 | Y3: JUK4 | Z3: JUK5 | AA3: JUK6 | AB3: JUK7
E4: 단 가 | F4: 금 액 | G4: 단 가 | H4: 금 액 | I4: 단 가 | J4: 금 액 | K4: 단 가 | L4: 금 액
A5: ( 호표 1 ) 먹매김 사무공간, 교육장, 회의·강연장 M2 | N5: IA0000000500
A6: 건축목공 | B6: 일반공사 직종 | C6: 인 | D6: 0.029 | E6: =단가대비표!U57 -> 0 | F6: =TRUNC(D6*ROUND(E6,1), 1) -> 0 | G6: =단가대비표!V57 -> 277642 | H6: =TRUNC(D6*ROUND(G6,1), 1) -> 8051.6 | I6: =단가대비표!AE57 -> 0 | J6: =TRUNC(D6*ROUND(I6,1), 1) -> 0 | K6: =E6+G6+I6 -> 277642 | L6: =F6+H6+J6 -> 8051.6 | N6: IA0000000500 | O6: L001010101000023 | S6: 10 | T6: 0.029 | U6: 0 | V6: 0 | W6: 0 | X6: 0 | Y6: 0 | Z6: 0 | AA6: 0 | AB6: 0 | AE6: =HYPERLINK("#단가대비표!B57", "▶바로가기") -> ▶바로가기
A7: [ 합 계 ] | E7: 0 | F7: =TRUNC(SUMIF(R6:R6, " ", F6:F6),0) -> 0 | G7: 0 | H7: =TRUNC(SUMIF(R6:R6, " ", H6:H6),0) -> 8051 | I7: 0 | J7: =TRUNC(SUMIF(R6:R6, " ", J6:J6),0) -> 0 | L7: =F7+H7+J7 -> 8051 | N7: TOTAL | O7: TOTAL
A9: ( 호표 2 ) 자재 소운반 15층 이하 기준 M2 | N9: IA0000002000
A10: 보통인부 | B10: 일반공사 직종 | C10: 인 | D10: 0.045 | E10: =단가대비표!U53 -> 0 | F10: =TRUNC(D10*ROUND(E10,1), 1) -> 0 | G10: =단가대비표!V53 -> 172068 | H10: =TRUNC(D10*ROUND(G10,1), 1) -> 7743 | I10: =단가대비표!AE53 -> 0 | J10: =TRUNC(D10*ROUND(I10,1), 1) -> 0 | K10: =E10+G10+I10 -> 172068 | L10: =F10+H10+J10 -> 7743 | N10: IA0000002000 | O10: L001010101000002 | S10: 10 | T10: 0.045 | U10: 0 | V10: 0 | W10: 0 | X10: 0 | Y10: 0 | Z10: 0 | AA10: 0 | AB10: 0 | AE10: =HYPERLINK("#단가대비표!B53", "▶바로가기") -> ▶바로가기
A11: [ 합 계 ] | E11: 0 | F11: =TRUNC(SUMIF(R10:R10, " ", F10:F10),0) -> 0 | G11: 0 | H11: =TRUNC(SUMIF(R10:R10, " ", H10:H10),0) -> 7743 | I11: 0 | J11: =TRUNC(SUMIF(R10:R10, " ", J10:J10),0) -> 0 | L11: =F11+H11+J11 -> 7743 | N11: TOTAL | O11: TOTAL
A13: ( 호표 3 ) 보양 합판, T=3 M2 | N13: IA0000003000
A14: 보통합판 | B14: 보통합판, 1급, 2.7*1220*2440mm | C14: 매 | D14: 0.35 | E14: =단가대비표!U5 -> 9400 | F14: =TRUNC(D14*ROUND(E14,1), 1) -> 3290 | G14: =단가대비표!V5 -> 0 | H14: =TRUNC(D14*ROUND(G14,1), 1) -> 0 | I14: =단가대비표!AE5 -> 0 | J14: =TRUNC(D14*ROUND(I14,1), 1) -> 0 | K14: =E14+G14+I14 -> 9400 | L14: =F14+H14+J14 -> 3290 | N14: IA0000003000 | O14: 1112200120142410 | S14: 10 | T14: 0.35 | U14: 0 | V14: 0 | W14: 0 | X14: 0 | Y14: 0 | Z14: 0 | AA14: 0 | AB14: 0 | AE14: =HYPERLINK("#단가대비표!B5", "▶바로가기") -> ▶바로가기
A15: 청테이프 | B15: 별도 | C15: M | D15: 2 | E15: =단가대비표!U40 -> 0 | F15: =TRUNC(D15*ROUND(E15,1), 1) -> 0 | G15: =단가대비표!V40 -> 0 | H15: =TRUNC(D15*ROUND(G15,1), 1) -> 0 | I15: =단가대비표!AE40 -> 0 | J15: =TRUNC(D15*ROUND(I15,1), 1) -> 0 | K15: =E15+G15+I15 -> 0 | L15: =F15+H15+J15 -> 0 | N15: IA0000003000 | O15: 4710153520106523 | S15: 20 | T15: 2 | U15: 0 | V15: 0 | W15: 0 | X15: 0 | Y15: 0 | Z15: 0 | AA15: 0 | AB15: 0 | AE15: =HYPERLINK("#단가대비표!B40", "▶바로가기") -> ▶바로가기
A16: 보통인부 | B16: 일반공사 직종 | C16: 인 | D16: 0.034 | E16: =단가대비표!U53 -> 0 | F16: =TRUNC(D16*ROUND(E16,1), 1) -> 0 | G16: =단가대비표!V53 -> 172068 | H16: =TRUNC(D16*ROUND(G16,1), 1) -> 5850.3 | I16: =단가대비표!AE53 -> 0 | J16: =TRUNC(D16*ROUND(I16,1), 1) -> 0 | K16: =E16+G16+I16 -> 172068 | L16: =F16+H16+J16 -> 5850.3 | N16: IA0000003000 | O16: L001010101000002 | S16: 30 | T16: 0.034 | U16: 0 | V16: 0 | W16: 0 | X16: 0 | Y16: 0 | Z16: 0 | AA16: 0 | AB16: 0 | AE16: =HYPERLINK("#단가대비표!B53", "▶바로가기") -> ▶바로가기
A17: [ 합 계 ] | E17: 0 | F17: =TRUNC(SUMIF(R14:R16, " ", F14:F16),0) -> 3290 | G17: 0 | H17: =TRUNC(SUMIF(R14:R16, " ", H14:H16),0) -> 5850 | I17: 0 | J17: =TRUNC(SUMIF(R14:R16, " ", J14:J16),0) -> 0 | L17: =F17+H17+J17 -> 9140 | N17: TOTAL | O17: TOTAL
A19: ( 호표 4 ) 준공청소 1회 기준 M2 | N19: IA0000003500
A20: 보통인부 | B20: 일반공사 직종 | C20: 인 | D20: 0.05 | E20: =단가대비표!U53 -> 0 | F20: =TRUNC(D20*ROUND(E20,1), 1) -> 0 | G20: =단가대비표!V53 -> 172068 | H20: =TRUNC(D20*ROUND(G20,1), 1) -> 8603.4 | I20: =단가대비표!AE53 -> 0 | J20: =TRUNC(D20*ROUND(I20,1), 1) -> 0 | K20: =E20+G20+I20 -> 172068 | L20: =F20+H20+J20 -> 8603.4 | N20: IA0000003500 | O20: L001010101000002 | S20: 10 | T20: 0.05 | U20: 0 | V20: 0 | W20: 0 | X20: 0 | Y20: 0 | Z20: 0 | AA20: 0 | AB20: 0 | AE20: =HYPERLINK("#단가대비표!B53", "▶바로가기") -> ▶바로가기
A21: [ 합 계 ] | E21: 0 | F21: =TRUNC(SUMIF(R20:R20, " ", F20:F20),0) -> 0 | G21: 0 | H21: =TRUNC(SUMIF(R20:R20, " ", H20:H20),0) -> 8603 | I21: 0 | J21: =TRUNC(SUMIF(R20:R20, " ", J20:J20),0) -> 0 | L21: =F21+H21+J21 -> 8603 | N21: TOTAL | O21: TOTAL
A23: ( 호표 5 ) 경량 구조틀 철거 M2 | N23: IB0000003400
A24: 특별인부 | B24: 일반공사 직종 | C24: 인 | D24: 0.04 | E24: =단가대비표!U54 -> 0 | F24: =TRUNC(D24*ROUND(E24,1), 1) -> 0 | G24: =단가대비표!V54 -> 226122 | H24: =TRUNC(D24*ROUND(G24,1), 1) -> 9044.8 | I24: =단가대비표!AE54 -> 0 | J24: =TRUNC(D24*ROUND(I24,1), 1) -> 0 | K24: =E24+G24+I24 -> 226122 | L24: =F24+H24+J24 -> 9044.8 | N24: IB0000003400 | O24: L001010101000003 | S24: 10 | T24: 0.0400 | U24: 0 | V24: 1 | W24: 0 | X24: 0 | Y24: 0 | Z24: 0 | AA24: 0 | AB24: 0 | AE24: =HYPERLINK("#단가대비표!B54", "▶바로가기") -> ▶바로가기
A25: 보통인부 | B25: 일반공사 직종 | C25: 인 | D25: 0.023 | E25: =단가대비표!U53 -> 0 | F25: =TRUNC(D25*ROUND(E25,1), 1) -> 0 | G25: =단가대비표!V53 -> 172068 | H25: =TRUNC(D25*ROUND(G25,1), 1) -> 3957.5 | I25: =단가대비표!AE53 -> 0 | J25: =TRUNC(D25*ROUND(I25,1), 1) -> 0 | K25: =E25+G25+I25 -> 172068 | L25: =F25+H25+J25 -> 3957.5 | N25: IB0000003400 | O25: L001010101000002 | S25: 20 | T25: 0.0230 | U25: 0 | V25: 1 | W25: 0 | X25: 0 | Y25: 0 | Z25: 0 | AA25: 0 | AB25: 0 | AE25: =HYPERLINK("#단가대비표!B53", "▶바로가기") -> ▶바로가기
A26: 공구손료 | B26: 노무비의 5% | C26: 식 | D26: 1 | E26: =TRUNC(SUMIF(V24:V26, RIGHTB(O26, 1), H24:H26)*U26, 1) -> 650.1 | F26: =TRUNC(D26*E26,1) -> 650.1 | G26: 0 | H26: =TRUNC(D26*G26,1) -> 0 | I26: 0 | J26: =TRUNC(D26*I26,1) -> 0 | K26: =E26+G26+I26 -> 650.1 | L26: =F26+H26+J26 -> 650.1 | N26: IB0000003400 | O26: PPS00000001 | S26: 30 | T26: .MA=LA(10, 0, 20) * 0.05 | U26: 0.05 | V26: 0 | W26: 0 | X26: 0 | Y26: 0 | Z26: 0 | AA26: 0 | AB26: 0
A27: [ 합 계 ] | E27: 0 | F27: =TRUNC(SUMIF(R24:R26, " ", F24:F26),0) -> 650 | G27: 0 | H27: =TRUNC(SUMIF(R24:R26, " ", H24:H26),0) -> 13002 | I27: 0 | J27: =TRUNC(SUMIF(R24:R26, " ", J24:J26),0) -> 0 | L27: =F27+H27+J27 -> 13652 | N27: TOTAL | O27: TOTAL
A29: ( 호표 6 ) 합판 또는 판재류 철거 벽체, 2PLY M2 | N29: IB0000004100
A30: 건축목공 | B30: 일반공사 직종 | C30: 인 | D30: 0.018 | E30: =단가대비표!U57 -> 0 | F30: =TRUNC(D30*ROUND(E30,1), 1) -> 0 | G30: =단가대비표!V57 -> 277642 | H30: =TRUNC(D30*ROUND(G30,1), 1) -> 4997.5 | I30: =단가대비표!AE57 -> 0 | J30: =TRUNC(D30*ROUND(I30,1), 1) -> 0 | K30: =E30+G30+I30 -> 277642 | L30: =F30+H30+J30 -> 4997.5 | N30: IB0000004100 | O30: L001010101000023 | S30: 10 | T30: 0.018 | U30: 0 | V30: 1 | W30: 0 | X30: 0 | Y30: 0 | Z30: 0 | AA30: 0 | AB30: 0 | AE30: =HYPERLINK("#단가대비표!B57", "▶바로가기") -> ▶바로가기
A31: 보통인부 | B31: 일반공사 직종 | C31: 인 | D31: 0.013 | E31: =단가대비표!U53 -> 0 | F31: =TRUNC(D31*ROUND(E31,1), 1) -> 0 | G31: =단가대비표!V53 -> 172068 | H31: =TRUNC(D31*ROUND(G31,1), 1) -> 2236.8 | I31: =단가대비표!AE53 -> 0 | J31: =TRUNC(D31*ROUND(I31,1), 1) -> 0 | K31: =E31+G31+I31 -> 172068 | L31: =F31+H31+J31 -> 2236.8 | N31: IB0000004100 | O31: L001010101000002 | S31: 20 | T31: 0.013 | U31: 0 | V31: 1 | W31: 0 | X31: 0 | Y31: 0 | Z31: 0 | AA31: 0 | AB31: 0 | AE31: =HYPERLINK("#단가대비표!B53", "▶바로가기") -> ▶바로가기
A32: 공구손료 및 기계경비 | B32: 노무비의 2% | C32: 식 | D32: 1 | E32: 0 | F32: =TRUNC(D32*E32,1) -> 0 | G32: 0 | H32: =TRUNC(D32*G32,1) -> 0 | I32: =TRUNC(SUMIF(V30:V32, RIGHTB(O32, 1), H30:H32)*U32, 1) -> 144.6 | J32: =TRUNC(D32*I32,1) -> 144.6 | K32: =E32+G32+I32 -> 144.6 | L32: =F32+H32+J32 -> 144.6 | N32: IB0000004100 | O32: PPS00000001 | S32: 30 | T32: .EQ=LA(10, 0, 20) * 0.02 | U32: 0.02 | V32: 0 | W32: 0 | X32: 0 | Y32: 0 | Z32: 0 | AA32: 0 | AB32: 0
A33: [ 합 계 ] | E33: 0 | F33: =TRUNC(SUMIF(R30:R32, " ", F30:F32),0) -> 0 | G33: 0 | H33: =TRUNC(SUMIF(R30:R32, " ", H30:H32),0) -> 7234 | I33: 0 | J33: =TRUNC(SUMIF(R30:R32, " ", J30:J32),0) -> 144 | L33: =F33+H33+J33 -> 7378 | N33: TOTAL | O33: TOTAL
A35: ( 호표 7 ) 카페트 및 비닐 시트류 철거 M2 | N35: IB0000004600
A36: 내장공 | B36: 일반공사 직종 | C36: 인 | D36: 0.014 | E36: =단가대비표!U60 -> 0 | F36: =TRUNC(D36*ROUND(E36,1), 1) -> 0 | G36: =단가대비표!V60 -> 256883 | H36: =TRUNC(D36*ROUND(G36,1), 1) -> 3596.3 | I36: =단가대비표!AE60 -> 0 | J36: =TRUNC(D36*ROUND(I36,1), 1) -> 0 | K36: =E36+G36+I36 -> 256883 | L36: =F36+H36+J36 -> 3596.3 | N36: IB0000004600 | O36: L001010101000030 | S36: 10 | T36: 0.014 | U36: 0 | V36: 1 | W36: 0 | X36: 0 | Y36: 0 | Z36: 0 | AA36: 0 | AB36: 0 | AE36: =HYPERLINK("#단가대비표!B60", "▶바로가기") -> ▶바로가기
A37: 보통인부 | B37: 일반공사 직종 | C37: 인 | D37: 0.007 | E37: =단가대비표!U53 -> 0 | F37: =TRUNC(D37*ROUND(E37,1), 1) -> 0 | G37: =단가대비표!V53 -> 172068 | H37: =TRUNC(D37*ROUND(G37,1), 1) -> 1204.4 | I37: =단가대비표!AE53 -> 0 | J37: =TRUNC(D37*ROUND(I37,1), 1) -> 0 | K37: =E37+G37+I37 -> 172068 | L37: =F37+H37+J37 -> 1204.4 | N37: IB0000004600 | O37: L001010101000002 | S37: 20 | T37: 0.007 | U37: 0 | V37: 1 | W37: 0 | X37: 0 | Y37: 0 | Z37: 0 | AA37: 0 | AB37: 0 | AE37: =HYPERLINK("#단가대비표!B53", "▶바로가기") -> ▶바로가기
A38: 공구손료 | B38: 노무비의 5% | C38: 식 | D38: 1 | E38: =TRUNC(SUMIF(V36:V38, RIGHTB(O38, 1), H36:H38)*U38, 1) -> 240 | F38: =TRUNC(D38*E38,1) -> 240 | G38: 0 | H38: =TRUNC(D38*G38,1) -> 0 | I38: 0 | J38: =TRUNC(D38*I38,1) -> 0 | K38: =E38+G38+I38 -> 240 | L38: =F38+H38+J38 -> 240 | N38: IB0000004600 | O38: PPS00000001 | S38: 30 | T38: .MA=LA(10, 0, 20) * 0.05 | U38: 0.05 | V38: 0 | W38: 0 | X38: 0 | Y38: 0 | Z38: 0 | AA38: 0 | AB38: 0
A39: [ 합 계 ] | E39: 0 | F39: =TRUNC(SUMIF(R36:R38, " ", F36:F38),0) -> 240 | G39: 0 | H39: =TRUNC(SUMIF(R36:R38, " ", H36:H38),0) -> 4800 | I39: 0 | J39: =TRUNC(SUMIF(R36:R38, " ", J36:J38),0) -> 0 | L39: =F39+H39+J39 -> 5040 | N39: TOTAL | O39: TOTAL
A41: ( 호표 8 ) 유리프레임 철거 150×50 기준 M | N41: IB0000005500
A42: 용접공 | B42: 일반공사 직종 | C42: 인 | D42: 0.069 | E42: =단가대비표!U56 -> 0 | F42: =TRUNC(D42*ROUND(E42,1), 1) -> 0 | G42: =단가대비표!V56 -> 282536 | H42: =TRUNC(D42*ROUND(G42,1), 1) -> 19494.9 | I42: =단가대비표!AE56 -> 0 | J42: =TRUNC(D42*ROUND(I42,1), 1) -> 0 | K42: =E42+G42+I42 -> 282536 | L42: =F42+H42+J42 -> 19494.9 | N42: IB0000005500 | O42: L001010101000012 | S42: 10 | T42: 0.069 | U42: 0 | V42: 1 | W42: 0 | X42: 0 | Y42: 0 | Z42: 0 | AA42: 0 | AB42: 0 | AE42: =HYPERLINK("#단가대비표!B56", "▶바로가기") -> ▶바로가기
A43: 보통인부 | B43: 일반공사 직종 | C43: 인 | D43: 0.034 | E43: =단가대비표!U53 -> 0 | F43: =TRUNC(D43*ROUND(E43,1), 1) -> 0 | G43: =단가대비표!V53 -> 172068 | H43: =TRUNC(D43*ROUND(G43,1), 1) -> 5850.3 | I43: =단가대비표!AE53 -> 0 | J43: =TRUNC(D43*ROUND(I43,1), 1) -> 0 | K43: =E43+G43+I43 -> 172068 | L43: =F43+H43+J43 -> 5850.3 | N43: IB0000005500 | O43: L001010101000002 | S43: 20 | T43: 0.034 | U43: 0 | V43: 1 | W43: 0 | X43: 0 | Y43: 0 | Z43: 0 | AA43: 0 | AB43: 0 | AE43: =HYPERLINK("#단가대비표!B53", "▶바로가기") -> ▶바로가기
A44: 공구손료 및 기계경비 | B44: 노무비의 5% | C44: 식 | D44: 1 | E44: 0 | F44: =TRUNC(D44*E44,1) -> 0 | G44: 0 | H44: =TRUNC(D44*G44,1) -> 0 | I44: =TRUNC(SUMIF(V42:V44, RIGHTB(O44, 1), H42:H44)*U44, 1) -> 1267.2 | J44: =TRUNC(D44*I44,1) -> 1267.2 | K44: =E44+G44+I44 -> 1267.2 | L44: =F44+H44+J44 -> 1267.2 | N44: IB0000005500 | O44: PPS00000001 | S44: 30 | T44: .EQ=LA(10, 0, 20) * 0.05 | U44: 0.05 | V44: 0 | W44: 0 | X44: 0 | Y44: 0 | Z44: 0 | AA44: 0 | AB44: 0
A45: [ 합 계 ] | E45: 0 | F45: =TRUNC(SUMIF(R42:R44, " ", F42:F44),0) -> 0 | G45: 0 | H45: =TRUNC(SUMIF(R42:R44, " ", H42:H44),0) -> 25345 | I45: 0 | J45: =TRUNC(SUMIF(R42:R44, " ", J42:J44),0) -> 1267 | L45: =F45+H45+J45 -> 26612 | N45: TOTAL | O45: TOTAL
A47: ( 호표 9 ) 유리 철거 T=12, 일반유리 기준 M2 | N47: IB0000005200
A48: 유리공 | B48: 일반공사 직종 | C48: 인 | D48: 0.057 | E48: =단가대비표!U58 -> 0 | F48: =TRUNC(D48*ROUND(E48,1), 1) -> 0 | G48: =단가대비표!V58 -> 253539 | H48: =TRUNC(D48*ROUND(G48,1), 1) -> 14451.7 | I48: =단가대비표!AE58 -> 0 | J48: =TRUNC(D48*ROUND(I48,1), 1) -> 0 | K48: =E48+G48+I48 -> 253539 | L48: =F48+H48+J48 -> 14451.7 | N48: IB0000005200 | O48: L001010101000025 | S48: 10 | T48: 0.0570 | U48: 0 | V48: 1 | W48: 0 | X48: 0 | Y48: 0 | Z48: 0 | AA48: 0 | AB48: 0 | AE48: =HYPERLINK("#단가대비표!B58", "▶바로가기") -> ▶바로가기
A49: 보통인부 | B49: 일반공사 직종 | C49: 인 | D49: 0.029 | E49: =단가대비표!U53 -> 0 | F49: =TRUNC(D49*ROUND(E49,1), 1) -> 0 | G49: =단가대비표!V53 -> 172068 | H49: =TRUNC(D49*ROUND(G49,1), 1) -> 4989.9 | I49: =단가대비표!AE53 -> 0 | J49: =TRUNC(D49*ROUND(I49,1), 1) -> 0 | K49: =E49+G49+I49 -> 172068 | L49: =F49+H49+J49 -> 4989.9 | N49: IB0000005200 | O49: L001010101000002 | S49: 20 | T49: 0.029 | U49: 0 | V49: 1 | W49: 0 | X49: 0 | Y49: 0 | Z49: 0 | AA49: 0 | AB49: 0 | AE49: =HYPERLINK("#단가대비표!B53", "▶바로가기") -> ▶바로가기
A50: 공구손료 | B50: 노무비의 5% | C50: 식 | D50: 1 | E50: =TRUNC(SUMIF(V48:V50, RIGHTB(O50, 1), H48:H50)*U50, 1) -> 972 | F50: =TRUNC(D50*E50,1) -> 972 | G50: 0 | H50: =TRUNC(D50*G50,1) -> 0 | I50: 0 | J50: =TRUNC(D50*I50,1) -> 0 | K50: =E50+G50+I50 -> 972 | L50: =F50+H50+J50 -> 972 | N50: IB0000005200 | O50: PPS00000001 | S50: 30 | T50: .MA=LA(10, 0, 20) * 0.05 | U50: 0.05 | V50: 0 | W50: 0 | X50: 0 | Y50: 0 | Z50: 0 | AA50: 0 | AB50: 0
A51: [ 합 계 ] | E51: 0 | F51: =TRUNC(SUMIF(R48:R50, " ", F48:F50),0) -> 972 | G51: 0 | H51: =TRUNC(SUMIF(R48:R50, " ", H48:H50),0) -> 19441 | I51: 0 | J51: =TRUNC(SUMIF(R48:R50, " ", J48:J50),0) -> 0 | L51: =F51+H51+J51 -> 20413 | N51: TOTAL | O51: TOTAL
A53: ( 호표 10 ) 경량철골천장틀 철거 M2 | N53: SF0330002100
A54: 보통인부 | B54: 일반공사 직종 | C54: 인 | D54: 0.08 | E54: =단가대비표!U53 -> 0 | F54: =TRUNC(D54*ROUND(E54,1), 1) -> 0 | G54: =단가대비표!V53 -> 172068 | H54: =TRUNC(D54*ROUND(G54,1), 1) -> 13765.4 | I54: =단가대비표!AE53 -> 0 | J54: =TRUNC(D54*ROUND(I54,1), 1) -> 0 | K54: =E54+G54+I54 -> 172068 | L54: =F54+H54+J54 -> 13765.4 | N54: SF0330002100 | O54: L001010101000002 | S54: 40 | U54: 0 | V54: 1 | W54: 0 | X54: 0 | Y54: 0 | Z54: 0 | AA54: 0 | AB54: 0 | AE54: =HYPERLINK("#단가대비표!B53", "▶바로가기") -> ▶바로가기
A55: 잡재료 | B55: 인력품의 5% | C55: 식 | D55: 1 | E55: =TRUNC(SUMIF(V54:V55, RIGHTB(O55, 1), H54:H55)*U55, 1) -> 688.2 | F55: =TRUNC(D55*E55,1) -> 688.2 | G55: 0 | H55: =TRUNC(D55*G55,1) -> 0 | I55: 0 | J55: =TRUNC(D55*I55,1) -> 0 | K55: =E55+G55+I55 -> 688.2 | L55: =F55+H55+J55 -> 688.2 | N55: SF0330002100 | O55: PPS00000001 | S55: 50 | T55: .MA = LA(40) * 0.05 | U55: 0.05 | V55: 0 | W55: 0 | X55: 0 | Y55: 0 | Z55: 0 | AA55: 0 | AB55: 0
A56: [ 합 계 ] | E56: 0 | F56: =TRUNC(SUMIF(R54:R55, " ", F54:F55),0) -> 688 | G56: 0 | H56: =TRUNC(SUMIF(R54:R55, " ", H54:H55),0) -> 13765 | I56: 0 | J56: =TRUNC(SUMIF(R54:R55, " ", J54:J55),0) -> 0 | L56: =F56+H56+J56 -> 14453 | N56: TOTAL | O56: TOTAL
A58: ( 호표 11 ) 텍스류 철거 천장 M2 | N58: IB0000003900
A59: 특별인부 | B59: 일반공사 직종 | C59: 인 | D59: 0.014 | E59: =단가대비표!U54 -> 0 | F59: =TRUNC(D59*ROUND(E59,1), 1) -> 0 | G59: =단가대비표!V54 -> 226122 | H59: =TRUNC(D59*ROUND(G59,1), 1) -> 3165.7 | I59: =단가대비표!AE54 -> 0 | J59: =TRUNC(D59*ROUND(I59,1), 1) -> 0 | K59: =E59+G59+I59 -> 226122 | L59: =F59+H59+J59 -> 3165.7 | N59: IB0000003900 | O59: L001010101000003 | S59: 10 | T59: 0.0140 | U59: 0 | V59: 0 | W59: 0 | X59: 0 | Y59: 0 | Z59: 0 | AA59: 0 | AB59: 0 | AE59: =HYPERLINK("#단가대비표!B54", "▶바로가기") -> ▶바로가기
A60: 보통인부 | B60: 일반공사 직종 | C60: 인 | D60: 0.01 | E60: =단가대비표!U53 -> 0 | F60: =TRUNC(D60*ROUND(E60,1), 1) -> 0 | G60: =단가대비표!V53 -> 172068 | H60: =TRUNC(D60*ROUND(G60,1), 1) -> 1720.6 | I60: =단가대비표!AE53 -> 0 | J60: =TRUNC(D60*ROUND(I60,1), 1) -> 0 | K60: =E60+G60+I60 -> 172068 | L60: =F60+H60+J60 -> 1720.6 | N60: IB0000003900 | O60: L001010101000002 | S60: 20 | T60: 0.0100 | U60: 0 | V60: 0 | W60: 0 | X60: 0 | Y60: 0 | Z60: 0 | AA60: 0 | AB60: 0 | AE60: =HYPERLINK("#단가대비표!B53", "▶바로가기") -> ▶바로가기
A61: [ 합 계 ] | E61: 0 | F61: =TRUNC(SUMIF(R59:R60, " ", F59:F60),0) -> 0 | G61: 0 | H61: =TRUNC(SUMIF(R59:R60, " ", H59:H60),0) -> 4886 | I61: 0 | J61: =TRUNC(SUMIF(R59:R60, " ", J59:J60),0) -> 0 | L61: =F61+H61+J61 -> 4886 | N61: TOTAL | O61: TOTAL
A63: ( 호표 12 ) 철제커텐박스철거 M | N63: SF0330002300
A64: 보통인부 | B64: 일반공사 직종 | C64: 인 | D64: 0.02 | E64: =단가대비표!U53 -> 0 | F64: =TRUNC(D64*ROUND(E64,1), 1) -> 0 | G64: =단가대비표!V53 -> 172068 | H64: =TRUNC(D64*ROUND(G64,1), 1) -> 3441.3 | I64: =단가대비표!AE53 -> 0 | J64: =TRUNC(D64*ROUND(I64,1), 1) -> 0 | K64: =E64+G64+I64 -> 172068 | L64: =F64+H64+J64 -> 3441.3 | N64: SF0330002300 | O64: L001010101000002 | S64: 10 | U64: 0 | V64: 0 | W64: 0 | X64: 0 | Y64: 0 | Z64: 0 | AA64: 0 | AB64: 0 | AE64: =HYPERLINK("#단가대비표!B53", "▶바로가기") -> ▶바로가기
A65: [ 합 계 ] | E65: 0 | F65: =TRUNC(SUMIF(R64:R64, " ", F64:F64),0) -> 0 | G65: 0 | H65: =TRUNC(SUMIF(R64:R64, " ", H64:H64),0) -> 3441 | I65: 0 | J65: =TRUNC(SUMIF(R64:R64, " ", J64:J64),0) -> 0 | L65: =F65+H65+J65 -> 3441 | N65: TOTAL | O65: TOTAL
A67: ( 호표 13 ) 벽,띠장설치(미송) 30*30,@450*600 M2 | N67: AD0201000400
A68: 각재 | B68: 각재, 미송 | C68: 재 | D68: 1.1503 | E68: =단가대비표!U11 -> 2358 | F68: =TRUNC(D68*ROUND(E68,1), 1) -> 2712.4 | G68: =단가대비표!V11 -> 0 | H68: =TRUNC(D68*ROUND(G68,1), 1) -> 0 | I68: =단가대비표!AE11 -> 0 | J68: =TRUNC(D68*ROUND(I68,1), 1) -> 0 | K68: =E68+G68+I68 -> 2358 | L68: =F68+H68+J68 -> 2712.4 | N68: AD0201000400 | O68: 3010369820141039 | S68: 10 | U68: 0 | V68: 0 | W68: 0 | X68: 0 | Y68: 0 | Z68: 0 | AA68: 0 | AB68: 0 | AE68: =HYPERLINK("#단가대비표!B11", "▶바로가기") -> ▶바로가기
A69: 일반못 | B69: 일반못, 50mm | C69: kg | D69: 0.03 | E69: =단가대비표!U25 -> 1387 | F69: =TRUNC(D69*ROUND(E69,1), 1) -> 41.6 | G69: =단가대비표!V25 -> 0 | H69: =TRUNC(D69*ROUND(G69,1), 1) -> 0 | I69: =단가대비표!AE25 -> 0 | J69: =TRUNC(D69*ROUND(I69,1), 1) -> 0 | K69: =E69+G69+I69 -> 1387 | L69: =F69+H69+J69 -> 41.6 | N69: AD0201000400 | O69: 3116200220136259 | S69: 15 | T69: 0.03 | U69: 0 | V69: 0 | W69: 0 | X69: 0 | Y69: 0 | Z69: 0 | AA69: 0 | AB69: 0 | AE69: =HYPERLINK("#단가대비표!B25", "▶바로가기") -> ▶바로가기
A70: 벽체틀 설치 | B70: 자재 별도 | C70: M2 | D70: 1 | E70: =일위대가목록!E26 -> 194 | F70: =TRUNC(D70*E70,1) -> 194 | G70: =일위대가목록!F26 -> 9733 | H70: =TRUNC(D70*G70,1) -> 9733 | I70: =일위대가목록!G26 -> 0 | J70: =TRUNC(D70*I70,1) -> 0 | K70: =E70+G70+I70 -> 9927 | L70: =F70+H70+J70 -> 9927 | N70: AD0201000400 | O70: AD0201000100 | S70: 20 | U70: 0 | V70: 0 | W70: 0 | X70: 0 | Y70: 0 | Z70: 0 | AA70: 0 | AB70: 0 | AE70: =HYPERLINK("#일위대가!B135", "▶바로가기") -> ▶바로가기
A71: [ 합 계 ] | E71: 0 | F71: =TRUNC(SUMIF(R68:R70, " ", F68:F70),0) -> 2948 | G71: 0 | H71: =TRUNC(SUMIF(R68:R70, " ", H68:H70),0) -> 9733 | I71: 0 | J71: =TRUNC(SUMIF(R68:R70, " ", J68:J70),0) -> 0 | L71: =F71+H71+J71 -> 12681 | N71: TOTAL | O71: TOTAL
A73: ( 호표 14 ) 벽체합판 설치 보통합판, THK4.8×1PLY M2 | N73: AD0203200400
A74: 보통합판 | B74: 보통합판, 1급, 4.8*1220*2440mm | C74: M2 | D74: 1.03 | E74: =단가대비표!U6 -> 4448 | F74: =TRUNC(D74*ROUND(E74,1), 1) -> 4581.4 | G74: =단가대비표!V6 -> 0 | H74: =TRUNC(D74*ROUND(G74,1), 1) -> 0 | I74: =단가대비표!AE6 -> 0 | J74: =TRUNC(D74*ROUND(I74,1), 1) -> 0 | K74: =E74+G74+I74 -> 4448 | L74: =F74+H74+J74 -> 4581.4 | N74: AD0203200400 | O74: 1112200120142411 | S74: 10 | U74: 0 | V74: 0 | W74: 0 | X74: 0 | Y74: 0 | Z74: 0 | AA74: 0 | AB74: 0 | AE74: =HYPERLINK("#단가대비표!B6", "▶바로가기") -> ▶바로가기
A75: 일반못 | B75: 일반못, 50mm | C75: kg | D75: 0.04 | E75: =단가대비표!U25 -> 1387 | F75: =TRUNC(D75*ROUND(E75,1), 1) -> 55.4 | G75: =단가대비표!V25 -> 0 | H75: =TRUNC(D75*ROUND(G75,1), 1) -> 0 | I75: =단가대비표!AE25 -> 0 | J75: =TRUNC(D75*ROUND(I75,1), 1) -> 0 | K75: =E75+G75+I75 -> 1387 | L75: =F75+H75+J75 -> 55.4 | N75: AD0203200400 | O75: 3116200220136259 | S75: 15 | T75: 0.04 | U75: 0 | V75: 0 | W75: 0 | X75: 0 | Y75: 0 | Z75: 0 | AA75: 0 | AB75: 0 | AE75: =HYPERLINK("#단가대비표!B25", "▶바로가기") -> ▶바로가기
A76: 벽체합판 설치 | B76: 합판 별도 | C76: M2 | D76: 1 | E76: =일위대가목록!E27 -> 363 | F76: =TRUNC(D76*E76,1) -> 363 | G76: =일위대가목록!F27 -> 18183 | H76: =TRUNC(D76*G76,1) -> 18183 | I76: =일위대가목록!G27 -> 0 | J76: =TRUNC(D76*I76,1) -> 0 | K76: =E76+G76+I76 -> 18546 | L76: =F76+H76+J76 -> 18546 | N76: AD0203200400 | O76: AD0203000100 | S76: 20 | U76: 0 | V76: 0 | W76: 0 | X76: 0 | Y76: 0 | Z76: 0 | AA76: 0 | AB76: 0 | AE76: =HYPERLINK("#일위대가!B141", "▶바로가기") -> ▶바로가기
A77: [ 합 계 ] | E77: 0 | F77: =TRUNC(SUMIF(R74:R76, " ", F74:F76),0) -> 4999 | G77: 0 | H77: =TRUNC(SUMIF(R74:R76, " ", H74:H76),0) -> 18183 | I77: 0 | J77: =TRUNC(SUMIF(R74:R76, " ", J74:J76),0) -> 0 | L77: =F77+H77+J77 -> 23182 | N77: TOTAL | O77: TOTAL
A79: ( 호표 15 ) 벽, MDF붙임 중밀도섬유판, THK12×1PLY M2 | N79: AD0203100600
A80: 중밀도섬유판 | B80: 중밀도섬유판, 12*1220*2440mm | C80: M2 | D80: 1.03 | E80: =단가대비표!U7 -> 5673 | F80: =TRUNC(D80*ROUND(E80,1), 1) -> 5843.1 | G80: =단가대비표!V7 -> 0 | H80: =TRUNC(D80*ROUND(G80,1), 1) -> 0 | I80: =단가대비표!AE7 -> 0 | J80: =TRUNC(D80*ROUND(I80,1), 1) -> 0 | K80: =E80+G80+I80 -> 5673 | L80: =F80+H80+J80 -> 5843.1 | N80: AD0203100600 | O80: 1112200320154875 | S80: 10 | U80: 0 | V80: 0 | W80: 0 | X80: 0 | Y80: 0 | Z80: 0 | AA80: 0 | AB80: 0 | AE80: =HYPERLINK("#단가대비표!B7", "▶바로가기") -> ▶바로가기
A81: 일반못 | B81: 일반못, 50mm | C81: kg | D81: 0.04 | E81: =단가대비표!U25 -> 1387 | F81: =TRUNC(D81*ROUND(E81,1), 1) -> 55.4 | G81: =단가대비표!V25 -> 0 | H81: =TRUNC(D81*ROUND(G81,1), 1) -> 0 | I81: =단가대비표!AE25 -> 0 | J81: =TRUNC(D81*ROUND(I81,1), 1) -> 0 | K81: =E81+G81+I81 -> 1387 | L81: =F81+H81+J81 -> 55.4 | N81: AD0203100600 | O81: 3116200220136259 | S81: 15 | T81: 0.04 | U81: 0 | V81: 0 | W81: 0 | X81: 0 | Y81: 0 | Z81: 0 | AA81: 0 | AB81: 0 | AE81: =HYPERLINK("#단가대비표!B25", "▶바로가기") -> ▶바로가기
A82: 벽체합판 설치 | B82: 합판 별도 | C82: M2 | D82: 1 | E82: =일위대가목록!E27 -> 363 | F82: =TRUNC(D82*E82,1) -> 363 | G82: =일위대가목록!F27 -> 18183 | H82: =TRUNC(D82*G82,1) -> 18183 | I82: =일위대가목록!G27 -> 0 | J82: =TRUNC(D82*I82,1) -> 0 | K82: =E82+G82+I82 -> 18546 | L82: =F82+H82+J82 -> 18546 | N82: AD0203100600 | O82: AD0203000100 | S82: 20 | U82: 0 | V82: 0 | W82: 0 | X82: 0 | Y82: 0 | Z82: 0 | AA82: 0 | AB82: 0 | AE82: =HYPERLINK("#일위대가!B141", "▶바로가기") -> ▶바로가기
A83: [ 합 계 ] | E83: 0 | F83: =TRUNC(SUMIF(R80:R82, " ", F80:F82),0) -> 6261 | G83: 0 | H83: =TRUNC(SUMIF(R80:R82, " ", H80:H82),0) -> 18183 | I83: 0 | J83: =TRUNC(SUMIF(R80:R82, " ", J80:J82),0) -> 0 | L83: =F83+H83+J83 -> 24444 | N83: TOTAL | O83: TOTAL
A85: ( 호표 16 ) 바탕+낙서방지 페인트칠 롤러 2회 칠, 콘크리트·모르타르면 M2 | N85: AK0209000400
A86: 콘크리트·모르타르면 바탕만들기 | C86: M2 | D86: 1 | E86: =일위대가목록!E37 -> 358 | F86: =TRUNC(D86*E86,1) -> 358 | G86: =일위대가목록!F37 -> 2802 | H86: =TRUNC(D86*G86,1) -> 2802 | I86: =일위대가목록!G37 -> 0 | J86: =TRUNC(D86*I86,1) -> 0 | K86: =E86+G86+I86 -> 3160 | L86: =F86+H86+J86 -> 3160 | N86: AK0209000400 | O86: AK0101000100 | S86: 10 | U86: 0 | V86: 0 | W86: 0 | X86: 0 | Y86: 0 | Z86: 0 | AA86: 0 | AB86: 0 | AE86: =HYPERLINK("#일위대가!B203", "▶바로가기") -> ▶바로가기
A87: 낙서방지용 페인트칠 - 재료비 | B87: 롤러 2회 칠 | C87: M2 | D87: 1 | E87: =일위대가목록!E46 -> 1312 | F87: =TRUNC(D87*E87,1) -> 1312 | G87: =일위대가목록!F46 -> 0 | H87: =TRUNC(D87*G87,1) -> 0 | I87: =일위대가목록!G46 -> 0 | J87: =TRUNC(D87*I87,1) -> 0 | K87: =E87+G87+I87 -> 1312 | L87: =F87+H87+J87 -> 1312 | N87: AK0209000400 | O87: AK0209000200 | S87: 20 | U87: 0 | V87: 0 | W87: 0 | X87: 0 | Y87: 0 | Z87: 0 | AA87: 0 | AB87: 0 | AE87: =HYPERLINK("#일위대가!B260", "▶바로가기") -> ▶바로가기
A88: 낙서방지용 페인트칠 | B88: 롤러 2회, 노무비 | C88: M2 | D88: 1 | E88: =일위대가목록!E45 -> 280 | F88: =TRUNC(D88*E88,1) -> 280 | G88: =일위대가목록!F45 -> 9357 | H88: =TRUNC(D88*G88,1) -> 9357 | I88: =일위대가목록!G45 -> 0 | J88: =TRUNC(D88*I88,1) -> 0 | K88: =E88+G88+I88 -> 9637 | L88: =F88+H88+J88 -> 9637 | N88: AK0209000400 | O88: AK0209000100 | S88: 30 | U88: 0 | V88: 0 | W88: 0 | X88: 0 | Y88: 0 | Z88: 0 | AA88: 0 | AB88: 0 | AE88: =HYPERLINK("#일위대가!B254", "▶바로가기") -> ▶바로가기
A89: [ 합 계 ] | E89: 0 | F89: =TRUNC(SUMIF(R86:R88, " ", F86:F88),0) -> 1950 | G89: 0 | H89: =TRUNC(SUMIF(R86:R88, " ", H86:H88),0) -> 12159 | I89: 0 | J89: =TRUNC(SUMIF(R86:R88, " ", J86:J88),0) -> 0 | L89: =F89+H89+J89 -> 14109 | N89: TOTAL | O89: TOTAL
A91: ( 호표 17 ) 세라민페인트칠 걸레받이,모르타르면3회 M2 | N91: AK0210000700
A92: 콘크리트·모르타르면 바탕만들기 | C92: M2 | D92: 1 | E92: =일위대가목록!E37 -> 358 | F92: =TRUNC(D92*E92,1) -> 358 | G92: =일위대가목록!F37 -> 2802 | H92: =TRUNC(D92*G92,1) -> 2802 | I92: =일위대가목록!G37 -> 0 | J92: =TRUNC(D92*I92,1) -> 0 | K92: =E92+G92+I92 -> 3160 | L92: =F92+H92+J92 -> 3160 | N92: AK0210000700 | O92: AK0101000100 | S92: 10 | U92: 0 | V92: 0 | W92: 0 | X92: 0 | Y92: 0 | Z92: 0 | AA92: 0 | AB92: 0 | AE92: =HYPERLINK("#일위대가!B203", "▶바로가기") -> ▶바로가기
A93: 걸레받이용 페인트칠 - 재료비 | B93: 3회, 세라민페인트 | C93: M2 | D93: 1 | E93: =일위대가목록!E48 -> 522 | F93: =TRUNC(D93*E93,1) -> 522 | G93: =일위대가목록!F48 -> 0 | H93: =TRUNC(D93*G93,1) -> 0 | I93: =일위대가목록!G48 -> 0 | J93: =TRUNC(D93*I93,1) -> 0 | K93: =E93+G93+I93 -> 522 | L93: =F93+H93+J93 -> 522 | N93: AK0210000700 | O93: AK0210000400 | S93: 15 | U93: 0 | V93: 0 | W93: 0 | X93: 0 | Y93: 0 | Z93: 0 | AA93: 0 | AB93: 0 | AE93: =HYPERLINK("#일위대가!B273", "▶바로가기") -> ▶바로가기
A94: 걸레받이용 페인트칠 | B94: 붓칠, 2회, 노무비 | C94: M2 | D94: 1 | E94: =일위대가목록!E47 -> 390 | F94: =TRUNC(D94*E94,1) -> 390 | G94: =일위대가목록!F47 -> 19514 | H94: =TRUNC(D94*G94,1) -> 19514 | I94: =일위대가목록!G47 -> 0 | J94: =TRUNC(D94*I94,1) -> 0 | K94: =E94+G94+I94 -> 19904 | L94: =F94+H94+J94 -> 19904 | N94: AK0210000700 | O94: AK0210000100 | S94: 20 | T94: 1 | U94: 0 | V94: 0 | W94: 0 | X94: 0 | Y94: 0 | Z94: 0 | AA94: 0 | AB94: 0 | AE94: =HYPERLINK("#일위대가!B267", "▶바로가기") -> ▶바로가기
A95: [ 합 계 ] | E95: 0 | F95: =TRUNC(SUMIF(R92:R94, " ", F92:F94),0) -> 1270 | G95: 0 | H95: =TRUNC(SUMIF(R92:R94, " ", H92:H94),0) -> 22316 | I95: 0 | J95: =TRUNC(SUMIF(R92:R94, " ", J92:J94),0) -> 0 | L95: =F95+H95+J95 -> 23586 | N95: TOTAL | O95: TOTAL
A97: ( 호표 18 ) 경량철골천장틀 M-BAR,1M이상,인서트 유 M2 | N97: AH0204001600
A98: 인서트 | B98: 인서트, 주물, Φ9mm | C98: 개 | D98: 1.362 | E98: =단가대비표!U26 -> 0 | F98: =TRUNC(D98*ROUND(E98,1), 1) -> 0 | G98: =단가대비표!V26 -> 0 | H98: =TRUNC(D98*ROUND(G98,1), 1) -> 0 | I98: =단가대비표!AE26 -> 0 | J98: =TRUNC(D98*ROUND(I98,1), 1) -> 0 | K98: =E98+G98+I98 -> 0 | L98: =F98+H98+J98 -> 0 | N98: AH0204001600 | O98: 3116280220163395 | S98: 10 | U98: 0 | V98: 0 | W98: 0 | X98: 0 | Y98: 0 | Z98: 0 | AA98: 0 | AB98: 0 | AE98: =HYPERLINK("#단가대비표!B26", "▶바로가기") -> ▶바로가기
A99: 인서트(Insert) 설치 | B99: 설치대상 - 콘크리트 | C99: 개 | D99: 1.362 | E99: =일위대가목록!E29 -> 92 | F99: =TRUNC(D99*E99,1) -> 125.3 | G99: =일위대가목록!F29 -> 2311 | H99: =TRUNC(D99*G99,1) -> 3147.5 | I99: =일위대가목록!G29 -> 0 | J99: =TRUNC(D99*I99,1) -> 0 | K99: =E99+G99+I99 -> 2403 | L99: =F99+H99+J99 -> 3272.8 | N99: AH0204001600 | O99: AH0104000300 | S99: 20 | U99: 0 | V99: 0 | W99: 0 | X99: 0 | Y99: 0 | Z99: 0 | AA99: 0 | AB99: 0 | AE99: =HYPERLINK("#일위대가!B153", "▶바로가기") -> ▶바로가기
A100: 경량철골천장틀 | B100: 경량철골천장틀, 달대볼트, 상9×1000mm | C100: 개 | D100: 1.362 | E100: =단가대비표!U14 -> 1450 | F100: =TRUNC(D100*ROUND(E100,1), 1) -> 1974.9 | G100: =단가대비표!V14 -> 0 | H100: =TRUNC(D100*ROUND(G100,1), 1) -> 0 | I100: =단가대비표!AE14 -> 0 | J100: =TRUNC(D100*ROUND(I100,1), 1) -> 0 | K100: =E100+G100+I100 -> 1450 | L100: =F100+H100+J100 -> 1974.9 | N100: AH0204001600 | O100: 3016160420162659 | S100: 30 | U100: 0 | V100: 0 | W100: 0 | X100: 0 | Y100: 0 | Z100: 0 | AA100: 0 | AB100: 0 | AE100: =HYPERLINK("#단가대비표!B14", "▶바로가기") -> ▶바로가기
A101: 경량철골천장틀 | B101: 경량철골천장틀, 캐링찬넬, 38×12×1.2mm | C101: M | D101: 1.222 | E101: =단가대비표!U15 -> 1290 | F101: =TRUNC(D101*ROUND(E101,1), 1) -> 1576.3 | G101: =단가대비표!V15 -> 0 | H101: =TRUNC(D101*ROUND(G101,1), 1) -> 0 | I101: =단가대비표!AE15 -> 0 | J101: =TRUNC(D101*ROUND(I101,1), 1) -> 0 | K101: =E101+G101+I101 -> 1290 | L101: =F101+H101+J101 -> 1576.3 | N101: AH0204001600 | O101: 3016160420162660 | S101: 40 | U101: 0 | V101: 0 | W101: 0 | X101: 0 | Y101: 0 | Z101: 0 | AA101: 0 | AB101: 0 | AE101: =HYPERLINK("#단가대비표!B15", "▶바로가기") -> ▶바로가기
A102: 경량철골천장틀 | B102: 경량철골천장틀, 마이너찬넬, 19×10×1.2mm | C102: M | D102: 0.525 | E102: =단가대비표!U16 -> 800 | F102: =TRUNC(D102*ROUND(E102,1), 1) -> 420 | G102: =단가대비표!V16 -> 0 | H102: =TRUNC(D102*ROUND(G102,1), 1) -> 0 | I102: =단가대비표!AE16 -> 0 | J102: =TRUNC(D102*ROUND(I102,1), 1) -> 0 | K102: =E102+G102+I102 -> 800 | L102: =F102+H102+J102 -> 420 | N102: AH0204001600 | O102: 3016160420162661 | S102: 50 | U102: 0 | V102: 0 | W102: 0 | X102: 0 | Y102: 0 | Z102: 0 | AA102: 0 | AB102: 0 | AE102: =HYPERLINK("#단가대비표!B16", "▶바로가기") -> ▶바로가기
A103: 경량철골천장틀 | B103: 경량철골천장틀, 행가및핀, 110×23×18×2.3mm | C103: 조 | D103: 1.362 | E103: =단가대비표!U17 -> 310 | F103: =TRUNC(D103*ROUND(E103,1), 1) -> 422.2 | G103: =단가대비표!V17 -> 0 | H103: =TRUNC(D103*ROUND(G103,1), 1) -> 0 | I103: =단가대비표!AE17 -> 0 | J103: =TRUNC(D103*ROUND(I103,1), 1) -> 0 | K103: =E103+G103+I103 -> 310 | L103: =F103+H103+J103 -> 422.2 | N103: AH0204001600 | O103: 3016160420162662 | S103: 60 | U103: 0 | V103: 0 | W103: 0 | X103: 0 | Y103: 0 | Z103: 0 | AA103: 0 | AB103: 0 | AE103: =HYPERLINK("#단가대비표!B17", "▶바로가기") -> ▶바로가기
A104: 경량철골천장틀 | B104: 경량철골천장틀, 찬넬크립, 34×34×1.2mm | C104: 조 | D104: 0.584 | E104: =단가대비표!U18 -> 111 | F104: =TRUNC(D104*ROUND(E104,1), 1) -> 64.8 | G104: =단가대비표!V18 -> 0 | H104: =TRUNC(D104*ROUND(G104,1), 1) -> 0 | I104: =단가대비표!AE18 -> 0 | J104: =TRUNC(D104*ROUND(I104,1), 1) -> 0 | K104: =E104+G104+I104 -> 111 | L104: =F104+H104+J104 -> 64.8 | N104: AH0204001600 | O104: 3016160420162663 | S104: 70 | U104: 0 | V104: 0 | W104: 0 | X104: 0 | Y104: 0 | Z104: 0 | AA104: 0 | AB104: 0 | AE104: =HYPERLINK("#단가대비표!B18", "▶바로가기") -> ▶바로가기
A105: 경량철골천장틀 | B105: 경량철골천장틀, 캐링조인트, 90×40×13×0.5mm | C105: 조 | D105: 0.195 | E105: =단가대비표!U19 -> 107 | F105: =TRUNC(D105*ROUND(E105,1), 1) -> 20.8 | G105: =단가대비표!V19 -> 0 | H105: =TRUNC(D105*ROUND(G105,1), 1) -> 0 | I105: =단가대비표!AE19 -> 0 | J105: =TRUNC(D105*ROUND(I105,1), 1) -> 0 | K105: =E105+G105+I105 -> 107 | L105: =F105+H105+J105 -> 20.8 | N105: AH0204001600 | O105: 3016160420162664 | S105: 80 | U105: 0 | V105: 0 | W105: 0 | X105: 0 | Y105: 0 | Z105: 0 | AA105: 0 | AB105: 0 | AE105: =HYPERLINK("#단가대비표!B19", "▶바로가기") -> ▶바로가기
A106: 경량철골천장틀 | B106: 경량철골천장틀, M-BAR더블, 50×19×0.5mm | C106: M | D106: 3.675 | E106: =단가대비표!U13 -> 620 | F106: =TRUNC(D106*ROUND(E106,1), 1) -> 2278.5 | G106: =단가대비표!V13 -> 0 | H106: =TRUNC(D106*ROUND(G106,1), 1) -> 0 | I106: =단가대비표!AE13 -> 0 | J106: =TRUNC(D106*ROUND(I106,1), 1) -> 0 | K106: =E106+G106+I106 -> 620 | L106: =F106+H106+J106 -> 2278.5 | N106: AH0204001600 | O106: 3016160420162624 | S106: 90 | U106: 0 | V106: 0 | W106: 0 | X106: 0 | Y106: 0 | Z106: 0 | AA106: 0 | AB106: 0 | AE106: =HYPERLINK("#단가대비표!B13", "▶바로가기") -> ▶바로가기
A107: 경량철골천장틀 | B107: 경량철골천장틀, BAR크립, 더블 | C107: 개 | D107: 4.084 | E107: =단가대비표!U20 -> 1160 | F107: =TRUNC(D107*ROUND(E107,1), 1) -> 4737.4 | G107: =단가대비표!V20 -> 0 | H107: =TRUNC(D107*ROUND(G107,1), 1) -> 0 | I107: =단가대비표!AE20 -> 0 | J107: =TRUNC(D107*ROUND(I107,1), 1) -> 0 | K107: =E107+G107+I107 -> 1160 | L107: =F107+H107+J107 -> 4737.4 | N107: AH0204001600 | O107: 3016160420162665 | S107: 100 | U107: 0 | V107: 0 | W107: 0 | X107: 0 | Y107: 0 | Z107: 0 | AA107: 0 | AB107: 0 | AE107: =HYPERLINK("#단가대비표!B20", "▶바로가기") -> ▶바로가기
A108: 경량철골천장틀 | B108: 경량철골천장틀, BAR조인트, 더블 | C108: 개 | D108: 0.584 | E108: =단가대비표!U21 -> 80 | F108: =TRUNC(D108*ROUND(E108,1), 1) -> 46.7 | G108: =단가대비표!V21 -> 0 | H108: =TRUNC(D108*ROUND(G108,1), 1) -> 0 | I108: =단가대비표!AE21 -> 0 | J108: =TRUNC(D108*ROUND(I108,1), 1) -> 0 | K108: =E108+G108+I108 -> 80 | L108: =F108+H108+J108 -> 46.7 | N108: AH0204001600 | O108: 3016160420162667 | S108: 110 | U108: 0 | V108: 0 | W108: 0 | X108: 0 | Y108: 0 | Z108: 0 | AA108: 0 | AB108: 0 | AE108: =HYPERLINK("#단가대비표!B21", "▶바로가기") -> ▶바로가기
A109: 경량철골천장틀 | B109: 경량철골천장틀, 피스, 3×16mm | C109: 개 | D109: 42.33 | E109: =단가대비표!U22 -> 8.6 | F109: =TRUNC(D109*ROUND(E109,1), 1) -> 364 | G109: =단가대비표!V22 -> 0 | H109: =TRUNC(D109*ROUND(G109,1), 1) -> 0 | I109: =단가대비표!AE22 -> 0 | J109: =TRUNC(D109*ROUND(I109,1), 1) -> 0 | K109: =E109+G109+I109 -> 8.6 | L109: =F109+H109+J109 -> 364 | N109: AH0204001600 | O109: 3016160420162677 | S109: 120 | U109: 0 | V109: 0 | W109: 0 | X109: 0 | Y109: 0 | Z109: 0 | AA109: 0 | AB109: 0 | AE109: =HYPERLINK("#단가대비표!B22", "▶바로가기") -> ▶바로가기
A110: 경량천장철골틀 설치 | B110: BAR간격 300mm | C110: M2 | D110: 1 | E110: =일위대가목록!E30 -> 684 | F110: =TRUNC(D110*E110,1) -> 684 | G110: =일위대가목록!F30 -> 11402 | H110: =TRUNC(D110*G110,1) -> 11402 | I110: =일위대가목록!G30 -> 0 | J110: =TRUNC(D110*I110,1) -> 0 | K110: =E110+G110+I110 -> 12086 | L110: =F110+H110+J110 -> 12086 | M110: 재료별도 | N110: AH0204001600 | O110: AH0204000100 | S110: 130 | U110: 0 | V110: 0 | W110: 0 | X110: 0 | Y110: 0 | Z110: 0 | AA110: 0 | AB110: 0 | AE110: =HYPERLINK("#일위대가!B158", "▶바로가기") -> ▶바로가기
A111: [ 합 계 ] | E111: 0 | F111: =TRUNC(SUMIF(R98:R110, " ", F98:F110),0) -> 12714 | G111: 0 | H111: =TRUNC(SUMIF(R98:R110, " ", H98:H110),0) -> 14549 | I111: 0 | J111: =TRUNC(SUMIF(R98:R110, " ", J98:J110),0) -> 0 | L111: =F111+H111+J111 -> 27263 | N111: TOTAL | O111: TOTAL
A113: ( 호표 19 ) 인테리어필름붙임 W=300이상, 3.6M이하 M2 | N113: IN1000000100
A114: 인테리어필름 | B114: 0.2×1.22, 메탈계 | C114: M2 | D114: 1.2 | E114: =단가대비표!U12 -> 0 | F114: =TRUNC(D114*ROUND(E114,1), 1) -> 0 | G114: =단가대비표!V12 -> 0 | H114: =TRUNC(D114*ROUND(G114,1), 1) -> 0 | I114: =단가대비표!AE12 -> 0 | J114: =TRUNC(D114*ROUND(I114,1), 1) -> 0 | K114: =E114+G114+I114 -> 0 | L114: =F114+H114+J114 -> 0 | N114: IN1000000100 | O114: 3016150520155900 | S114: 10 | T114: 1.2 | U114: 0 | V114: 0 | W114: 0 | X114: 0 | Y114: 0 | Z114: 0 | AA114: 0 | AB114: 0 | AE114: =HYPERLINK("#단가대비표!B12", "▶바로가기") -> ▶바로가기
A115: 내장공 | B115: 일반공사 직종 | C115: 인 | D115: 0.088 | E115: =단가대비표!U60 -> 0 | F115: =TRUNC(D115*ROUND(E115,1), 1) -> 0 | G115: =단가대비표!V60 -> 256883 | H115: =TRUNC(D115*ROUND(G115,1), 1) -> 22605.7 | I115: =단가대비표!AE60 -> 0 | J115: =TRUNC(D115*ROUND(I115,1), 1) -> 0 | K115: =E115+G115+I115 -> 256883 | L115: =F115+H115+J115 -> 22605.7 | N115: IN1000000100 | O115: L001010101000030 | S115: 20 | T115: 0.088 | U115: 0 | V115: 0 | W115: 0 | X115: 0 | Y115: 0 | Z115: 0 | AA115: 0 | AB115: 0 | AE115: =HYPERLINK("#단가대비표!B60", "▶바로가기") -> ▶바로가기
A116: 보통인부 | B116: 일반공사 직종 | C116: 인 | D116: 0.019 | E116: =단가대비표!U53 -> 0 | F116: =TRUNC(D116*ROUND(E116,1), 1) -> 0 | G116: =단가대비표!V53 -> 172068 | H116: =TRUNC(D116*ROUND(G116,1), 1) -> 3269.2 | I116: =단가대비표!AE53 -> 0 | J116: =TRUNC(D116*ROUND(I116,1), 1) -> 0 | K116: =E116+G116+I116 -> 172068 | L116: =F116+H116+J116 -> 3269.2 | N116: IN1000000100 | O116: L001010101000002 | S116: 30 | T116: 0.019 | U116: 0 | V116: 0 | W116: 0 | X116: 0 | Y116: 0 | Z116: 0 | AA116: 0 | AB116: 0 | AE116: =HYPERLINK("#단가대비표!B53", "▶바로가기") -> ▶바로가기
A117: [ 합 계 ] | E117: 0 | F117: =TRUNC(SUMIF(R114:R116, " ", F114:F116),0) -> 0 | G117: 0 | H117: =TRUNC(SUMIF(R114:R116, " ", H114:H116),0) -> 25874 | I117: 0 | J117: =TRUNC(SUMIF(R114:R116, " ", J114:J116),0) -> 0 | L117: =F117+H117+J117 -> 25874 | N117: TOTAL | O117: TOTAL
A119: ( 호표 20 ) 데코타일붙임 450*450*3.0mm (왁스무) M2 | N119: AE0101201000
...

Sheet 단가대비표
A1: 단 가 대 비 표
A2: ="[" & 설계서용지!F7 & "]" -> [공용 스마트 교육공간 인프라 구축 건축공사]
A3: 코 드 | B3: 품 목 | C3: 규 격 | D3: 단위 | E3: 재 료 비 | V3: 노 무 비 | W3: 경 비 | AF3: 비 고 | AG3: 품목구분 | AH3: 노임구분 | AI3: 소수점처리 | AJ3: 자재구분 | AK3: 재료비 조정률 | AL3: 노무비 조정률 | AM3: 경비 조정률
E4: 조달청가격 | F4: PAGE | G4: 거래가격 | H4: PAGE | I4: 유통물가 | J4: PAGE | K4: 물가자료 | L4: PAGE | M4: 물가정보 | N4: PAGE | O4: 조사가격1 | P4: PAGE | Q4: 조사가격2 | R4: PAGE | S4: 조사가격3 | T4: PAGE | U4: 적용단가 | W4: 조달청가격 | X4: 거래가격 | Y4: 유통물가 | Z4: 물가자료 | AA4: 물가정보 | AB4: 조사가격1 | AC4: 조사가격2 | AD4: 조사가격3 | AE4: 적용단가
A5: 1112200120142410 | B5: 보통합판 | C5: 보통합판, 1급, 2.7*1220*2440mm | D5: 매 | E5: 11142 | G5: 9800 | H5: 667 | I5: 9400 | J5: 407 | K5: 9400 | L5: 670 | M5: 11900 | N5: 587 | O5: 0 | Q5: 0 | S5: 0 | U5: =ROUND(IF(MIN(E5,G5,I5,K5,M5,O5,Q5,S5)<0, MIN(E5,G5,I5,K5,M5,O5,Q5,S5), SMALL(E5:T5,COUNTIF(E5:T5,0)+1)) * 공사설정!$C$24 / 100*AK5/ 100, 1) -> 9400 | V5: =ROUND(0 * 공사설정!$C$25 / 100*AL5/ 100,1) -> 0 | W5: 0 | X5: 0 | Y5: 0 | Z5: 0 | AA5: 0 | AB5: 0 | AC5: 0 | AD5: 0 | AE5: =ROUND(IF(MIN(W5:AD5)=AVERAGE(W5:AD5), 0, IF(MIN(W5:AD5)<0, MIN(W5:AD5), SMALL(W5:AD5,COUNTIF(W5:AD5,0)+1))) * 공사설정!$C$26 / 100*AM5/ 100,1) -> 0 | AK5: 100 | AL5: 100 | AM5: 100
A6: 1112200120142411 | B6: 보통합판 | C6: 보통합판, 1급, 4.8*1220*2440mm | D6: M2 | E6: 4448 | G6: 4703 | H6: 667 | I6: 4669.4 | J6: 407 | K6: 4669.4 | L6: 670 | M6: 5744.42 | N6: 587 | O6: 0 | Q6: 0 | S6: 0 | U6: =ROUND(IF(MIN(E6,G6,I6,K6,M6,O6,Q6,S6)<0, MIN(E6,G6,I6,K6,M6,O6,Q6,S6), SMALL(E6:T6,COUNTIF(E6:T6,0)+1)) * 공사설정!$C$24 / 100*AK6/ 100, 1) -> 4448 | V6: =ROUND(0 * 공사설정!$C$25 / 100*AL6/ 100,1) -> 0 | W6: 0 | X6: 0 | Y6: 0 | Z6: 0 | AA6: 0 | AB6: 0 | AC6: 0 | AD6: 0 | AE6: =ROUND(IF(MIN(W6:AD6)=AVERAGE(W6:AD6), 0, IF(MIN(W6:AD6)<0, MIN(W6:AD6), SMALL(W6:AD6,COUNTIF(W6:AD6,0)+1))) * 공사설정!$C$26 / 100*AM6/ 100,1) -> 0 | AK6: 100 | AL6: 100 | AM6: 100
A7: 1112200320154875 | B7: 중밀도섬유판 | C7: 중밀도섬유판, 12*1220*2440mm | D7: M2 | E7: 5673 | G7: 7625.6 | H7: 668 | I7: 6550.65 | J7: 409 | K7: 6886.6 | L7: 670 | M7: 6886.59 | N7: 588 | O7: 0 | Q7: 0 | S7: 0 | U7: =ROUND(IF(MIN(E7,G7,I7,K7,M7,O7,Q7,S7)<0, MIN(E7,G7,I7,K7,M7,O7,Q7,S7), SMALL(E7:T7,COUNTIF(E7:T7,0)+1)) * 공사설정!$C$24 / 100*AK7/ 100, 1) -> 5673 | V7: =ROUND(0 * 공사설정!$C$25 / 100*AL7/ 100,1) -> 0 | W7: 0 | X7: 0 | Y7: 0 | Z7: 0 | AA7: 0 | AB7: 0 | AC7: 0 | AD7: 0 | AE7: =ROUND(IF(MIN(W7:AD7)=AVERAGE(W7:AD7), 0, IF(MIN(W7:AD7)<0, MIN(W7:AD7), SMALL(W7:AD7,COUNTIF(W7:AD7,0)+1))) * 공사설정!$C$26 / 100*AM7/ 100,1) -> 0 | AK7: 100 | AL7: 100 | AM7: 100
A8: 1119160220292342 | B8: 철강설 | C8: 철강설, 고철, 작업설부산물 | D8: kg | E8: 261 | G8: 400 | H8: 1472 | I8: 400 | J8: 1198 | K8: 305 | L8: 하47 | M8: 330 | N8: Ⅱ-84 | O8: 0 | Q8: 0 | S8: 0 | U8: =ROUND(IF(MIN(E8,G8,I8,K8,M8,O8,Q8,S8)<0, MIN(E8,G8,I8,K8,M8,O8,Q8,S8), SMALL(E8:T8,COUNTIF(E8:T8,0)+1)) * 공사설정!$C$24 / 100*AK8/ 100, 1) -> 261 | V8: =ROUND(0 * 공사설정!$C$25 / 100*AL8/ 100,1) -> 0 | W8: 0 | X8: 0 | Y8: 0 | Z8: 0 | AA8: 0 | AB8: 0 | AC8: 0 | AD8: 0 | AE8: =ROUND(IF(MIN(W8:AD8)=AVERAGE(W8:AD8), 0, IF(MIN(W8:AD8)<0, MIN(W8:AD8), SMALL(W8:AD8,COUNTIF(W8:AD8,0)+1))) * 공사설정!$C$26 / 100*AM8/ 100,1) -> 0 | AK8: 100 | AL8: 100 | AM8: 100
A9: 3010150420288693 | B9: ㄱ형강 | C9: ㄱ형강, 등변, 25*25*3mm | D9: kg | E9: 1020 | G9: 1160 | H9: 55 | I9: 1050 | J9: 21 | K9: 1020 | L9: 7 | M9: 1090 | N9: 5 | O9: 0 | Q9: 0 | S9: 0 | U9: =ROUND(IF(MIN(E9,G9,I9,K9,M9,O9,Q9,S9)<0, MIN(E9,G9,I9,K9,M9,O9,Q9,S9), SMALL(E9:T9,COUNTIF(E9:T9,0)+1)) * 공사설정!$C$24 / 100*AK9/ 100, 1) -> 1020 | V9: =ROUND(0 * 공사설정!$C$25 / 100*AL9/ 100,1) -> 0 | W9: 0 | X9: 0 | Y9: 0 | Z9: 0 | AA9: 0 | AB9: 0 | AC9: 0 | AD9: 0 | AE9: =ROUND(IF(MIN(W9:AD9)=AVERAGE(W9:AD9), 0, IF(MIN(W9:AD9)<0, MIN(W9:AD9), SMALL(W9:AD9,COUNTIF(W9:AD9,0)+1))) * 공사설정!$C$26 / 100*AM9/ 100,1) -> 0 | AF9: 1.12kg/m | AK9: 100 | AL9: 100 | AM9: 100
A10: 3010220420287311 | B10: 일반구조용압연강판 | C10: 열연강판 박판, 1.2mm | D10: kg | E10: 891 | G10: 940 | H10: 63 | I10: 1057 | J10: 26 | K10: 920 | L10: 13 | M10: 963 | N10: 14 | O10: 0 | Q10: 0 | S10: 0 | U10: =ROUND(IF(MIN(E10,G10,I10,K10,M10,O10,Q10,S10)<0, MIN(E10,G10,I10,K10,M10,O10,Q10,S10), SMALL(E10:T10,COUNTIF(E10:T10,0)+1)) * 공사설정!$C$24 / 100*AK10/ 100, 1) -> 891 | V10: =ROUND(0 * 공사설정!$C$25 / 100*AL10/ 100,1) -> 0 | W10: 0 | X10: 0 | Y10: 0 | Z10: 0 | AA10: 0 | AB10: 0 | AC10: 0 | AD10: 0 | AE10: =ROUND(IF(MIN(W10:AD10)=AVERAGE(W10:AD10), 0, IF(MIN(W10:AD10)<0, MIN(W10:AD10), SMALL(W10:AD10,COUNTIF(W10:AD10,0)+1))) * 공사설정!$C$26 / 100*AM10/ 100,1) -> 0 | AK10: 100 | AL10: 100 | AM10: 100
A11: 3010369820141039 | B11: 각재 | C11: 각재, 미송 | D11: 재 | E11: 2433 | G11: 2500 | H11: 148 | I11: 2358 | J11: 73 | K11: 2400 | L11: 98 | M11: 0 | O11: 0 | Q11: 0 | S11: 0 | U11: =ROUND(IF(MIN(E11,G11,I11,K11,M11,O11,Q11,S11)<0, MIN(E11,G11,I11,K11,M11,O11,Q11,S11), SMALL(E11:T11,COUNTIF(E11:T11,0)+1)) * 공사설정!$C$24 / 100*AK11/ 100, 1) -> 2358 | V11: =ROUND(0 * 공사설정!$C$25 / 100*AL11/ 100,1) -> 0 | W11: 0 | X11: 0 | Y11: 0 | Z11: 0 | AA11: 0 | AB11: 0 | AC11: 0 | AD11: 0 | AE11: =ROUND(IF(MIN(W11:AD11)=AVERAGE(W11:AD11), 0, IF(MIN(W11:AD11)<0, MIN(W11:AD11), SMALL(W11:AD11,COUNTIF(W11:AD11,0)+1))) * 공사설정!$C$26 / 100*AM11/ 100,1) -> 0 | AK11: 100 | AL11: 100 | AM11: 100
A12: 3016150520155900 | B12: 인테리어필름 | C12: 0.2×1.22, 메탈계 | D12: M2 | E12: 0 | G12: 0 | I12: 0 | K12: 0 | M12: 0 | O12: 0 | Q12: 0 | S12: 0 | U12: =0*AK12/ 100 -> 0 | V12: =ROUND(0 * 공사설정!$C$25 / 100*AL12/ 100,1) -> 0 | W12: 0 | X12: 0 | Y12: 0 | Z12: 0 | AA12: 0 | AB12: 0 | AC12: 0 | AD12: 0 | AE12: =ROUND(IF(MIN(W12:AD12)=AVERAGE(W12:AD12), 0, IF(MIN(W12:AD12)<0, MIN(W12:AD12), SMALL(W12:AD12,COUNTIF(W12:AD12,0)+1))) * 공사설정!$C$26 / 100*AM12/ 100,1) -> 0 | AK12: 100 | AL12: 100 | AM12: 100
A13: 3016160420162624 | B13: 경량철골천장틀 | C13: 경량철골천장틀, M-BAR더블, 50×19×0.5mm | D13: M | E13: 0 | G13: 1160 | H13: 673 | I13: 1160 | J13: 420 | K13: 620 | L13: 503 | M13: 1160 | N13: 641 | O13: 0 | Q13: 0 | S13: 0 | U13: =ROUND(IF(MIN(E13,G13,I13,K13,M13,O13,Q13,S13)<0, MIN(E13,G13,I13,K13,M13,O13,Q13,S13), SMALL(E13:T13,COUNTIF(E13:T13,0)+1)) * 공사설정!$C$24 / 100*AK13/ 100, 1) -> 620 | V13: =ROUND(0 * 공사설정!$C$25 / 100*AL13/ 100,1) -> 0 | W13: 0 | X13: 0 | Y13: 0 | Z13: 0 | AA13: 0 | AB13: 0 | AC13: 0 | AD13: 0 | AE13: =ROUND(IF(MIN(W13:AD13)=AVERAGE(W13:AD13), 0, IF(MIN(W13:AD13)<0, MIN(W13:AD13), SMALL(W13:AD13,COUNTIF(W13:AD13,0)+1))) * 공사설정!$C$26 / 100*AM13/ 100,1) -> 0 | AK13: 100 | AL13: 100 | AM13: 100
A14: 3016160420162659 | B14: 경량철골천장틀 | C14: 경량철골천장틀, 달대볼트, 상9×1000mm | D14: 개 | E14: 0 | G14: 1450 | H14: 673 | I14: 0 | K14: 1450 | L14: 503 | M14: 1450 | N14: 641 | O14: 0 | Q14: 0 | S14: 0 | U14: =ROUND(IF(MIN(E14,G14,I14,K14,M14,O14,Q14,S14)<0, MIN(E14,G14,I14,K14,M14,O14,Q14,S14), SMALL(E14:T14,COUNTIF(E14:T14,0)+1)) * 공사설정!$C$24 / 100*AK14/ 100, 1) -> 1450 | V14: =ROUND(0 * 공사설정!$C$25 / 100*AL14/ 100,1) -> 0 | W14: 0 | X14: 0 | Y14: 0 | Z14: 0 | AA14: 0 | AB14: 0 | AC14: 0 | AD14: 0 | AE14: =ROUND(IF(MIN(W14:AD14)=AVERAGE(W14:AD14), 0, IF(MIN(W14:AD14)<0, MIN(W14:AD14), SMALL(W14:AD14,COUNTIF(W14:AD14,0)+1))) * 공사설정!$C$26 / 100*AM14/ 100,1) -> 0 | AJ14: 0 | AK14: 100 | AL14: 100 | AM14: 100
A15: 3016160420162660 | B15: 경량철골천장틀 | C15: 경량철골천장틀, 캐링찬넬, 38×12×1.2mm | D15: M | E15: 0 | G15: 1560 | H15: 673 | I15: 0 | K15: 0 | M15: 1290 | N15: 641 | O15: 0 | Q15: 0 | S15: 0 | U15: =ROUND(IF(MIN(E15,G15,I15,K15,M15,O15,Q15,S15)<0, MIN(E15,G15,I15,K15,M15,O15,Q15,S15), SMALL(E15:T15,COUNTIF(E15:T15,0)+1)) * 공사설정!$C$24 / 100*AK15/ 100, 1) -> 1290 | V15: =ROUND(0 * 공사설정!$C$25 / 100*AL15/ 100,1) -> 0 | W15: 0 | X15: 0 | Y15: 0 | Z15: 0 | AA15: 0 | AB15: 0 | AC15: 0 | AD15: 0 | AE15: =ROUND(IF(MIN(W15:AD15)=AVERAGE(W15:AD15), 0, IF(MIN(W15:AD15)<0, MIN(W15:AD15), SMALL(W15:AD15,COUNTIF(W15:AD15,0)+1))) * 공사설정!$C$26 / 100*AM15/ 100,1) -> 0 | AK15: 100 | AL15: 100 | AM15: 100
A16: 3016160420162661 | B16: 경량철골천장틀 | C16: 경량철골천장틀, 마이너찬넬, 19×10×1.2mm | D16: M | E16: 0 | G16: 980 | H16: 673 | I16: 0 | K16: 1014 | L16: 503 | M16: 800 | N16: 641 | O16: 0 | Q16: 0 | S16: 0 | U16: =ROUND(IF(MIN(E16,G16,I16,K16,M16,O16,Q16,S16)<0, MIN(E16,G16,I16,K16,M16,O16,Q16,S16), SMALL(E16:T16,COUNTIF(E16:T16,0)+1)) * 공사설정!$C$24 / 100*AK16/ 100, 1) -> 800 | V16: =ROUND(0 * 공사설정!$C$25 / 100*AL16/ 100,1) -> 0 | W16: 0 | X16: 0 | Y16: 0 | Z16: 0 | AA16: 0 | AB16: 0 | AC16: 0 | AD16: 0 | AE16: =ROUND(IF(MIN(W16:AD16)=AVERAGE(W16:AD16), 0, IF(MIN(W16:AD16)<0, MIN(W16:AD16), SMALL(W16:AD16,COUNTIF(W16:AD16,0)+1))) * 공사설정!$C$26 / 100*AM16/ 100,1) -> 0 | AK16: 100 | AL16: 100 | AM16: 100
A17: 3016160420162662 | B17: 경량철골천장틀 | C17: 경량철골천장틀, 행가및핀, 110×23×18×2.3mm | D17: 조 | E17: 0 | G17: 310 | H17: 673 | I17: 0 | K17: 0 | M17: 310 | N17: 641 | O17: 0 | Q17: 0 | S17: 0 | U17: =ROUND(IF(MIN(E17,G17,I17,K17,M17,O17,Q17,S17)<0, MIN(E17,G17,I17,K17,M17,O17,Q17,S17), SMALL(E17:T17,COUNTIF(E17:T17,0)+1)) * 공사설정!$C$24 / 100*AK17/ 100, 1) -> 310 | V17: =ROUND(0 * 공사설정!$C$25 / 100*AL17/ 100,1) -> 0 | W17: 0 | X17: 0 | Y17: 0 | Z17: 0 | AA17: 0 | AB17: 0 | AC17: 0 | AD17: 0 | AE17: =ROUND(IF(MIN(W17:AD17)=AVERAGE(W17:AD17), 0, IF(MIN(W17:AD17)<0, MIN(W17:AD17), SMALL(W17:AD17,COUNTIF(W17:AD17,0)+1))) * 공사설정!$C$26 / 100*AM17/ 100,1) -> 0 | AK17: 100 | AL17: 100 | AM17: 100
A18: 3016160420162663 | B18: 경량철골천장틀 | C18: 경량철골천장틀, 찬넬크립, 34×34×1.2mm | D18: 조 | E18: 0 | G18: 0 | I18: 0 | K18: 0 | M18: 0 | O18: 111 | Q18: 0 | S18: 0 | U18: =ROUND(IF(MIN(E18,G18,I18,K18,M18,O18,Q18,S18)<0, MIN(E18,G18,I18,K18,M18,O18,Q18,S18), SMALL(E18:T18,COUNTIF(E18:T18,0)+1)) * 공사설정!$C$24 / 100*AK18/ 100, 1) -> 111 | V18: =ROUND(0 * 공사설정!$C$25 / 100*AL18/ 100,1) -> 0 | W18: 0 | X18: 0 | Y18: 0 | Z18: 0 | AA18: 0 | AB18: 0 | AC18: 0 | AD18: 0 | AE18: =ROUND(IF(MIN(W18:AD18)=AVERAGE(W18:AD18), 0, IF(MIN(W18:AD18)<0, MIN(W18:AD18), SMALL(W18:AD18,COUNTIF(W18:AD18,0)+1))) * 공사설정!$C$26 / 100*AM18/ 100,1) -> 0 | AK18: 100 | AL18: 100 | AM18: 100
A19: 3016160420162664 | B19: 경량철골천장틀 | C19: 경량철골천장틀, 캐링조인트, 90×40×13×0.5mm | D19: 조 | E19: 0 | G19: 0 | I19: 0 | K19: 0 | M19: 0 | O19: 107 | Q19: 0 | S19: 0 | U19: =ROUND(IF(MIN(E19,G19,I19,K19,M19,O19,Q19,S19)<0, MIN(E19,G19,I19,K19,M19,O19,Q19,S19), SMALL(E19:T19,COUNTIF(E19:T19,0)+1)) * 공사설정!$C$24 / 100*AK19/ 100, 1) -> 107 | V19: =ROUND(0 * 공사설정!$C$25 / 100*AL19/ 100,1) -> 0 | W19: 0 | X19: 0 | Y19: 0 | Z19: 0 | AA19: 0 | AB19: 0 | AC19: 0 | AD19: 0 | AE19: =ROUND(IF(MIN(W19:AD19)=AVERAGE(W19:AD19), 0, IF(MIN(W19:AD19)<0, MIN(W19:AD19), SMALL(W19:AD19,COUNTIF(W19:AD19,0)+1))) * 공사설정!$C$26 / 100*AM19/ 100,1) -> 0 | AK19: 100 | AL19: 100 | AM19: 100
A20: 3016160420162665 | B20: 경량철골천장틀 | C20: 경량철골천장틀, BAR크립, 더블 | D20: 개 | E20: 0 | G20: 1160 | H20: 673 | I20: 1160 | J20: 420 | K20: 0 | M20: 0 | O20: 0 | Q20: 0 | S20: 0 | U20: =ROUND(IF(MIN(E20,G20,I20,K20,M20,O20,Q20,S20)<0, MIN(E20,G20,I20,K20,M20,O20,Q20,S20), SMALL(E20:T20,COUNTIF(E20:T20,0)+1)) * 공사설정!$C$24 / 100*AK20/ 100, 1) -> 1160 | V20: =ROUND(0 * 공사설정!$C$25 / 100*AL20/ 100,1) -> 0 | W20: 0 | X20: 0 | Y20: 0 | Z20: 0 | AA20: 0 | AB20: 0 | AC20: 0 | AD20: 0 | AE20: =ROUND(IF(MIN(W20:AD20)=AVERAGE(W20:AD20), 0, IF(MIN(W20:AD20)<0, MIN(W20:AD20), SMALL(W20:AD20,COUNTIF(W20:AD20,0)+1))) * 공사설정!$C$26 / 100*AM20/ 100,1) -> 0 | AK20: 100 | AL20: 100 | AM20: 100
A21: 3016160420162667 | B21: 경량철골천장틀 | C21: 경량철골천장틀, BAR조인트, 더블 | D21: 개 | E21: 0 | G21: 0 | I21: 0 | K21: 0 | M21: 0 | O21: 80 | Q21: 0 | S21: 0 | U21: =ROUND(IF(MIN(E21,G21,I21,K21,M21,O21,Q21,S21)<0, MIN(E21,G21,I21,K21,M21,O21,Q21,S21), SMALL(E21:T21,COUNTIF(E21:T21,0)+1)) * 공사설정!$C$24 / 100*AK21/ 100, 1) -> 80 | V21: =ROUND(0 * 공사설정!$C$25 / 100*AL21/ 100,1) -> 0 | W21: 0 | X21: 0 | Y21: 0 | Z21: 0 | AA21: 0 | AB21: 0 | AC21: 0 | AD21: 0 | AE21: =ROUND(IF(MIN(W21:AD21)=AVERAGE(W21:AD21), 0, IF(MIN(W21:AD21)<0, MIN(W21:AD21), SMALL(W21:AD21,COUNTIF(W21:AD21,0)+1))) * 공사설정!$C$26 / 100*AM21/ 100,1) -> 0 | AK21: 100 | AL21: 100 | AM21: 100
A22: 3016160420162677 | B22: 경량철골천장틀 | C22: 경량철골천장틀, 피스, 3×16mm | D22: 개 | E22: 0 | G22: 10.4 | H22: 98 | I22: 8.6 | J22: 57 | K22: 0 | M22: 0 | O22: 0 | Q22: 0 | S22: 0 | U22: =ROUND(IF(MIN(E22,G22,I22,K22,M22,O22,Q22,S22)<0, MIN(E22,G22,I22,K22,M22,O22,Q22,S22), SMALL(E22:T22,COUNTIF(E22:T22,0)+1)) * 공사설정!$C$24 / 100*AK22/ 100, 1) -> 8.6 | V22: =ROUND(0 * 공사설정!$C$25 / 100*AL22/ 100,1) -> 0 | W22: 0 | X22: 0 | Y22: 0 | Z22: 0 | AA22: 0 | AB22: 0 | AC22: 0 | AD22: 0 | AE22: =ROUND(IF(MIN(W22:AD22)=AVERAGE(W22:AD22), 0, IF(MIN(W22:AD22)<0, MIN(W22:AD22), SMALL(W22:AD22,COUNTIF(W22:AD22,0)+1))) * 공사설정!$C$26 / 100*AM22/ 100,1) -> 0 | AK22: 100 | AL22: 100 | AM22: 100
A23: 3016170720153841 | B23: PVC바닥재 | C23: PVC바닥재, 450×450×t3mm, 데코타일 | D23: M2 | E23: 0 | G23: 19000 | H23: 712 | I23: 0 | K23: 21500 | L23: 613 | M23: 0 | O23: 0 | Q23: 0 | S23: 0 | U23: =ROUND(IF(MIN(E23,G23,I23,K23,M23,O23,Q23,S23)<0, MIN(E23,G23,I23,K23,M23,O23,Q23,S23), SMALL(E23:T23,COUNTIF(E23:T23,0)+1)) * 공사설정!$C$24 / 100*AK23/ 100, 1) -> 19000 | V23: =ROUND(0 * 공사설정!$C$25 / 100*AL23/ 100,1) -> 0 | W23: 0 | X23: 0 | Y23: 0 | Z23: 0 | AA23: 0 | AB23: 0 | AC23: 0 | AD23: 0 | AE23: =ROUND(IF(MIN(W23:AD23)=AVERAGE(W23:AD23), 0, IF(MIN(W23:AD23)<0, MIN(W23:AD23), SMALL(W23:AD23,COUNTIF(W23:AD23,0)+1))) * 공사설정!$C$26 / 100*AM23/ 100,1) -> 0 | AK23: 100 | AL23: 100 | AM23: 100
A24: 3016171720162131 | B24: 악세스후로아(전도성타일마감) | C24: 스틸판넬 600각 t=3.0 | D24: M2 | E24: 0 | G24: 165000 | H24: 724 | I24: 0 | K24: 0 | M24: 0 | O24: 0 | Q24: 0 | S24: 0 | U24: =ROUND(IF(MIN(E24,G24,I24,K24,M24,O24,Q24,S24)<0, MIN(E24,G24,I24,K24,M24,O24,Q24,S24), SMALL(E24:T24,COUNTIF(E24:T24,0)+1)) * 공사설정!$C$24 / 100*AK24/ 100, 1) -> 165000 | V24: =ROUND(0 * 공사설정!$C$25 / 100*AL24/ 100,1) -> 0 | W24: 0 | X24: 0 | Y24: 0 | Z24: 0 | AA24: 0 | AB24: 0 | AC24: 0 | AD24: 0 | AE24: =ROUND(IF(MIN(W24:AD24)=AVERAGE(W24:AD24), 0, IF(MIN(W24:AD24)<0, MIN(W24:AD24), SMALL(W24:AD24,COUNTIF(W24:AD24,0)+1))) * 공사설정!$C$26 / 100*AM24/ 100,1) -> 0 | AF24: 시공도 | AK24: 100 | AL24: 100 | AM24: 100
A25: 3116200220136259 | B25: 일반못 | C25: 일반못, 50mm | D25: kg | E25: 1387 | G25: 1460 | H25: 84 | I25: 1850.5 | J25: 43 | K25: 1651.74 | L25: 28 | M25: 1870 | N25: 37 | O25: 0 | Q25: 0 | S25: 0 | U25: =ROUND(IF(MIN(E25,G25,I25,K25,M25,O25,Q25,S25)<0, MIN(E25,G25,I25,K25,M25,O25,Q25,S25), SMALL(E25:T25,COUNTIF(E25:T25,0)+1)) * 공사설정!$C$24 / 100*AK25/ 100, 1) -> 1387 | V25: =ROUND(0 * 공사설정!$C$25 / 100*AL25/ 100,1) -> 0 | W25: 0 | X25: 0 | Y25: 0 | Z25: 0 | AA25: 0 | AB25: 0 | AC25: 0 | AD25: 0 | AE25: =ROUND(IF(MIN(W25:AD25)=AVERAGE(W25:AD25), 0, IF(MIN(W25:AD25)<0, MIN(W25:AD25), SMALL(W25:AD25,COUNTIF(W25:AD25,0)+1))) * 공사설정!$C$26 / 100*AM25/ 100,1) -> 0 | AK25: 100 | AL25: 100 | AM25: 100
A26: 3116280220163395 | B26: 인서트 | C26: 인서트, 주물, Φ9mm | D26: 개 | E26: 0 | G26: 0 | I26: 0 | K26: 0 | M26: 0 | O26: 0 | Q26: 0 | S26: 0 | U26: =0*AK26/ 100 -> 0 | V26: =ROUND(0 * 공사설정!$C$25 / 100*AL26/ 100,1) -> 0 | W26: 0 | X26: 0 | Y26: 0 | Z26: 0 | AA26: 0 | AB26: 0 | AC26: 0 | AD26: 0 | AE26: =ROUND(IF(MIN(W26:AD26)=AVERAGE(W26:AD26), 0, IF(MIN(W26:AD26)<0, MIN(W26:AD26), SMALL(W26:AD26,COUNTIF(W26:AD26,0)+1))) * 공사설정!$C$26 / 100*AM26/ 100,1) -> 0 | AK26: 100 | AL26: 100 | AM26: 100
A27: 3119150120139357 | B27: 연마지 | C27: 연마지, #120~180, 230×280mm | D27: 장 | E27: 323 | G27: 530 | H27: 1337 | I27: 385 | J27: 1168 | K27: 360 | L27: 1412 | M27: 385 | N27: 1078 | O27: 0 | Q27: 0 | S27: 0 | U27: =ROUND(IF(MIN(E27,G27,I27,K27,M27,O27,Q27,S27)<0, MIN(E27,G27,I27,K27,M27,O27,Q27,S27), SMALL(E27:T27,COUNTIF(E27:T27,0)+1)) * 공사설정!$C$24 / 100*AK27/ 100, 1) -> 323 | V27: =ROUND(0 * 공사설정!$C$25 / 100*AL27/ 100,1) -> 0 | W27: 0 | X27: 0 | Y27: 0 | Z27: 0 | AA27: 0 | AB27: 0 | AC27: 0 | AD27: 0 | AE27: =ROUND(IF(MIN(W27:AD27)=AVERAGE(W27:AD27), 0, IF(MIN(W27:AD27)<0, MIN(W27:AD27), SMALL(W27:AD27,COUNTIF(W27:AD27,0)+1))) * 공사설정!$C$26 / 100*AM27/ 100,1) -> 0 | AK27: 100 | AL27: 100 | AM27: 100
A28: 3120160120277510 | B28: 초산비닐계접착제 | C28: 초산비닐계접착제, 비닐타일용 | D28: kg | E28: 2520 | G28: 0 | I28: 0 | K28: 2700 | L28: 68 | M28: 0 | O28: 0 | Q28: 0 | S28: 0 | U28: =ROUND(IF(MIN(E28,G28,I28,K28,M28,O28,Q28,S28)<0, MIN(E28,G28,I28,K28,M28,O28,Q28,S28), SMALL(E28:T28,COUNTIF(E28:T28,0)+1)) * 공사설정!$C$24 / 100*AK28/ 100, 1) -> 2520 | V28: =ROUND(0 * 공사설정!$C$25 / 100*AL28/ 100,1) -> 0 | W28: 0 | X28: 0 | Y28: 0 | Z28: 0 | AA28: 0 | AB28: 0 | AC28: 0 | AD28: 0 | AE28: =ROUND(IF(MIN(W28:AD28)=AVERAGE(W28:AD28), 0, IF(MIN(W28:AD28)<0, MIN(W28:AD28), SMALL(W28:AD28,COUNTIF(W28:AD28,0)+1))) * 공사설정!$C$26 / 100*AM28/ 100,1) -> 0 | AK28: 100 | AL28: 100 | AM28: 100
A29: 3120160520277439 | B29: 퍼티 | C29: 퍼티, 회색 | D29: L | E29: 4845 | G29: 4844.4 | H29: 622 | I29: 4849.16 | J29: 469 | K29: 4849 | L29: 598 | M29: 4849.17 | N29: 504 | O29: 0 | Q29: 0 | S29: 0 | U29: =ROUND(IF(MIN(E29,G29,I29,K29,M29,O29,Q29,S29)<0, MIN(E29,G29,I29,K29,M29,O29,Q29,S29), SMALL(E29:T29,COUNTIF(E29:T29,0)+1)) * 공사설정!$C$24 / 100*AK29/ 100, 1) -> 4844.4 | V29: =ROUND(0 * 공사설정!$C$25 / 100*AL29/ 100,1) -> 0 | W29: 0 | X29: 0 | Y29: 0 | Z29: 0 | AA29: 0 | AB29: 0 | AC29: 0 | AD29: 0 | AE29: =ROUND(IF(MIN(W29:AD29)=AVERAGE(W29:AD29), 0, IF(MIN(W29:AD29)<0, MIN(W29:AD29), SMALL(W29:AD29,COUNTIF(W29:AD29,0)+1))) * 공사설정!$C$26 / 100*AM29/ 100,1) -> 0 | AF29: 1L=1.55kg | AK29: 100 | AL29: 100 | AM29: 100
A30: 3120160520277601 | B30: 퍼티 | C30: 319퍼티, 회색 | D30: kg | E30: 2306.45 | G30: 4844.44 | H30: 622 | I30: 0 | K30: 4849 | L30: 598 | M30: 4849.16 | N30: 504 | O30: 0 | Q30: 0 | S30: 0 | U30: =ROUND(IF(MIN(E30,G30,I30,K30,M30,O30,Q30,S30)<0, MIN(E30,G30,I30,K30,M30,O30,Q30,S30), SMALL(E30:T30,COUNTIF(E30:T30,0)+1)) * 공사설정!$C$24 / 100*AK30/ 100, 1) -> 2306.5 | V30: =ROUND(0 * 공사설정!$C$25 / 100*AL30/ 100,1) -> 0 | W30: 0 | X30: 0 | Y30: 0 | Z30: 0 | AA30: 0 | AB30: 0 | AC30: 0 | AD30: 0 | AE30: =ROUND(IF(MIN(W30:AD30)=AVERAGE(W30:AD30), 0, IF(MIN(W30:AD30)<0, MIN(W30:AD30), SMALL(W30:AD30,COUNTIF(W30:AD30,0)+1))) * 공사설정!$C$26 / 100*AM30/ 100,1) -> 0 | AF30: 1L=1.55kg | AK30: 100 | AL30: 100 | AM30: 100
A31: 3120160520277611 | B31: 퍼티 | C31: 319퍼티, 백색 | D31: kg | E31: 3125.8 | G31: 5675 | H31: 622 | I31: 0 | K31: 0 | M31: 0 | O31: 0 | Q31: 0 | S31: 0 | U31: =ROUND(IF(MIN(E31,G31,I31,K31,M31,O31,Q31,S31)<0, MIN(E31,G31,I31,K31,M31,O31,Q31,S31), SMALL(E31:T31,COUNTIF(E31:T31,0)+1)) * 공사설정!$C$24 / 100*AK31/ 100, 1) -> 3125.8 | V31: =ROUND(0 * 공사설정!$C$25 / 100*AL31/ 100,1) -> 0 | W31: 0 | X31: 0 | Y31: 0 | Z31: 0 | AA31: 0 | AB31: 0 | AC31: 0 | AD31: 0 | AE31: =ROUND(IF(MIN(W31:AD31)=AVERAGE(W31:AD31), 0, IF(MIN(W31:AD31)<0, MIN(W31:AD31), SMALL(W31:AD31,COUNTIF(W31:AD31,0)+1))) * 공사설정!$C$26 / 100*AM31/ 100,1) -> 0 | AF31: 1L=1.55kg | AK31: 100 | AL31: 100 | AM31: 100
A32: 3121150220276510 | B32: 수성페인트 | C32: 아크로글로시(내부), 낙서방지 | D32: L | E32: 0 | G32: 0 | I32: 0 | K32: 0 | M32: 0 | O32: 3767 | Q32: 0 | S32: 0 | U32: =ROUND(IF(MIN(E32,G32,I32,K32,M32,O32,Q32,S32)<0, MIN(E32,G32,I32,K32,M32,O32,Q32,S32), SMALL(E32:T32,COUNTIF(E32:T32,0)+1)) * 공사설정!$C$24 / 100*AK32/ 100, 1) -> 3767 | V32: =ROUND(0 * 공사설정!$C$25 / 100*AL32/ 100,1) -> 0 | W32: 0 | X32: 0 | Y32: 0 | Z32: 0 | AA32: 0 | AB32: 0 | AC32: 0 | AD32: 0 | AE32: =ROUND(IF(MIN(W32:AD32)=AVERAGE(W32:AD32), 0, IF(MIN(W32:AD32)<0, MIN(W32:AD32), SMALL(W32:AD32,COUNTIF(W32:AD32,0)+1))) * 공사설정!$C$26 / 100*AM32/ 100,1) -> 0 | AK32: 100 | AL32: 100 | AM32: 100
A33: 3121150820276421 | B33: 아크릴수지페인트 | C33: 세라민, KSM5700, 흑색 | D33: L | E33: 0 | G33: 0 | I33: 0 | K33: 0 | M33: 0 | O33: 0 | Q33: 0 | S33: 0 | U33: =0*AK33/ 100 -> 0 | V33: =ROUND(0 * 공사설정!$C$25 / 100*AL33/ 100,1) -> 0 | W33: 0 | X33: 0 | Y33: 0 | Z33: 0 | AA33: 0 | AB33: 0 | AC33: 0 | AD33: 0 | AE33: =ROUND(IF(MIN(W33:AD33)=AVERAGE(W33:AD33), 0, IF(MIN(W33:AD33)<0, MIN(W33:AD33), SMALL(W33:AD33,COUNTIF(W33:AD33,0)+1))) * 공사설정!$C$26 / 100*AM33/ 100,1) -> 0 | AK33: 100 | AL33: 100 | AM33: 100
A34: 3121159322073062 | B34: 방청페인트 | C34: 방청페인트, KSM6030-1종1류, 광명단페인트 | D34: L | E34: 11214 | G34: 12650 | H34: 614 | I34: 0 | K34: 0 | M34: 0 | O34: 0 | Q34: 0 | S34: 0 | U34: =ROUND(IF(MIN(E34,G34,I34,K34,M34,O34,Q34,S34)<0, MIN(E34,G34,I34,K34,M34,O34,Q34,S34), SMALL(E34:T34,COUNTIF(E34:T34,0)+1)) * 공사설정!$C$24 / 100*AK34/ 100, 1) -> 11214 | V34: =ROUND(0 * 공사설정!$C$25 / 100*AL34/ 100,1) -> 0 | W34: 0 | X34: 0 | Y34: 0 | Z34: 0 | AA34: 0 | AB34: 0 | AC34: 0 | AD34: 0 | AE34: =ROUND(IF(MIN(W34:AD34)=AVERAGE(W34:AD34), 0, IF(MIN(W34:AD34)<0, MIN(W34:AD34), SMALL(W34:AD34,COUNTIF(W34:AD34,0)+1))) * 공사설정!$C$26 / 100*AM34/ 100,1) -> 0 | AK34: 100 | AL34: 100 | AM34: 100
A35: 3121159722073048 | B35: 조합페인트 | C35: 조합페인트, KSM6020-1종1급, 백색 | D35: L | E35: 6067 | G35: 9722.2 | H35: 615 | I35: 0 | K35: 7455.6 | L35: 588 | M35: 0 | O35: 0 | Q35: 0 | S35: 0 | U35: =ROUND(IF(MIN(E35,G35,I35,K35,M35,O35,Q35,S35)<0, MIN(E35,G35,I35,K35,M35,O35,Q35,S35), SMALL(E35:T35,COUNTIF(E35:T35,0)+1)) * 공사설정!$C$24 / 100*AK35/ 100, 1) -> 6067 | V35: =ROUND(0 * 공사설정!$C$25 / 100*AL35/ 100,1) -> 0 | W35: 0 | X35: 0 | Y35: 0 | Z35: 0 | AA35: 0 | AB35: 0 | AC35: 0 | AD35: 0 | AE35: =ROUND(IF(MIN(W35:AD35)=AVERAGE(W35:AD35), 0, IF(MIN(W35:AD35)<0, MIN(W35:AD35), SMALL(W35:AD35,COUNTIF(W35:AD35,0)+1))) * 공사설정!$C$26 / 100*AM35/ 100,1) -> 0 | AK35: 100 | AL35: 100 | AM35: 100
A36: 3121160220145711 | B36: 분체도료 | C36: 메라코트 백색(소부도료) | D36: L | E36: 0 | G36: 10000 | H36: 617 | I36: 0 | K36: 10000 | L36: 599 | M36: 10000 | N36: 498 | O36: 0 | Q36: 0 | S36: 0 | U36: =ROUND(IF(MIN(E36,G36,I36,K36,M36,O36,Q36,S36)<0, MIN(E36,G36,I36,K36,M36,O36,Q36,S36), SMALL(E36:T36,COUNTIF(E36:T36,0)+1)) * 공사설정!$C$24 / 100*AK36/ 100, 1) -> 10000 | V36: =ROUND(0 * 공사설정!$C$25 / 100*AL36/ 100,1) -> 0 | W36: 0 | X36: 0 | Y36: 0 | Z36: 0 | AA36: 0 | AB36: 0 | AC36: 0 | AD36: 0 | AE36: =ROUND(IF(MIN(W36:AD36)=AVERAGE(W36:AD36), 0, IF(MIN(W36:AD36)<0, MIN(W36:AD36), SMALL(W36:AD36,COUNTIF(W36:AD36,0)+1))) * 공사설정!$C$26 / 100*AM36/ 100,1) -> 0 | AF36: 시공도 | AK36: 100 | AL36: 100 | AM36: 100
A37: 3121160220145712 | B37: 분체도료 | C37: 메라코트 프라이머 | D37: L | E37: 0 | G37: 7777.78 | H37: 617 | I37: 0 | K37: 7777.8 | L37: 599 | M37: 10000 | N37: 498 | O37: 0 | Q37: 0 | S37: 0 | U37: =ROUND(IF(MIN(E37,G37,I37,K37,M37,O37,Q37,S37)<0, MIN(E37,G37,I37,K37,M37,O37,Q37,S37), SMALL(E37:T37,COUNTIF(E37:T37,0)+1)) * 공사설정!$C$24 / 100*AK37/ 100, 1) -> 7777.8 | V37: =ROUND(0 * 공사설정!$C$25 / 100*AL37/ 100,1) -> 0 | W37: 0 | X37: 0 | Y37: 0 | Z37: 0 | AA37: 0 | AB37: 0 | AC37: 0 | AD37: 0 | AE37: =ROUND(IF(MIN(W37:AD37)=AVERAGE(W37:AD37), 0, IF(MIN(W37:AD37)<0, MIN(W37:AD37), SMALL(W37:AD37,COUNTIF(W37:AD37,0)+1))) * 공사설정!$C$26 / 100*AM37/ 100,1) -> 0 | AF37: 시공도 | AK37: 100 | AL37: 100 | AM37: 100
A38: 3121180322073040 | B38: 시너 | C38: 시너, KSM6060-1종, 알키드, 페놀에나멜 | D38: L | E38: 2700 | G38: 3794.4 | I38: 3722.22 | J38: 466 | K38: 3494.4 | L38: 588 | M38: 0 | O38: 0 | Q38: 0 | S38: 0 | U38: =ROUND(IF(MIN(E38,G38,I38,K38,M38,O38,Q38,S38)<0, MIN(E38,G38,I38,K38,M38,O38,Q38,S38), SMALL(E38:T38,COUNTIF(E38:T38,0)+1)) * 공사설정!$C$24 / 100*AK38/ 100, 1) -> 2700 | V38: =ROUND(0 * 공사설정!$C$25 / 100*AL38/ 100,1) -> 0 | W38: 0 | X38: 0 | Y38: 0 | Z38: 0 | AA38: 0 | AB38: 0 | AC38: 0 | AD38: 0 | AE38: =ROUND(IF(MIN(W38:AD38)=AVERAGE(W38:AD38), 0, IF(MIN(W38:AD38)<0, MIN(W38:AD38), SMALL(W38:AD38,COUNTIF(W38:AD38,0)+1))) * 공사설정!$C$26 / 100*AM38/ 100,1) -> 0 | AK38: 100 | AL38: 100 | AM38: 100
A39: 3121180322073041 | B39: 시너 | C39: 시너, KSM6060-2종, 조합페인트용 | D39: L | E39: 2700 | G39: 3477.8 | H39: 614 | I39: 3888.88 | J39: 466 | K39: 3583.3 | L39: 588 | M39: 0 | O39: 0 | Q39: 0 | S39: 0 | U39: =ROUND(IF(MIN(E39,G39,I39,K39,M39,O39,Q39,S39)<0, MIN(E39,G39,I39,K39,M39,O39,Q39,S39), SMALL(E39:T39,COUNTIF(E39:T39,0)+1)) * 공사설정!$C$24 / 100*AK39/ 100, 1) -> 2700 | V39: =ROUND(0 * 공사설정!$C$25 / 100*AL39/ 100,1) -> 0 | W39: 0 | X39: 0 | Y39: 0 | Z39: 0 | AA39: 0 | AB39: 0 | AC39: 0 | AD39: 0 | AE39: =ROUND(IF(MIN(W39:AD39)=AVERAGE(W39:AD39), 0, IF(MIN(W39:AD39)<0, MIN(W39:AD39), SMALL(W39:AD39,COUNTIF(W39:AD39,0)+1))) * 공사설정!$C$26 / 100*AM39/ 100,1) -> 0 | AK39: 100 | AL39: 100 | AM39: 100
A40: 4710153520106523 | B40: 청테이프 | C40: 별도 | D40: M | E40: 0 | G40: 0 | I40: 0 | K40: 0 | M40: 0 | O40: 0 | Q40: 0 | S40: 0 | U40: =0*AK40/ 100 -> 0 | V40: =ROUND(0 * 공사설정!$C$25 / 100*AL40/ 100,1) -> 0 | W40: 0 | X40: 0 | Y40: 0 | Z40: 0 | AA40: 0 | AB40: 0 | AC40: 0 | AD40: 0 | AE40: =ROUND(IF(MIN(W40:AD40)=AVERAGE(W40:AD40), 0, IF(MIN(W40:AD40)<0, MIN(W40:AD40), SMALL(W40:AD40,COUNTIF(W40:AD40,0)+1))) * 공사설정!$C$26 / 100*AM40/ 100,1) -> 0 | AK40: 100 | AL40: 100 | AM40: 100
A41: 4712181020938865 | B41: 공통자재 | C41: 넝마 | D41: kg | E41: 0 | G41: 0 | I41: 0 | K41: 0 | M41: 2000 | N41: Ⅱ-84 | O41: 0 | Q41: 0 | S41: 0 | U41: =ROUND(IF(MIN(E41,G41,I41,K41,M41,O41,Q41,S41)<0, MIN(E41,G41,I41,K41,M41,O41,Q41,S41), SMALL(E41:T41,COUNTIF(E41:T41,0)+1)) * 공사설정!$C$24 / 100*AK41/ 100, 1) -> 2000 | V41: =ROUND(0 * 공사설정!$C$25 / 100*AL41/ 100,1) -> 0 | W41: 0 | X41: 0 | Y41: 0 | Z41: 0 | AA41: 0 | AB41: 0 | AC41: 0 | AD41: 0 | AE41: =ROUND(IF(MIN(W41:AD41)=AVERAGE(W41:AD41), 0, IF(MIN(W41:AD41)<0, MIN(W41:AD41), SMALL(W41:AD41,COUNTIF(W41:AD41,0)+1))) * 공사설정!$C$26 / 100*AM41/ 100,1) -> 0 | AK41: 100 | AL41: 100 | AM41: 100
A42: 5213160120156350 | B42: 롤스크린 | C42: 무지방염 | D42: M2 | E42: 0 | G42: 0 | I42: 0 | K42: 30500 | L42: 702 | M42: 30000 | N42: 634 | O42: 0 | Q42: 0 | S42: 0 | U42: =ROUND(IF(MIN(E42,G42,I42,K42,M42,O42,Q42,S42)<0, MIN(E42,G42,I42,K42,M42,O42,Q42,S42), SMALL(E42:T42,COUNTIF(E42:T42,0)+1)) * 공사설정!$C$24 / 100*AK42/ 100, 1) -> 30000 | V42: =ROUND(0 * 공사설정!$C$25 / 100*AL42/ 100,1) -> 0 | W42: 0 | X42: 0 | Y42: 0 | Z42: 0 | AA42: 0 | AB42: 0 | AC42: 0 | AD42: 0 | AE42: =ROUND(IF(MIN(W42:AD42)=AVERAGE(W42:AD42), 0, IF(MIN(W42:AD42)<0, MIN(W42:AD42), SMALL(W42:AD42,COUNTIF(W42:AD42,0)+1))) * 공사설정!$C$26 / 100*AM42/ 100,1) -> 0 | AK42: 100 | AL42: 100 | AM42: 100
A43: 813J050000000041 | B43: 인테리어필름 | C43: Z:in , 0.42 x 1220mm NW (방염 프리미엄우드) | D43: M2 | E43: 0 | G43: 0 | I43: 0 | K43: 35000 | L43: 685 | M43: 0 | O43: 0 | Q43: 0 | S43: 0 | U43: =ROUND(IF(MIN(E43,G43,I43,K43,M43,O43,Q43,S43)<0, MIN(E43,G43,I43,K43,M43,O43,Q43,S43), SMALL(E43:T43,COUNTIF(E43:T43,0)+1)) * 공사설정!$C$24 / 100*AK43/ 100, 1) -> 35000 | V43: =ROUND(0 * 공사설정!$C$25 / 100*AL43/ 100,1) -> 0 | W43: 0 | X43: 0 | Y43: 0 | Z43: 0 | AA43: 0 | AB43: 0 | AC43: 0 | AD43: 0 | AE43: =ROUND(IF(MIN(W43:AD43)=AVERAGE(W43:AD43), 0, IF(MIN(W43:AD43)<0, MIN(W43:AD43), SMALL(W43:AD43,COUNTIF(W43:AD43,0)+1))) * 공사설정!$C$26 / 100*AM43/ 100,1) -> 0 | AF43: (주)LX하우시스 | AK43: 100 | AL43: 100 | AM43: 100
A44: ZA00000000000001 | B44: 백페인트글라스 | C44: 흰색 5mm | D44: M2 | E44: 0 | G44: 0 | I44: 0 | K44: 0 | M44: 0 | O44: 68480 | Q44: 0 | S44: 0 | U44: =ROUND(IF(MIN(E44,G44,I44,K44,M44,O44,Q44,S44)<0, MIN(E44,G44,I44,K44,M44,O44,Q44,S44), SMALL(E44:T44,COUNTIF(E44:T44,0)+1)) * 공사설정!$C$24 / 100*AK44/ 100, 1) -> 68480 | V44: =ROUND(0 * 공사설정!$C$25 / 100*AL44/ 100,1) -> 0 | W44: 0 | X44: 0 | Y44: 0 | Z44: 0 | AA44: 0 | AB44: 0 | AC44: 0 | AD44: 0 | AE44: =ROUND(IF(MIN(W44:AD44)=AVERAGE(W44:AD44), 0, IF(MIN(W44:AD44)<0, MIN(W44:AD44), SMALL(W44:AD44,COUNTIF(W44:AD44,0)+1))) * 공사설정!$C$26 / 100*AM44/ 100,1) -> 0 | AK44: 100 | AL44: 100 | AM44: 100
A45: ZA00000000000002 | B45: 매립 마카대 설치 | C45: 스테인리스 스틸 헤어라인 1.2T D90 | D45: M | E45: 0 | G45: 0 | I45: 0 | K45: 0 | M45: 0 | O45: 35000 | Q45: 0 | S45: 0 | U45: =ROUND(IF(MIN(E45,G45,I45,K45,M45,O45,Q45,S45)<0, MIN(E45,G45,I45,K45,M45,O45,Q45,S45), SMALL(E45:T45,COUNTIF(E45:T45,0)+1)) * 공사설정!$C$24 / 100*AK45/ 100, 1) -> 35000 | V45: =ROUND(0 * 공사설정!$C$25 / 100*AL45/ 100,1) -> 0 | W45: 0 | X45: 0 | Y45: 0 | Z45: 0 | AA45: 0 | AB45: 0 | AC45: 0 | AD45: 0 | AE45: =ROUND(IF(MIN(W45:AD45)=AVERAGE(W45:AD45), 0, IF(MIN(W45:AD45)<0, MIN(W45:AD45), SMALL(W45:AD45,COUNTIF(W45:AD45,0)+1))) * 공사설정!$C$26 / 100*AM45/ 100,1) -> 0 | AK45: 100 | AL45: 100 | AM45: 100
A46: ZA00000000000003 | B46: 템바보드붙임 | C46: THK12 반달 | D46: M2 | E46: 0 | G46: 0 | I46: 0 | K46: 0 | M46: 0 | O46: 41660 | Q46: 0 | S46: 0 | U46: =ROUND(IF(MIN(E46,G46,I46,K46,M46,O46,Q46,S46)<0, MIN(E46,G46,I46,K46,M46,O46,Q46,S46), SMALL(E46:T46,COUNTIF(E46:T46,0)+1)) * 공사설정!$C$24 / 100*AK46/ 100, 1) -> 41660 | V46: =ROUND(18183 * 공사설정!$C$25 / 100*AL46/ 100,1) -> 18183 | W46: 0 | X46: 0 | Y46: 0 | Z46: 0 | AA46: 0 | AB46: 0 | AC46: 0 | AD46: 0 | AE46: =ROUND(IF(MIN(W46:AD46)=AVERAGE(W46:AD46), 0, IF(MIN(W46:AD46)<0, MIN(W46:AD46), SMALL(W46:AD46,COUNTIF(W46:AD46,0)+1))) * 공사설정!$C$26 / 100*AM46/ 100,1) -> 0 | AK46: 100 | AL46: 100 | AM46: 100
A47: ZA00000000000004 | B47: TGD1 (도면참조) | C47: 기존도어 재사용 부속철물 일체 | D47: 식 | E47: 0 | G47: 0 | I47: 0 | K47: 0 | M47: 0 | O47: 1200000 | Q47: 0 | S47: 0 | U47: =ROUND(IF(MIN(E47,G47,I47,K47,M47,O47,Q47,S47)<0, MIN(E47,G47,I47,K47,M47,O47,Q47,S47), SMALL(E47:T47,COUNTIF(E47:T47,0)+1)) * 공사설정!$C$24 / 100*AK47/ 100, 1) -> 1200000 | V47: =ROUND(0 * 공사설정!$C$25 / 100*AL47/ 100,1) -> 0 | W47: 0 | X47: 0 | Y47: 0 | Z47: 0 | AA47: 0 | AB47: 0 | AC47: 0 | AD47: 0 | AE47: =ROUND(IF(MIN(W47:AD47)=AVERAGE(W47:AD47), 0, IF(MIN(W47:AD47)<0, MIN(W47:AD47), SMALL(W47:AD47,COUNTIF(W47:AD47,0)+1))) * 공사설정!$C$26 / 100*AM47/ 100,1) -> 0 | AK47: 100 | AL47: 100 | AM47: 100
A48: ZA00000000000005 | B48: PD1 (도면참조) | C48: 1000*2200 ABS도어 부속철물 일체 | D48: 식 | E48: 0 | G48: 0 | I48: 0 | K48: 0 | M48: 0 | O48: 430000 | Q48: 0 | S48: 0 | U48: =ROUND(IF(MIN(E48,G48,I48,K48,M48,O48,Q48,S48)<0, MIN(E48,G48,I48,K48,M48,O48,Q48,S48), SMALL(E48:T48,COUNTIF(E48:T48,0)+1)) * 공사설정!$C$24 / 100*AK48/ 100, 1) -> 430000 | V48: =ROUND(0 * 공사설정!$C$25 / 100*AL48/ 100,1) -> 0 | W48: 0 | X48: 0 | Y48: 0 | Z48: 0 | AA48: 0 | AB48: 0 | AC48: 0 | AD48: 0 | AE48: =ROUND(IF(MIN(W48:AD48)=AVERAGE(W48:AD48), 0, IF(MIN(W48:AD48)<0, MIN(W48:AD48), SMALL(W48:AD48,COUNTIF(W48:AD48,0)+1))) * 공사설정!$C$26 / 100*AM48/ 100,1) -> 0 | AK48: 100 | AL48: 100 | AM48: 100
A49: ZA00000000000006 | B49: TGW1 (도면참조) | C49: 2400*1300 금속프레임 포함 | D49: 식 | E49: 0 | G49: 0 | I49: 0 | K49: 0 | M49: 0 | O49: 960000 | Q49: 0 | S49: 0 | U49: =ROUND(IF(MIN(E49,G49,I49,K49,M49,O49,Q49,S49)<0, MIN(E49,G49,I49,K49,M49,O49,Q49,S49), SMALL(E49:T49,COUNTIF(E49:T49,0)+1)) * 공사설정!$C$24 / 100*AK49/ 100, 1) -> 960000 | V49: =ROUND(0 * 공사설정!$C$25 / 100*AL49/ 100,1) -> 0 | W49: 0 | X49: 0 | Y49: 0 | Z49: 0 | AA49: 0 | AB49: 0 | AC49: 0 | AD49: 0 | AE49: =ROUND(IF(MIN(W49:AD49)=AVERAGE(W49:AD49), 0, IF(MIN(W49:AD49)<0, MIN(W49:AD49), SMALL(W49:AD49,COUNTIF(W49:AD49,0)+1))) * 공사설정!$C$26 / 100*AM49/ 100,1) -> 0 | AK49: 100 | AL49: 100 | AM49: 100
A50: ZA00000000000007 | B50: 사인공사 | C50: 도면참조 | D50: 식 | E50: 0 | G50: 0 | I50: 0 | K50: 0 | M50: 0 | O50: 350000 | Q50: 0 | S50: 0 | U50: =ROUND(IF(MIN(E50,G50,I50,K50,M50,O50,Q50,S50)<0, MIN(E50,G50,I50,K50,M50,O50,Q50,S50), SMALL(E50:T50,COUNTIF(E50:T50,0)+1)) * 공사설정!$C$24 / 100*AK50/ 100, 1) -> 350000 | V50: =ROUND(500000 * 공사설정!$C$25 / 100*AL50/ 100,1) -> 500000 | W50: 0 | X50: 0 | Y50: 0 | Z50: 0 | AA50: 0 | AB50: 0 | AC50: 0 | AD50: 0 | AE50: =ROUND(IF(MIN(W50:AD50)=AVERAGE(W50:AD50), 0, IF(MIN(W50:AD50)<0, MIN(W50:AD50), SMALL(W50:AD50,COUNTIF(W50:AD50,0)+1))) * 공사설정!$C$26 / 100*AM50/ 100,1) -> 0 | AK50: 100 | AL50: 100 | AM50: 100
A51: ZA00000000000008 | B51: 아연도강판 부착 | C51: THK1.2 | D51: M2 | E51: 0 | G51: 0 | I51: 0 | K51: 0 | M51: 0 | O51: 19400 | Q51: 0 | S51: 0 | U51: =ROUND(IF(MIN(E51,G51,I51,K51,M51,O51,Q51,S51)<0, MIN(E51,G51,I51,K51,M51,O51,Q51,S51), SMALL(E51:T51,COUNTIF(E51:T51,0)+1)) * 공사설정!$C$24 / 100*AK51/ 100, 1) -> 19400 | V51: =ROUND(43489 * 공사설정!$C$25 / 100*AL51/ 100,1) -> 43489 | W51: 0 | X51: 0 | Y51: 0 | Z51: 0 | AA51: 0 | AB51: 0 | AC51: 0 | AD51: 0 | AE51: =ROUND(IF(MIN(W51:AD51)=AVERAGE(W51:AD51), 0, IF(MIN(W51:AD51)<0, MIN(W51:AD51), SMALL(W51:AD51,COUNTIF(W51:AD51,0)+1))) * 공사설정!$C$26 / 100*AM51/ 100,1) -> 0 | AK51: 100 | AL51: 100 | AM51: 100
A52: AOC120306000 | B52: 천장텍스설치 | C52: 흡음텍스(300 x 600㎜) | D52: M2 | E52: 695 | G52: 0 | I52: 0 | K52: 0 | M52: 0 | O52: 0 | Q52: 0 | S52: 0 | U52: =ROUND(IF(MIN(E52,G52,I52,K52,M52,O52,Q52,S52)<0, MIN(E52,G52,I52,K52,M52,O52,Q52,S52), SMALL(E52:T52,COUNTIF(E52:T52,0)+1)) * 공사설정!$C$24 / 100*AK52/ 100, 1) -> 695 | V52: =ROUND(13200 * 공사설정!$C$25 / 100*AL52/ 100,1) -> 13200 | W52: 0 | X52: 0 | Y52: 0 | Z52: 0 | AA52: 0 | AB52: 0 | AC52: 0 | AD52: 0 | AE52: =ROUND(IF(MIN(W52:AD52)=AVERAGE(W52:AD52), 0, IF(MIN(W52:AD52)<0, MIN(W52:AD52), SMALL(W52:AD52,COUNTIF(W52:AD52,0)+1))) * 공사설정!$C$26 / 100*AM52/ 100,1) -> 0 | AG52: 1 | AK52: 100 | AL52: 100 | AM52: 100
A53: L001010101000002 | B53: 보통인부 | C53: 일반공사 직종 | D53: 인 | E53: 0 | G53: 0 | I53: 0 | K53: 0 | M53: 0 | O53: 0 | Q53: 0 | S53: 0 | U53: =0*AK53/ 100 -> 0 | V53: =ROUND(172068 * 공사설정!$C$25 / 100*AL53/ 100,1) -> 172068 | W53: 0 | X53: 0 | Y53: 0 | Z53: 0 | AA53: 0 | AB53: 0 | AC53: 0 | AD53: 0 | AE53: =ROUND(IF(MIN(W53:AD53)=AVERAGE(W53:AD53), 0, IF(MIN(W53:AD53)<0, MIN(W53:AD53), SMALL(W53:AD53,COUNTIF(W53:AD53,0)+1))) * 공사설정!$C$26 / 100*AM53/ 100,1) -> 0 | AG53: B | AK53: 100 | AL53: 100 | AM53: 100
A54: L001010101000003 | B54: 특별인부 | C54: 일반공사 직종 | D54: 인 | E54: 0 | G54: 0 | I54: 0 | K54: 0 | M54: 0 | O54: 0 | Q54: 0 | S54: 0 | U54: =0*AK54/ 100 -> 0 | V54: =ROUND(226122 * 공사설정!$C$25 / 100*AL54/ 100,1) -> 226122 | W54: 0 | X54: 0 | Y54: 0 | Z54: 0 | AA54: 0 | AB54: 0 | AC54: 0 | AD54: 0 | AE54: =ROUND(IF(MIN(W54:AD54)=AVERAGE(W54:AD54), 0, IF(MIN(W54:AD54)<0, MIN(W54:AD54), SMALL(W54:AD54,COUNTIF(W54:AD54,0)+1))) * 공사설정!$C$26 / 100*AM54/ 100,1) -> 0 | AG54: B | AK54: 100 | AL54: 100 | AM54: 100
A55: L001010101000009 | B55: 철공 | C55: 일반공사 직종 | D55: 인 | E55: 0 | G55: 0 | I55: 0 | K55: 0 | M55: 0 | O55: 0 | Q55: 0 | S55: 0 | U55: =0*AK55/ 100 -> 0 | V55: =ROUND(239808 * 공사설정!$C$25 / 100*AL55/ 100,1) -> 239808 | W55: 0 | X55: 0 | Y55: 0 | Z55: 0 | AA55: 0 | AB55: 0 | AC55: 0 | AD55: 0 | AE55: =ROUND(IF(MIN(W55:AD55)=AVERAGE(W55:AD55), 0, IF(MIN(W55:AD55)<0, MIN(W55:AD55), SMALL(W55:AD55,COUNTIF(W55:AD55,0)+1))) * 공사설정!$C$26 / 100*AM55/ 100,1) -> 0 | AG55: B | AK55: 100 | AL55: 100 | AM55: 100
A56: L001010101000012 | B56: 용접공 | C56: 일반공사 직종 | D56: 인 | E56: 0 | G56: 0 | I56: 0 | K56: 0 | M56: 0 | O56: 0 | Q56: 0 | S56: 0 | U56: =0*AK56/ 100 -> 0 | V56: =ROUND(282536 * 공사설정!$C$25 / 100*AL56/ 100,1) -> 282536 | W56: 0 | X56: 0 | Y56: 0 | Z56: 0 | AA56: 0 | AB56: 0 | AC56: 0 | AD56: 0 | AE56: =ROUND(IF(MIN(W56:AD56)=AVERAGE(W56:AD56), 0, IF(MIN(W56:AD56)<0, MIN(W56:AD56), SMALL(W56:AD56,COUNTIF(W56:AD56,0)+1))) * 공사설정!$C$26 / 100*AM56/ 100,1) -> 0 | AG56: B | AK56: 100 | AL56: 100 | AM56: 100
A57: L001010101000023 | B57: 건축목공 | C57: 일반공사 직종 | D57: 인 | E57: 0 | G57: 0 | I57: 0 | K57: 0 | M57: 0 | O57: 0 | Q57: 0 | S57: 0 | U57: =0*AK57/ 100 -> 0 | V57: =ROUND(277642 * 공사설정!$C$25 / 100*AL57/ 100,1) -> 277642 | W57: 0 | X57: 0 | Y57: 0 | Z57: 0 | AA57: 0 | AB57: 0 | AC57: 0 | AD57: 0 | AE57: =ROUND(IF(MIN(W57:AD57)=AVERAGE(W57:AD57), 0, IF(MIN(W57:AD57)<0, MIN(W57:AD57), SMALL(W57:AD57,COUNTIF(W57:AD57,0)+1))) * 공사설정!$C$26 / 100*AM57/ 100,1) -> 0 | AG57: B | AK57: 100 | AL57: 100 | AM57: 100
A58: L001010101000025 | B58: 유리공 | C58: 일반공사 직종 | D58: 인 | E58: 0 | G58: 0 | I58: 0 | K58: 0 | M58: 0 | O58: 0 | Q58: 0 | S58: 0 | U58: =0*AK58/ 100 -> 0 | V58: =ROUND(253539 * 공사설정!$C$25 / 100*AL58/ 100,1) -> 253539 | W58: 0 | X58: 0 | Y58: 0 | Z58: 0 | AA58: 0 | AB58: 0 | AC58: 0 | AD58: 0 | AE58: =ROUND(IF(MIN(W58:AD58)=AVERAGE(W58:AD58), 0, IF(MIN(W58:AD58)<0, MIN(W58:AD58), SMALL(W58:AD58,COUNTIF(W58:AD58,0)+1))) * 공사설정!$C$26 / 100*AM58/ 100,1) -> 0 | AG58: B | AK58: 100 | AL58: 100 | AM58: 100
A59: L001010101000029 | B59: 도장공 | C59: 일반공사 직종 | D59: 인 | E59: 0 | G59: 0 | I59: 0 | K59: 0 | M59: 0 | O59: 0 | Q59: 0 | S59: 0 | U59: =0*AK59/ 100 -> 0 | V59: =ROUND(263017 * 공사설정!$C$25 / 100*AL59/ 100,1) -> 263017 | W59: 0 | X59: 0 | Y59: 0 | Z59: 0 | AA59: 0 | AB59: 0 | AC59: 0 | AD59: 0 | AE59: =ROUND(IF(MIN(W59:AD59)=AVERAGE(W59:AD59), 0, IF(MIN(W59:AD59)<0, MIN(W59:AD59), SMALL(W59:AD59,COUNTIF(W59:AD59,0)+1))) * 공사설정!$C$26 / 100*AM59/ 100,1) -> 0 | AG59: B | AK59: 100 | AL59: 100 | AM59: 100
A60: L001010101000030 | B60: 내장공 | C60: 일반공사 직종 | D60: 인 | E60: 0 | G60: 0 | I60: 0 | K60: 0 | M60: 0 | O60: 0 | Q60: 0 | S60: 0 | U60: =0*AK60/ 100 -> 0 | V60: =ROUND(256883 * 공사설정!$C$25 / 100*AL60/ 100,1) -> 256883 | W60: 0 | X60: 0 | Y60: 0 | Z60: 0 | AA60: 0 | AB60: 0 | AC60: 0 | AD60: 0 | AE60: =ROUND(IF(MIN(W60:AD60)=AVERAGE(W60:AD60), 0, IF(MIN(W60:AD60)<0, MIN(W60:AD60), SMALL(W60:AD60,COUNTIF(W60:AD60,0)+1))) * 공사설정!$C$26 / 100*AM60/ 100,1) -> 0 | AG60: B | AK60: 100 | AL60: 100 | AM60: 100
A61: 0000221001450000 | B61: 건설용 리프트(인화물용) | C61: 1 톤 X 45 m | D61: 대 | E61: 0 | G61: 0 | I61: 0 | K61: 0 | M61: 0 | O61: 0 | Q61: 0 | S61: 0 | U61: =0*AK61/ 100 -> 0 | V61: =ROUND(0 * 공사설정!$C$25 / 100*AL61/ 100,1) -> 0 | W61: 0 | X61: 0 | Y61: 0 | Z61: 0 | AA61: 0 | AB61: 250420 | AC61: 0 | AD61: 0 | AE61: =ROUND(IF(MAX(W61:AD61)>0, MAX(W61:AD61), LARGE(W61:AD61,COUNTIF(W61:AD61,0)+1)) * 공사설정!$C$26 / 100*AM61/ 100,1) -> 250420 | AF61: 천원 | AG61: C | AK61: 100 | AL61: 100 | AM61: 100
A62: E001010115010520 | B62: 혼합건설폐기물 | C62: 그 밖의 건설폐기물에 가연성 5% 이하 혼합 | D62: TON | E62: 0 | G62: 0 | I62: 0 | K62: 0 | M62: 0 | O62: 0 | Q62: 0 | S62: 0 | U62: =0*AK62/ 100 -> 0 | V62: =ROUND(0 * 공사설정!$C$25 / 100*AL62/ 100,1) -> 0 | W62: 0 | X62: 0 | Y62: 0 | Z62: 0 | AA62: 0 | AB62: 0 | AC62: 192887 | AD62: 0 | AE62: =ROUND(IF(MAX(W62:AD62)>0, MAX(W62:AD62), LARGE(W62:AD62,COUNTIF(W62:AD62,0)+1)) * 공사설정!$C$26 / 100*AM62/ 100,1) -> 192887 | AG62: C | AK62: 100 | AL62: 100 | AM62: 100
A63: E001010115010612 | B63: 폐목재 | C63: 처리비/나무창문틀,가구 | D63: TON | E63: 0 | G63: 0 | I63: 0 | K63: 0 | M63: 0 | O63: 0 | P63: '20년 교육청 | Q63: 0 | S63: 0 | U63: =0*AK63/ 100 -> 0 | V63: =ROUND(0 * 공사설정!$C$25 / 100*AL63/ 100,1) -> 0 | W63: 0 | X63: 0 | Y63: 0 | Z63: 0 | AA63: 0 | AB63: 95340 | AC63: 95340 | AD63: 0 | AE63: =ROUND(IF(MAX(W63:AD63)>0, MAX(W63:AD63), LARGE(W63:AD63,COUNTIF(W63:AD63,0)+1)) * 공사설정!$C$26 / 100*AM63/ 100,1) -> 95340 | AG63: C | AK63: 100 | AL63: 100 | AM63: 100

Sheet 공사설정
A1: 이 Sheet는 수정하지 마십시요
B2: 공사구분 | C2: A
B3: 확정내역 | C3: 원내역
B4: 자재단가적용 | C4: 5
B5: 노무비단가적용 | C5: 5
B6: 경비단가적용 | C6: 9
B7: 품목코드형식 | C7: XXXXXXXXXXXXXXXXX
B8: 내역금액소수점처리 | C8: C | D8: 1
B9: 일위대가내역소수점처리 | C9: C | D9: 2
B10: 단가명 | C10: 조달청가격 | D10: 거래가격 | E10: 유통물가 | F10: 물가자료 | G10: 물가정보 | H10: 조사가격1 | I10: 조사가격2 | J10: 조사가격3 | K10: TTTTTTTT
B11: 환율 | C11: 1427 | D11: 932 | E11: 0
B12: 시간당작업량 | C12: R | D12: 5
B13: 1회 사이클시간 | C13: R | D13: 5
B14: 시간당 작업사이클 | C14: R | D14: 4
B15: 일반변수 | C15: C | D15: 6
B16: 시간당 노임산출 계수 | C16: A | D16: 1/8*16/12*25/20 | E16: 1/8*16/12*25/20*24/15 | F16: 1/8*16/12*25/20*12/10 | G16: 1
B17: 재료비 할증 계수 | C17: 1.11 | D17: 1.12
B18: 노무비 할증 계수 | C18: 1 | D18: 1.5 | E18: 1.16 | F18: 1.6 | G18: 1.6 | H18: 1.6 | I18: 1.94 | J18: 1.94 | K18: 1.94 | L18: 1 | M18: 1 | N18: 1
B19: 경비 할증 계수 | C19: 1.25 | D19: 1.071
B20: 내역,일위대가 품명,규격,단위 따로적용
B21: 내역단가 소수점처리 | C21: C | D21: 1
B22: 코드 | C22: 공종구분명 | D22: 원가비목코드
B23: 1 | C23: 미확인 데이터 | D23: 미확인 데이터
B24: 재료비 단가 적용률 | C24: 100
B25: 노무비 단가 적용률 | C25: 100
B26: 경비 단가 적용률 | C26: 100
