Workbook

Sheet 설계서용지
B1: 설 계 서 용 지
B3: 확 인 | E3: 설 계 | H3: 2026년 5월 일 설 계
D5: 2026학년도
D7: 공 사 명 : | F7: 공용 스마트 교육공간 인프라 구축 건축공사
D9: 설계공사금액 : | F9: =" 금"&TEXT(원가계산서!E30, "#,###원")&" (금"&NUMBERSTRING(원가계산서!E30, 1)&"원)" -> 금원 (금영원)

Sheet 갑지A
B1: 설 계 서 용 지 (갑 지)
B2: 과장 | E2: 담당 | H2: 검수자 | K2: 설계자 | N2: 2026년 4월 30일 설계
C4: 2026년
C6: 공용 스마트 교육공간 인프라 구축(건축)
C8: 개 요 : 공용 스마트 교육공간 인프라 구축(건축)
C10: 총공사비 : | E10: =" 일금 "&NUMBERSTRING(G15, 1)&"원정 ("&TEXT(G15, "#,###원")&")" -> 일금 영원정 (원)
D12: 도급금액 | E12: 공급가액 | G12: =원가계산서!E26 -> 0
E13: 부가세 | G13: =원가계산서!E27 -> 0
E14: 도급액 | G14: =원가계산서!E28 -> 0
D15: 총 공 사 비 | G15: =TRUNC(G14, -4) -> 0 | J15: 천원단위절삭

Sheet 원가계산서
A1: 공 사 원 가 계 산 서
A2: ="[" & 설계서용지!F7 & "]" -> [공용 스마트 교육공간 인프라 구축 건축공사] | F2: ="금액: 일금 "&NUMBERSTRING(E30,1)&"원정("&TEXT(E30,"#,###원")&")" -> 금액: 일금 영원정(원)
B3: 비 목 | E3: 금 액 | F3: 구 성 비 | G3: 비 고 | H3: A | I3: 8
A4: A10 | B4: 순 공 사 원 가 | C4: 재 료 비 | D4: 직 접 재 료 비 | E4: =TRUNC(공종별집계표!F5, 0) -> 0 | H4: 100 | I4: 직 접 재 료 비 | J4: 0 | K4: 56401047 | L4: 56401047 | M4: 0 | N4: 20120321 | O4: ZZ0000100000
A5: A20 | D5: 간 접 재 료 비 | E5: =TRUNC(, 0) -> 0 | H5: 110 | I5: 간 접 재 료 비 | J5: 0 | L5: 0 | M5: 0 | O5: YZA001000000
A6: A30 | D6: 작업설,부산물(△) | E6: =TRUNC(, 0) -> 0 | H6: 120 | I6: 작업설,부산물(△) | J6: 0 | L6: 0 | M6: 0 | O6: YZA002000000
A7: AZZ | D7: [ 소 계 ] | E7: =TRUNC(E4+E5-E6, 0) -> 0 | H7: 190 | I7: [ 소 계 ] | J7: 0 | K7: A10+A20-A30 | L7: 56401047 | M7: 0 | O7: YZS001000000
A8: B10 | C8: 노 무 비 | D8: 직 접 노 무 비 | E8: =TRUNC(공종별집계표!H5, 0) -> 0 | H8: 200 | I8: 직 접 노 무 비 | J8: 0 | K8: 28861908 | L8: 28861908 | M8: 0 | O8: ZZA000100000
A9: B20 | D9: 간 접 노 무 비 | E9: =TRUNC(E8*0.12, 0) -> 0 | F9: 직접노무비* 12% | H9: 210 | I9: 간 접 노 무 비 | J9: 15 | K9: B10*%% | L9: 4329286 | M9: 0 | O9: ZZA000200000
A10: BZZ | D10: [ 소 계 ] | E10: =TRUNC(E8+E9, 0) -> 0 | H10: 290 | I10: [ 소 계 ] | J10: 0 | K10: B10+B20 | L10: 33191194 | M10: 0 | O10: YZS002000000
A11: C30 | C11: 경 비 | D11: 산출경비(기계경비) | E11: =TRUNC(공종별집계표!J5, 0) -> 0 | H11: 3100 | I11: 산출경비(기계경비) | J11: 0 | K11: 1990889 | L11: 1990889 | M11: 0 | O11: ZZB000100000
A12: C90 | D12: 산 재 보 험 료 | E12: =TRUNC(E10*0.0356, 0) -> 0 | F12: 노무비*3.56% | G12: 모든 건설공사 | H12: 3300 | I12: 산 재 보 험 료 | J12: 3.56 | K12: BZZ*%% | L12: 1181606 | M12: 0 | O12: ZZB110100000
A13: CA0 | D13: 고 용 보 험 료 | E13: =TRUNC(E10*0.0101, 0) -> 0 | F13: 노무비 * 1.01% | G13: [7등급+7등급미만] 130억 미만 ~ 81억(고시금액) 이상 | H13: 3400 | I13: 고 용 보 험 료 | J13: 1.01 | K13: BZZ*%% | L13: 335231 | M13: 0 | O13: ZZB120100000
A14: CB0 | D14: 국민 건강 보험료 | E14: =TRUNC(E8*0, 0) -> 0 | F14: 직접노무비* 3.595% | G14: 공사기간 1개월미만 제외 | H14: 3500 | I14: 국민 건강 보험료 | J14: 3.595 | K14: B10*%% | L14: 1037585 | M14: 0 | O14: ZZB130100000
A15: CC0 | D15: 국민 연금 보험료 | E15: =TRUNC(E8*0, 0) -> 0 | F15: 직접노무비 * 4.75% | G15: 공사기간 1개월미만 제외 | H15: 3600 | I15: 국민 연금 보험료 | J15: 4.75 | K15: B10*%% | L15: 1370940 | M15: 0 | O15: ZZB140100000
A16: CD0 | D16: 노인장기요양보험료 | E16: =TRUNC(E14*0.1314, 0) -> 0 | F16: 건강보험료* 13.14% | G16: 공사기간 1개월미만 제외 | H16: 3750 | I16: 노인장기요양보험료 | J16: 13.14 | K16: CB0*%% | L16: 136338 | M16: 0 | O16: ZZB130200000
A17: CE0 | D17: 퇴직 공제 부금비 | F17: 직접노무비 * 2.3% | G17: 추정금액 50억원이상 건설공사 | H17: 3775 | I17: 퇴직 공제 부금비 | J17: 2.3 | K17: B10*%% | L17: 663823 | M17: 0 | O17: ZZB200100000
A18: CH0 | D18: 산업안전보건관리비 | E18: =TRUNC((E7+E8+0/1.1)*0.0311, 0) -> 0 | F18: (재료비+직노+도급자관급) * 3.11% | G18: 5억미만, 일반건설공사(갑) | H18: 3900 | I18: 산업안전보건관리비 | J18: 3.11 | K18: (AZZ+B10+Q10/1.1)*%% | L18: 2651677 | M18: 0 | O18: ZZB300100000
A19: CQ0 | D19: 환경보전비 | E19: =TRUNC((E7+E8+E11)*0.005, 0) -> 0 | F19: (재료비+직노+기계경비) * 0.5% | H19: 4600 | I19: 환경보전비 | J19: 0.5 | K19: (AZZ+B10+C30)*%% | L19: 436269 | M19: 0 | O19: ZZB700100000
A20: CT0 | D20: 기 타 경 비 | E20: =TRUNC((E7+E10)*0.046, 0) -> 0 | F20: (재료비+노무비)* 4.6% | H20: 4700 | I20: 기 타 경 비 | J20: 4.6 | K20: (AZZ+BZZ)*%% | L20: 4121243 | M20: 0 | O20: ZZB400100000
A21: CZZ | D21: [ 소 계 ] | E21: =TRUNC(0+E11+0+0+E12+E13+E14+E15+E16+E17+0+E18+0+0+0+0+E19+E20+0+0+0+0+0, 0) -> 0 | H21: 9910 | I21: [ 소 계 ] | J21: 0 | K21: C20+C30+C60+C70+C90+CA0+CB0+CC0+CD0+CE0+CE1+CH0+CH1+CH2+CH3+CH4+CQ0+CT0+CT1+CT2+CU0+CV0+CW0 | L21: 13925601 | M21: 0 | O21: YZS003000000
A22: DZZ | B22: 계 | E22: =TRUNC(E7+E10+E21, 0) -> 0 | H22: 900710 | I22: 계 | J22: 0 | K22: AZZ+BZZ+CZZ | L22: 103517842 | M22: 0 | O22: YZS004000000
A23: E10 | B23: 일 반 관 리 비 | E23: =TRUNC(E22*0.06, 0) -> 0 | F23: 계 * 6% | H23: 900810 | I23: 일 반 관 리 비 | J23: 8 | K23: DZZ*%% | L23: 8281427 | M23: 0 | O23: ZZC000100000
A24: E20 | B24: 이 윤 | E24: =TRUNC((E10+E21+E23)*0.12, 0) -> 0 | F24: (노무비+경비+일반관리비) * 12% | H24: 900820 | I24: 이 윤 | J24: 15 | K24: (BZZ+CZZ+E10)*%% | L24: 8309733 | M24: 0 | O24: ZZD000100000
B25: 폐 기 물 처 리 비 | E25: =공종별집계표!L8 -> 0
A26: P10 | B26: 공 급 가 액 | E26: =TRUNC(E22+E23+E24+E25, 0) -> 0 | H26: 900900 | I26: 공 급 가 액 | J26: 0 | K26: DZZ+E10+E20+CE1+F30+F40+F10+F60+F70 | L26: 120109002 | M26: 0 | O26: YZD007000000
A27: P20 | B27: 부 가 가 치 세 | E27: =TRUNC(E26*0.1, 0) -> 0 | F27: 공급가액 * 10% | H27: 900920 | I27: 부 가 가 치 세 | J27: 10 | K27: P10*%% | L27: 12010900 | M27: 0 | O27: ZZF000100000
A28: P30 | B28: 도 급 액 | E28: =TRUNC(E26+E27, 0) -> 0 | H28: 900990 | I28: 도 급 액 | J28: 0 | K28: P10+P20 | L28: 132119902 | M28: 0 | O28: YZD014000000
A29: P40 | B29: 총 원 가 | E29: =TRUNC(, 0) -> 0 | H29: 900910 | I29: 총 원 가 | J29: 0 | L29: 0 | M29: 0 | O29: YZDH00100000
A30: W10 | B30: 총 공 사 비 | E30: =TRUNC(E28, -4) -> 0 | F30: 천단위 이하 버림 | H30: 1001100 | I30: 총 공 사 비 | J30: 0 | K30: P30+Q10+Q20+Q30+Q40+Q50+Q60 | L30: 132119902 | M30: 0 | O30: YZS005000000
A31: ZZZ | B31: 결 정 금 액 | E31: =TRUNC(, 0) -> 0 | H31: 1001300 | I31: 결 정 금 액 | J31: 0 | L31: 0 | M31: 0 | O31: YZS007000000

Sheet 공종별집계표
A1: 공 종 별 집 계 표
A2: ="[" & 설계서용지!F7 & "]" -> [공용 스마트 교육공간 인프라 구축 건축공사]
A3: 품 목 | B3: 규 격 | C3: 단위 | D3: 수량 | E3: 재 료 비 | G3: 노 무 비 | I3: 경 비 | K3: 합 계 | M3: 비 고
E4: 단 가 | F4: 금 액 | G4: 단 가 | H4: 금 액 | I4: 단 가 | J4: 금 액 | K4: 단 가 | L4: 금 액
A5: 01 공용 스마트 교육공간 인프라 구축(건축) | D5: 1 | E5: =F6+F7+F9+F11+F12+F13+F14+F10 -> 0 | F5: =D5*E5 -> 0 | G5: =H6+H7+H9+H11+H12+H13+H14+H10 -> 0 | H5: =D5*G5 -> 0 | I5: =J6+J7+J9+J11+J12+J13+J14+J10 -> 0 | J5: =D5*I5 -> 0 | K5: =E5+G5+I5 -> 0 | L5: =F5+H5+J5 -> 0 | N5: 01 | O5: 100000
A6: 0101 가설공사 | D6: 1 | E6: =공종별내역서!F26 -> 0 | F6: =D6*E6 -> 0 | G6: =공종별내역서!H26 -> 0 | H6: =D6*G6 -> 0 | I6: =공종별내역서!J26 -> 0 | J6: =D6*I6 -> 0 | K6: =E6+G6+I6 -> 0 | L6: =F6+H6+J6 -> 0 | N6: 0101 | O6: 239729 | S6: =HYPERLINK("#공종별내역서!A5", "▶바로가기") -> ▶바로가기
A7: 0102 철거공사 | D7: 1 | E7: =공종별내역서!F48 -> 0 | F7: =D7*E7 -> 0 | G7: =공종별내역서!H48 -> 0 | H7: =D7*G7 -> 0 | I7: =공종별내역서!J48 -> 0 | J7: =D7*I7 -> 0 | K7: =E7+G7+I7 -> 0 | L7: =F7+H7+J7 -> 0 | N7: 0102 | O7: 385632 | S7: =HYPERLINK("#공종별내역서!A27", "▶바로가기") -> ▶바로가기
A8: 0103 폐기물처리비 | D8: 1 | E8: =공종별내역서!F70 -> 0 | F8: =D8*E8 -> 0 | G8: =공종별내역서!H70 -> 0 | H8: =D8*G8 -> 0 | I8: =공종별내역서!J70 -> 0 | J8: =D8*I8 -> 0 | K8: =E8+G8+I8 -> 0 | L8: =F8+H8+J8 -> 0 | M8: 합산 제외 | N8: 0103 | O8: 454493 | S8: =HYPERLINK("#공종별내역서!A49", "▶바로가기") -> ▶바로가기
A9: 0104 목공사 | D9: 1 | E9: =공종별내역서!F92 -> 0 | F9: =D9*E9 -> 0 | G9: =공종별내역서!H92 -> 0 | H9: =D9*G9 -> 0 | I9: =공종별내역서!J92 -> 0 | J9: =D9*I9 -> 0 | K9: =E9+G9+I9 -> 0 | L9: =F9+H9+J9 -> 0 | N9: 0104 | O9: 592989 | S9: =HYPERLINK("#공종별내역서!A71", "▶바로가기") -> ▶바로가기
A10: 0105 도장공사 | D10: 1 | E10: =공종별내역서!F114 -> 0 | F10: =D10*E10 -> 0 | G10: =공종별내역서!H114 -> 0 | H10: =D10*G10 -> 0 | I10: =공종별내역서!J114 -> 0 | J10: =D10*I10 -> 0 | K10: =E10+G10+I10 -> 0 | L10: =F10+H10+J10 -> 0 | N10: 0105 | O10: 592990 | S10: =HYPERLINK("#공종별내역서!A93", "▶바로가기") -> ▶바로가기
A11: 0106 수장공사 | D11: 1 | E11: =공종별내역서!F136 -> 0 | F11: =D11*E11 -> 0 | G11: =공종별내역서!H136 -> 0 | H11: =D11*G11 -> 0 | I11: =공종별내역서!J136 -> 0 | J11: =D11*I11 -> 0 | K11: =E11+G11+I11 -> 0 | L11: =F11+H11+J11 -> 0 | N11: 0106 | O11: 670283 | S11: =HYPERLINK("#공종별내역서!A115", "▶바로가기") -> ▶바로가기
A12: 0107 창호및유리공사 | D12: 1 | E12: =공종별내역서!F158 -> 0 | F12: =D12*E12 -> 0 | G12: =공종별내역서!H158 -> 0 | H12: =D12*G12 -> 0 | I12: =공종별내역서!J158 -> 0 | J12: =D12*I12 -> 0 | K12: =E12+G12+I12 -> 0 | L12: =F12+H12+J12 -> 0 | N12: 0107 | O12: 805137 | S12: =HYPERLINK("#공종별내역서!A137", "▶바로가기") -> ▶바로가기
A13: 0108 금속공사 | D13: 1 | E13: =공종별내역서!F180 -> 0 | F13: =D13*E13 -> 0 | G13: =공종별내역서!H180 -> 0 | H13: =D13*G13 -> 0 | I13: =공종별내역서!J180 -> 0 | J13: =D13*I13 -> 0 | K13: =E13+G13+I13 -> 0 | L13: =F13+H13+J13 -> 0 | N13: 0108 | O13: 935666 | S13: =HYPERLINK("#공종별내역서!A159", "▶바로가기") -> ▶바로가기
A14: 0109 기타공사 | D14: 1 | E14: =공종별내역서!F202 -> 0 | F14: =D14*E14 -> 0 | G14: =공종별내역서!H202 -> 0 | H14: =D14*G14 -> 0 | I14: =공종별내역서!J202 -> 0 | J14: =D14*I14 -> 0 | K14: =E14+G14+I14 -> 0 | L14: =F14+H14+J14 -> 0 | N14: 0109 | O14: 1062255 | S14: =HYPERLINK("#공종별내역서!A181", "▶바로가기") -> ▶바로가기
A29: [ 합 계 ] | F29: =F5 -> 0 | H29: =H5 -> 0 | J29: =J5 -> 0 | L29: =L5 -> 0

Sheet 공종별내역서
A1: 공 종 별 내 역 서
A2: ="[" & 설계서용지!F7 & "]" -> [공용 스마트 교육공간 인프라 구축 건축공사]
A3: 품 목 | B3: 규 격 | C3: 단위 | D3: 수량 | E3: 재 료 비 | G3: 노 무 비 | I3: 경 비 | K3: 합 계 | M3: 비 고 | N3: 품목코드 | O3: 변수 | P3: 설정 | Q3: 공종코드 | R3: SEQNO | S3: ITEMSEQNO | T3: 일위 | U3: 단산 | V3: 자재 | W3: 산근 | X3: 손료적용 | Y3: 손료저장 | Z3: 적용률 | AA3: JUK1 | AB3: JUK2 | AC3: JUK3 | AD3: JUK4 | AE3: JUK5 | AF3: JUK6 | AG3: JUK7 | AH3: JUK8 | AI3: JUK9 | AJ3: JUK10 | AK3: JUK11 | AL3: JUK12 | AM3: JUK13 | AN3: JUK14 | AO3: JUK15 | AP3: JUK16 | AQ3: JUK17 | AR3: JUK18 | AS3: JUK19 | AT3: JUK20 | AU3: 메모장 | AV3: 조정률
E4: 단 가 | F4: 금 액 | G4: 단 가 | H4: 금 액 | I4: 단 가 | J4: 금 액 | K4: 단 가 | L4: 금 액
A5: 0101 가설공사 | Q5: 0101 | R5: 239729 | S5: 0
A6: 먹매김 | B6: 사무공간, 교육장, 회의·강연장 | C6: M2 | D6: 286.78 | N6: =HYPERLINK("#일위대가목록!A4", "IA0000000500") -> IA0000000500 | Q6: 0101 | R6: 239729 | S6: 20 | T6: T | U6: F | V6: F | X6: 0 | Y6: 0 | Z6: 0 | AA6: 0 | AB6: 0 | AC6: 0 | AD6: 0 | AE6: 0 | AF6: 0 | AG6: 0 | AH6: 0 | AI6: 2 | AJ6: 0 | AK6: 0 | AL6: 0 | AM6: 0 | AN6: 0 | AO6: 0 | AP6: 0 | AQ6: 0 | AR6: 0 | AS6: 0 | AT6: 0 | AV6: 100 | AY6: =HYPERLINK("#일위대가목록!A4", "▶바로가기") -> ▶바로가기
A7: 자재 소운반 | B7: 15층 이하 기준 | C7: M2 | D7: 286.78 | N7: =HYPERLINK("#일위대가목록!A5", "IA0000002000") -> IA0000002000 | Q7: 0101 | R7: 239729 | S7: 30 | T7: T | U7: F | V7: F | X7: 0 | Y7: 0 | Z7: 0 | AA7: 0 | AB7: 0 | AC7: 0 | AD7: 0 | AE7: 0 | AF7: 0 | AG7: 0 | AH7: 0 | AI7: 2 | AJ7: 0 | AK7: 0 | AL7: 0 | AM7: 0 | AN7: 0 | AO7: 0 | AP7: 0 | AQ7: 0 | AR7: 0 | AS7: 0 | AT7: 0 | AV7: 100 | AY7: =HYPERLINK("#일위대가목록!A5", "▶바로가기") -> ▶바로가기
A8: 보양 | B8: 합판, T=3 | C8: M2 | D8: 6.8 | N8: =HYPERLINK("#일위대가목록!A6", "IA0000003000") -> IA0000003000 | Q8: 0101 | R8: 239729 | S8: 35 | T8: T | U8: F | V8: F | X8: 0 | Y8: 0 | Z8: 0 | AA8: 0 | AB8: 0 | AC8: 0 | AD8: 0 | AE8: 0 | AF8: 0 | AG8: 0 | AH8: 0 | AI8: 2 | AJ8: 0 | AK8: 0 | AL8: 0 | AM8: 0 | AN8: 0 | AO8: 0 | AP8: 0 | AQ8: 0 | AR8: 0 | AS8: 0 | AT8: 0 | AV8: 100 | AY8: =HYPERLINK("#일위대가목록!A6", "▶바로가기") -> ▶바로가기
A9: 준공청소 | B9: 1회 기준 | C9: M2 | D9: 286.78 | M9: 별도 | N9: =HYPERLINK("#일위대가목록!A7", "IA0000003500") -> IA0000003500 | Q9: 0101 | R9: 239729 | S9: 40 | T9: T | U9: F | V9: F | X9: 0 | Y9: 0 | Z9: 0 | AA9: 0 | AB9: 0 | AC9: 0 | AD9: 0 | AE9: 0 | AF9: 0 | AG9: 0 | AH9: 0 | AI9: 2 | AJ9: 0 | AK9: 0 | AL9: 0 | AM9: 0 | AN9: 0 | AO9: 0 | AP9: 0 | AQ9: 0 | AR9: 0 | AS9: 0 | AT9: 0 | AV9: 100 | AY9: =HYPERLINK("#일위대가목록!A7", "▶바로가기") -> ▶바로가기
D10: 0 | AV10: 0
D11: 0 | AV11: 0
D12: 0 | AV12: 0
D13: 0 | AV13: 0
D14: 0 | AV14: 0
D15: 0 | AV15: 0
D16: 0 | AV16: 0
D17: 0 | AV17: 0
D18: 0 | AV18: 0
D19: 0 | AV19: 0
D20: 0 | AV20: 0
D21: 0 | AV21: 0
... D25: 0 | AV25: 0
A26: [ 합 계 ]
A27: 0102 철거공사 | Q27: 0102 | R27: 385632 | S27: 0
A28: 경량 구조틀 철거 | C28: M2 | D28: 6 | N28: =HYPERLINK("#일위대가목록!A8", "IB0000003400") -> IB0000003400 | Q28: 0102 | R28: 385632 | S28: 10 | T28: T | U28: F | V28: F | X28: 0 | Y28: 0 | Z28: 0 | AA28: 0 | AB28: 0 | AC28: 0 | AD28: 0 | AE28: 0 | AF28: 0 | AG28: 0 | AH28: 0 | AI28: 3 | AJ28: 0 | AK28: 0 | AL28: 0 | AM28: 0 | AN28: 0 | AO28: 0 | AP28: 0 | AQ28: 0 | AR28: 0 | AS28: 0 | AT28: 0 | AV28: 100 | AY28: =HYPERLINK("#일위대가목록!A8", "▶바로가기") -> ▶바로가기
A29: 합판 또는 판재류 철거 | B29: 벽체, 2PLY | C29: M2 | D29: 11.52 | N29: =HYPERLINK("#일위대가목록!A9", "IB0000004100") -> IB0000004100 | Q29: 0102 | R29: 385632 | S29: 20 | T29: T | U29: F | V29: F | X29: 0 | Y29: 0 | Z29: 0 | AA29: 0 | AB29: 0 | AC29: 0 | AD29: 0 | AE29: 0 | AF29: 0 | AG29: 0 | AH29: 0 | AI29: 3 | AJ29: 0 | AK29: 0 | AL29: 0 | AM29: 0 | AN29: 0 | AO29: 0 | AP29: 0 | AQ29: 0 | AR29: 0 | AS29: 0 | AT29: 0 | AV29: 100 | AY29: =HYPERLINK("#일위대가목록!A9", "▶바로가기") -> ▶바로가기
A30: 카페트 및 비닐 시트류 철거 | C30: M2 | D30: 2.13 | N30: =HYPERLINK("#일위대가목록!A10", "IB0000004600") -> IB0000004600 | Q30: 0102 | R30: 385632 | S30: 30 | T30: T | U30: F | V30: F | X30: 0 | Y30: 0 | Z30: 0 | AA30: 0 | AB30: 0 | AC30: 0 | AD30: 0 | AE30: 0 | AF30: 0 | AG30: 0 | AH30: 0 | AI30: 3 | AJ30: 0 | AK30: 0 | AL30: 0 | AM30: 0 | AN30: 0 | AO30: 0 | AP30: 0 | AQ30: 0 | AR30: 0 | AS30: 0 | AT30: 0 | AV30: 100 | AY30: =HYPERLINK("#일위대가목록!A10", "▶바로가기") -> ▶바로가기
A31: 유리프레임 철거 | B31: 150×50 기준 | C31: M | D31: 9.2 | N31: =HYPERLINK("#일위대가목록!A11", "IB0000005500") -> IB0000005500 | Q31: 0102 | R31: 385632 | S31: 40 | T31: T | U31: F | V31: F | X31: 0 | Y31: 0 | Z31: 0 | AA31: 0 | AB31: 0 | AC31: 0 | AD31: 0 | AE31: 0 | AF31: 0 | AG31: 0 | AH31: 0 | AI31: 3 | AJ31: 0 | AK31: 0 | AL31: 0 | AM31: 0 | AN31: 0 | AO31: 0 | AP31: 0 | AQ31: 0 | AR31: 0 | AS31: 0 | AT31: 0 | AV31: 100 | AY31: =HYPERLINK("#일위대가목록!A11", "▶바로가기") -> ▶바로가기
A32: 유리 철거 | B32: T=12, 일반유리 기준 | C32: M2 | D32: 1.2 | N32: =HYPERLINK("#일위대가목록!A12", "IB0000005200") -> IB0000005200 | Q32: 0102 | R32: 385632 | S32: 50 | T32: T | U32: F | V32: F | X32: 0 | Y32: 0 | Z32: 0 | AA32: 0 | AB32: 0 | AC32: 0 | AD32: 0 | AE32: 0 | AF32: 0 | AG32: 0 | AH32: 0 | AI32: 3 | AJ32: 0 | AK32: 0 | AL32: 0 | AM32: 0 | AN32: 0 | AO32: 0 | AP32: 0 | AQ32: 0 | AR32: 0 | AS32: 0 | AT32: 0 | AV32: 100 | AY32: =HYPERLINK("#일위대가목록!A12", "▶바로가기") -> ▶바로가기
A33: 경량철골천장틀 철거 | C33: M2 | D33: 263 | N33: =HYPERLINK("#일위대가목록!A13", "SF0330002100") -> SF0330002100 | Q33: 0102 | R33: 385632 | S33: 52 | T33: T | U33: F | V33: F | X33: 0 | Y33: 0 | Z33: 0 | AA33: 0 | AB33: 0 | AC33: 0 | AD33: 0 | AE33: 0 | AF33: 0 | AG33: 0 | AH33: 0 | AI33: 3 | AJ33: 0 | AK33: 0 | AL33: 0 | AM33: 0 | AN33: 0 | AO33: 0 | AP33: 0 | AQ33: 0 | AR33: 0 | AS33: 0 | AT33: 0 | AV33: 100 | AY33: =HYPERLINK("#일위대가목록!A13", "▶바로가기") -> ▶바로가기
A34: 텍스류 철거 | B34: 천장 | C34: M2 | D34: 263 | N34: =HYPERLINK("#일위대가목록!A14", "IB0000003900") -> IB0000003900 | Q34: 0102 | R34: 385632 | S34: 55 | T34: T | U34: F | V34: F | X34: 0 | Y34: 0 | Z34: 0 | AA34: 0 | AB34: 0 | AC34: 0 | AD34: 0 | AE34: 0 | AF34: 0 | AG34: 0 | AH34: 0 | AI34: 3 | AJ34: 0 | AK34: 0 | AL34: 0 | AM34: 0 | AN34: 0 | AO34: 0 | AP34: 0 | AQ34: 0 | AR34: 0 | AS34: 0 | AT34: 0 | AV34: 100 | AY34: =HYPERLINK("#일위대가목록!A14", "▶바로가기") -> ▶바로가기
A35: 철제커텐박스철거 | C35: M | D35: 29.4 | N35: =HYPERLINK("#일위대가목록!A15", "SF0330002300") -> SF0330002300 | Q35: 0102 | R35: 385632 | S35: 60 | T35: T | U35: F | V35: F | X35: 0 | Y35: 0 | Z35: 0 | AA35: 0 | AB35: 0 | AC35: 0 | AD35: 0 | AE35: 0 | AF35: 0 | AG35: 0 | AH35: 0 | AI35: 3 | AJ35: 0 | AK35: 0 | AL35: 0 | AM35: 0 | AN35: 0 | AO35: 0 | AP35: 0 | AQ35: 0 | AR35: 0 | AS35: 0 | AT35: 0 | AV35: 100 | AY35: =HYPERLINK("#일위대가목록!A15", "▶바로가기") -> ▶바로가기
A36: 건설용 리프트(인화물용) | B36: 1 톤 X 45 m | C36: 대 | D36: 1 | M36: 사다리차 | N36: =HYPERLINK("#단가대비표!B61", "0000221001450000") -> 0000221001450000 | Q36: 0102 | R36: 385632 | S36: 70 | T36: F | U36: F | V36: T | X36: 0 | Y36: 0 | Z36: 0 | AA36: 0 | AB36: 0 | AC36: 0 | AD36: 0 | AE36: 0 | AF36: 0 | AG36: 0 | AH36: 0 | AI36: 3 | AJ36: 0 | AK36: 0 | AL36: 0 | AM36: 0 | AN36: 0 | AO36: 0 | AP36: 0 | AQ36: 0 | AR36: 0 | AS36: 0 | AT36: 0 | AV36: 100 | AY36: =HYPERLINK("#단가대비표!B61", "▶바로가기") -> ▶바로가기
A37: 보통인부 | B37: 일반공사 직종 | C37: 인 | D37: 10 | M37: 집기이동 및 해체 | N37: =HYPERLINK("#단가대비표!B53", "L001010101000002") -> L001010101000002 | Q37: 0102 | R37: 385632 | S37: 80 | T37: F | U37: F | V37: T | X37: 0 | Y37: 0 | Z37: 0 | AA37: 0 | AB37: 0 | AC37: 0 | AD37: 0 | AE37: 0 | AF37: 0 | AG37: 0 | AH37: 0 | AI37: 3 | AJ37: 0 | AK37: 0 | AL37: 0 | AM37: 0 | AN37: 0 | AO37: 0 | AP37: 0 | AQ37: 0 | AR37: 0 | AS37: 0 | AT37: 0 | AV37: 100 | AY37: =HYPERLINK("#단가대비표!B53", "▶바로가기") -> ▶바로가기
D38: 0 | AV38: 0
D39: 0 | AV39: 0
D40: 0 | AV40: 0
D41: 0 | AV41: 0
D42: 0 | AV42: 0
D43: 0 | AV43: 0
...

Sheet 일위대가목록
A1: 일 위 대 가 목 록
A2: ="[" & 설계서용지!F7 & "]" -> [공용 스마트 교육공간 인프라 구축 건축공사]
A3: 코 드 | B3: 품 명 | C3: 규 격 | D3: 단위 | E3: 재 료 비 | F3: 노 무 비 | G3: 경 비 | H3: 합 계 | I3: 비 고 | J3: 노임계수 | K3: 할증 | L3: 품셈개요 | M3: 장비일위
A4: IA0000000500 | B4: 먹매김 | C4: 사무공간, 교육장, 회의·강연장 | D4: M2 | E4: =TRUNC(일위대가!F7, 0) -> 0 | F4: =TRUNC(일위대가!H7, 0) -> 8051 | G4: =TRUNC(일위대가!J7, 0) -> 0 | H4: =TRUNC(E4+F4+G4, 0) -> 8051 | I4: 실내건축 가설-05 | L4: 실내건축 가설-05 | P4: =HYPERLINK("#일위대가!A5", "▶바로가기") -> ▶바로가기
A5: IA0000002000 | B5: 자재 소운반 | C5: 15층 이하 기준 | D5: M2 | E5: =TRUNC(일위대가!F11, 0) -> 0 | F5: =TRUNC(일위대가!H11, 0) -> 7743 | G5: =TRUNC(일위대가!J11, 0) -> 0 | H5: =TRUNC(E5+F5+G5, 0) -> 7743 | I5: 실내건축 가설-20 | L5: 실내건축 가설-20 | P5: =HYPERLINK("#일위대가!A9", "▶바로가기") -> ▶바로가기
A6: IA0000003000 | B6: 보양 | C6: 합판, T=3 | D6: M2 | E6: =TRUNC(일위대가!F17, 0) -> 3290 | F6: =TRUNC(일위대가!H17, 0) -> 5850 | G6: =TRUNC(일위대가!J17, 0) -> 0 | H6: =TRUNC(E6+F6+G6, 0) -> 9140 | I6: 실내건축-가설-30 | L6: 실내건축-가설-30 | P6: =HYPERLINK("#일위대가!A13", "▶바로가기") -> ▶바로가기
A7: IA0000003500 | B7: 준공청소 | C7: 1회 기준 | D7: M2 | E7: =TRUNC(일위대가!F21, 0) -> 0 | F7: =TRUNC(일위대가!H21, 0) -> 8603 | G7: =TRUNC(일위대가!J21, 0) -> 0 | H7: =TRUNC(E7+F7+G7, 0) -> 8603 | I7: 실내건축-가설-35 | L7: 실내건축-가설-35 | P7: =HYPERLINK("#일위대가!A19", "▶바로가기") -> ▶바로가기
A8: IB0000003400 | B8: 경량 구조틀 철거 | D8: M2 | E8: =TRUNC(일위대가!F27, 0) -> 650 | F8: =TRUNC(일위대가!H27, 0) -> 13002 | G8: =TRUNC(일위대가!J27, 0) -> 0 | H8: =TRUNC(E8+F8+G8, 0) -> 13652 | I8: 실내건축 철거-13 | L8: 실내건축 철거-13 | P8: =HYPERLINK("#일위대가!A23", "▶바로가기") -> ▶바로가기
A9: IB0000004100 | B9: 합판 또는 판재류 철거 | C9: 벽체, 2PLY | D9: M2 | E9: =TRUNC(일위대가!F33, 0) -> 0 | F9: =TRUNC(일위대가!H33, 0) -> 7234 | G9: =TRUNC(일위대가!J33, 0) -> 144 | H9: =TRUNC(E9+F9+G9, 0) -> 7378 | I9: 실내건축 철거-20 | L9: 실내건축 철거-20 | P9: =HYPERLINK("#일위대가!A29", "▶바로가기") -> ▶바로가기
A10: IB0000004600 | B10: 카페트 및 비닐 시트류 철거 | D10: M2 | E10: =TRUNC(일위대가!F39, 0) -> 240 | F10: =TRUNC(일위대가!H39, 0) -> 4800 | G10: =TRUNC(일위대가!J39, 0) -> 0 | H10: =TRUNC(E10+F10+G10, 0) -> 5040 | I10: 실내건축 철거-25 | L10: 실내건축 철거-25 | P10: =HYPERLINK("#일위대가!A35", "▶바로가기") -> ▶바로가기
A11: IB0000005500 | B11: 유리프레임 철거 | C11: 150×50 기준 | D11: M | E11: =TRUNC(일위대가!F45, 0) -> 0 | F11: =TRUNC(일위대가!H45, 0) -> 25345 | G11: =TRUNC(일위대가!J45, 0) -> 1267 | H11: =TRUNC(E11+F11+G11, 0) -> 26612 | I11: 실내건축 철거-34 | L11: 실내건축 철거-34 | P11: =HYPERLINK("#일위대가!A41", "▶바로가기") -> ▶바로가기
A12: IB0000005200 | B12: 유리 철거 | C12: T=12, 일반유리 기준 | D12: M2 | E12: =TRUNC(일위대가!F51, 0) -> 972 | F12: =TRUNC(일위대가!H51, 0) -> 19441 | G12: =TRUNC(일위대가!J51, 0) -> 0 | H12: =TRUNC(E12+F12+G12, 0) -> 20413 | I12: 실내건축 철거-31 | L12: 실내건축 철거-31 | P12: =HYPERLINK("#일위대가!A47", "▶바로가기") -> ▶바로가기
A13: SF0330002100 | B13: 경량철골천장틀 철거 | D13: M2 | E13: =TRUNC(일위대가!F56, 0) -> 688 | F13: =TRUNC(일위대가!H56, 0) -> 13765 | G13: =TRUNC(일위대가!J56, 0) -> 0 | H13: =TRUNC(E13+F13+G13, 0) -> 14453 | I13: '20년경남교육청 | L13: '20년경남교육청 | P13: =HYPERLINK("#일위대가!A53", "▶바로가기") -> ▶바로가기
A14: IB0000003900 | B14: 텍스류 철거 | C14: 천장 | D14: M2 | E14: =TRUNC(일위대가!F61, 0) -> 0 | F14: =TRUNC(일위대가!H61, 0) -> 4886 | G14: =TRUNC(일위대가!J61, 0) -> 0 | H14: =TRUNC(E14+F14+G14, 0) -> 4886 | I14: 실내건축 철거-18 | L14: 실내건축 철거-18 | P14: =HYPERLINK("#일위대가!A58", "▶바로가기") -> ▶바로가기
A15: SF0330002300 | B15: 철제커텐박스철거 | D15: M | E15: =TRUNC(일위대가!F65, 0) -> 0 | F15: =TRUNC(일위대가!H65, 0) -> 3441 | G15: =TRUNC(일위대가!J65, 0) -> 0 | H15: =TRUNC(E15+F15+G15, 0) -> 3441 | I15: '20년경남교육청 | L15: '20년경남교육청 | P15: =HYPERLINK("#일위대가!A63", "▶바로가기") -> ▶바로가기
A16: AD0201000400 | B16: 벽,띠장설치(미송) | C16: 30*30,@450*600 | D16: M2 | E16: =TRUNC(일위대가!F71, 0) -> 2948 | F16: =TRUNC(일위대가!H71, 0) -> 9733 | G16: =TRUNC(일위대가!J71, 0) -> 0 | H16: =TRUNC(E16+F16+G16, 0) -> 12681 | I16: 건축 4-2-1 | L16: 건축 4-2-1 | P16: =HYPERLINK("#일위대가!A67", "▶바로가기") -> ▶바로가기
A17: AD0203200400 | B17: 벽체합판 설치 | C17: 보통합판, THK4.8×1PLY | D17: M2 | E17: =TRUNC(일위대가!F77, 0) -> 4999 | F17: =TRUNC(일위대가!H77, 0) -> 18183 | G17: =TRUNC(일위대가!J77, 0) -> 0 | H17: =TRUNC(E17+F17+G17, 0) -> 23182 | I17: 건축 4-2-3 | L17: 건축 4-2-3 | P17: =HYPERLINK("#일위대가!A73", "▶바로가기") -> ▶바로가기
A18: AD0203100600 | B18: 벽, MDF붙임 | C18: 중밀도섬유판, THK12×1PLY | D18: M2 | E18: =TRUNC(일위대가!F83, 0) -> 6261 | F18: =TRUNC(일위대가!H83, 0) -> 18183 | G18: =TRUNC(일위대가!J83, 0) -> 0 | H18: =TRUNC(E18+F18+G18, 0) -> 24444 | I18: 건축 4-2-3 | L18: 건축 4-2-3 | P18: =HYPERLINK("#일위대가!A79", "▶바로가기") -> ▶바로가기
A19: AK0209000400 | B19: 바탕+낙서방지 페인트칠 | C19: 롤러 2회 칠, 콘크리트·모르타르면 | D19: M2 | E19: =TRUNC(일위대가!F89, 0) -> 1950 | F19: =TRUNC(일위대가!H89, 0) -> 12159 | G19: =TRUNC(일위대가!J89, 0) -> 0 | H19: =TRUNC(E19+F19+G19, 0) -> 14109 | I19: 건축 11-2-9 | L19: 건축 11-2-9 | P19: =HYPERLINK("#일위대가!A85", "▶바로가기") -> ▶바로가기
A20: AK0210000700 | B20: 세라민페인트칠 | C20: 걸레받이,모르타르면3회 | D20: M2 | E20: =TRUNC(일위대가!F95, 0) -> 1270 | F20: =TRUNC(일위대가!H95, 0) -> 22316 | G20: =TRUNC(일위대가!J95, 0) -> 0 | H20: =TRUNC(E20+F20+G20, 0) -> 23586 | P20: =HYPERLINK("#일위대가!A91", "▶바로가기") -> ▶바로가기
A21: AH0204001600 | B21: 경량철골천장틀 | C21: M-BAR,1M이상,인서트 유 | D21: M2 | E21: =TRUNC(일위대가!F111, 0) -> 12714 | F21: =TRUNC(일위대가!H111, 0) -> 14549 | G21: =TRUNC(일위대가!J111, 0) -> 0 | H21: =TRUNC(E21+F21+G21, 0) -> 27263 | I21: 건축 8-2-4 | L21: 건축 8-2-4 | P21: =HYPERLINK("#일위대가!A97", "▶바로가기") -> ▶바로가기
A22: IN1000000100 | B22: 인테리어필름붙임 | C22: W=300이상, 3.6M이하 | D22: M2 | E22: =TRUNC(일위대가!F117, 0) -> 0 | F22: =TRUNC(일위대가!H117, 0) -> 25874 | G22: =TRUNC(일위대가!J117, 0) -> 0 | H22: =TRUNC(E22+F22+G22, 0) -> 25874 | I22: 실내건축 수장-19 | L22: 실내건축 수장-19 | P22: =HYPERLINK("#일위대가!A113", "▶바로가기") -> ▶바로가기
A23: AE0101201000 | B23: 데코타일붙임 | C23: 450*450*3.0mm (왁스무) | D23: M2 | E23: =TRUNC(일위대가!F122, 0) -> 20819 | F23: =TRUNC(일위대가!H122, 0) -> 17145 | G23: =TRUNC(일위대가!J122, 0) -> 0 | H23: =TRUNC(E23+F23+G23, 0) -> 37964 | I23: 건축 5-1-1 | L23: 건축 5-1-1 | P23: =HYPERLINK("#일위대가!A119", "▶바로가기") -> ▶바로가기
A24: AJ0301000200 | B24: 창호유리설치 / 판유리 | C24: 유리두께 5mm 이하 | D24: M2 | E24: =TRUNC(일위대가!F127, 0) -> 0 | F24: =TRUNC(일위대가!H127, 0) -> 23280 | G24: =TRUNC(일위대가!J127, 0) -> 0 | H24: =TRUNC(E24+F24+G24, 0) -> 23280 | I24: 건축 10-3-1 | L24: 건축 10-3-1 | P24: =HYPERLINK("#일위대가!A124", "▶바로가기") -> ▶바로가기
A25: AH1210002400 | B25: 철재커텐박스(ㄷ자형) | C25: 150*150*1.2T 분체도장 | D25: M | E25: =TRUNC(일위대가!F133, 0) -> 12576 | F25: =TRUNC(일위대가!H133, 0) -> 46686 | G25: =TRUNC(일위대가!J133, 0) -> 0 | H25: =TRUNC(E25+F25+G25, 0) -> 59262 | P25: =HYPERLINK("#일위대가!A129", "▶바로가기") -> ▶바로가기
A26: AD0201000100 | B26: 벽체틀 설치 | C26: 자재 별도 | D26: M2 | E26: =TRUNC(일위대가!F139, 0) -> 194 | F26: =TRUNC(일위대가!H139, 0) -> 9733 | G26: =TRUNC(일위대가!J139, 0) -> 0 | H26: =TRUNC(E26+F26+G26, 0) -> 9927 | I26: 건축 4-2-1 | L26: 건축 4-2-1 | P26: =HYPERLINK("#일위대가!A135", "▶바로가기") -> ▶바로가기
A27: AD0203000100 | B27: 벽체합판 설치 | C27: 합판 별도 | D27: M2 | E27: =TRUNC(일위대가!F145, 0) -> 363 | F27: =TRUNC(일위대가!H145, 0) -> 18183 | G27: =TRUNC(일위대가!J145, 0) -> 0 | H27: =TRUNC(E27+F27+G27, 0) -> 18546 | I27: 건축 4-2-3 | L27: 건축 4-2-3 | P27: =HYPERLINK("#일위대가!A141", "▶바로가기") -> ▶바로가기
A28: AE0101100100 | B28: PVC계 바닥재 설치 - 타일 | C28: 주재료 제외 | D28: M2 | E28: =TRUNC(일위대가!F151, 0) -> 869 | F28: =TRUNC(일위대가!H151, 0) -> 17145 | G28: =TRUNC(일위대가!J151, 0) -> 0 | H28: =TRUNC(E28+F28+G28, 0) -> 18014 | I28: 건축 5-1-1 | L28: 건축 5-1-1 | P28: =HYPERLINK("#일위대가!A147", "▶바로가기") -> ▶바로가기
A29: AH0104000300 | B29: 인서트(Insert) 설치 | C29: 설치대상 - 콘크리트 | D29: 개 | E29: =TRUNC(일위대가!F156, 0) -> 92 | F29: =TRUNC(일위대가!H156, 0) -> 2311 | G29: =TRUNC(일위대가!J156, 0) -> 0 | H29: =TRUNC(E29+F29+G29, 0) -> 2403 | I29: 건축 8-1-4 | L29: 건축 8-1-4 | P29: =HYPERLINK("#일위대가!A153", "▶바로가기") -> ▶바로가기
A30: AH0204000100 | B30: 경량천장철골틀 설치 | C30: BAR간격 300mm | D30: M2 | E30: =TRUNC(일위대가!F162, 0) -> 684 | F30: =TRUNC(일위대가!H162, 0) -> 11402 | G30: =TRUNC(일위대가!J162, 0) -> 0 | H30: =TRUNC(E30+F30+G30, 0) -> 12086 | I30: 건축 8-2-4 | L30: 건축 8-2-4 | P30: =HYPERLINK("#일위대가!A158", "▶바로가기") -> ▶바로가기
A31: AH0301000500 | B31: 잡철물 제작 및 설치(현장제작 설치) | C31: 일반철재 | D31: Ton | E31: =TRUNC(일위대가!F171, 0) -> 426279 | F31: =TRUNC(일위대가!H171, 0) -> 5328496 | G31: =TRUNC(일위대가!J171, 0) -> 0 | H31: =TRUNC(E31+F31+G31, 0) -> 5754775 | I31: 건축 8-3-1 | L31: 건축 8-3-1 | P31: =HYPERLINK("#일위대가!A164", "▶바로가기") -> ▶바로가기
A32: AH0301000600 | B32: 잡철물 제작 및 설치(현장제작 설치) | C32: 경량철재 | D32: Ton | E32: =TRUNC(일위대가!F180, 0) -> 415548 | F32: =TRUNC(일위대가!H180, 0) -> 6925816 | G32: =TRUNC(일위대가!J180, 0) -> 0 | H32: =TRUNC(E32+F32+G32, 0) -> 7341364 | I32: 건축 8-3-1 | L32: 건축 8-3-1 | P32: =HYPERLINK("#일위대가!A173", "▶바로가기") -> ▶바로가기
A33: AH0301002500 | B33: 잡철물 제작 및 설치 | C33: 현장제작 설치, 일반철재 | D33: kg | E33: =TRUNC(일위대가!F184, 0) -> 426 | F33: =TRUNC(일위대가!H184, 0) -> 5328 | G33: =TRUNC(일위대가!J184, 0) -> 0 | H33: =TRUNC(E33+F33+G33, 0) -> 5754 | I33: 건축 8-3-1 | L33: 건축 8-3-1 | P33: =HYPERLINK("#일위대가!A182", "▶바로가기") -> ▶바로가기
A34: AH0301002600 | B34: 잡철물 제작 및 설치 | C34: 현장제작 설치, 경량철재 | D34: kg | E34: =TRUNC(일위대가!F188, 0) -> 415 | F34: =TRUNC(일위대가!H188, 0) -> 6925 | G34: =TRUNC(일위대가!J188, 0) -> 0 | H34: =TRUNC(E34+F34+G34, 0) -> 7340 | I34: 건축 8-3-1 | L34: 건축 8-3-1 | P34: =HYPERLINK("#일위대가!A186", "▶바로가기") -> ▶바로가기
A35: AH1410000800 | B35: ST'L PLATE 제작/설치 | C35: THK=1.2mm(간단) | D35: M2 | E35: =TRUNC(일위대가!F194, 0) -> 12945 | F35: =TRUNC(일위대가!H194, 0) -> 65233 | G35: =TRUNC(일위대가!J194, 0) -> 0 | H35: =TRUNC(E35+F35+G35, 0) -> 78178 | P35: =HYPERLINK("#일위대가!A190", "▶바로가기") -> ▶바로가기
A36: AH1430000100 | B36: ㄱ형강[제작/설치] | C36: ㄱ형강, 등변, 25×25×3mm, 방청 | D36: M | E36: =TRUNC(일위대가!F201, 0) -> 1767 | F36: =TRUNC(일위대가!H201, 0) -> 6413 | G36: =TRUNC(일위대가!J201, 0) -> 0 | H36: =TRUNC(E36+F36+G36, 0) -> 8180 | P36: =HYPERLINK("#일위대가!A196", "▶바로가기") -> ▶바로가기
A37: AK0101000100 | B37: 콘크리트·모르타르면 바탕만들기 | D37: M2 | E37: =TRUNC(일위대가!F209, 0) -> 358 | F37: =TRUNC(일위대가!H209, 0) -> 2802 | G37: =TRUNC(일위대가!J209, 0) -> 0 | H37: =TRUNC(E37+F37+G37, 0) -> 3160 | I37: 건축 11-1-1 | L37: 건축 11-1-1 | P37: =HYPERLINK("#일위대가!A203", "▶바로가기") -> ▶바로가기
A38: AK0105100100 | B38: 도장 후 퍼티 및 연마 | D38: M2 | E38: =TRUNC(일위대가!F216, 0) -> 432 | F38: =TRUNC(일위대가!H216, 0) -> 1487 | G38: =TRUNC(일위대가!J216, 0) -> 0 | H38: =TRUNC(E38+F38+G38, 0) -> 1919 | I38: 건축 11-1-5 | L38: 건축 11-1-5 | P38: =HYPERLINK("#일위대가!A211", "▶바로가기") -> ▶바로가기
A39: AK0204100200 | B39: 유성페인트 붓칠 | C39: 철재면, 2회 | D39: M2 | E39: =TRUNC(일위대가!F224, 0) -> 237 | F39: =TRUNC(일위대가!H224, 0) -> 11897 | G39: =TRUNC(일위대가!J224, 0) -> 0 | H39: =TRUNC(E39+F39+G39, 0) -> 12134 | I39: 건축 11-2-4 | L39: 건축 11-2-4 | P39: =HYPERLINK("#일위대가!A218", "▶바로가기") -> ▶바로가기
A40: AK0204110300 | B40: 유성페인트 붓칠 - 재료비 | C40: 철재면, 2회 칠, 1급 | D40: M2 | E40: =TRUNC(일위대가!F230, 0) -> 1069 | F40: =TRUNC(일위대가!H230, 0) -> 0 | G40: =TRUNC(일위대가!J230, 0) -> 0 | H40: =TRUNC(E40+F40+G40, 0) -> 1069 | P40: =HYPERLINK("#일위대가!A226", "▶바로가기") -> ▶바로가기
...

Sheet 일위대가
A1: 일 위 대 가
A2: ="[" & 설계서용지!F7 & "]" -> [공용 스마트 교육공간 인프라 구축 건축공사]
A3: 품 목 | B3: 규 격 | C3: 단위 | D3: 수량 | E3: 재 료 비 | G3: 노 무 비 | I3: 경 비 | K3: 합 계 | M3: 비 고 | N3: 일위대가 | O3: 품목코드 | P3: 일위 | Q3: 단산 | R3: 합산제외 | S3: SEQNO | T3: 산근 | U3: 적용률 | V3: JUK1 | W3: JUK2 | X3: JUK3 | Y3: JUK4 | Z3: JUK5 | AA3: JUK6 | AB3: JUK7
E4: 단 가 | F4: 금 액 | G4: 단 가 | H4: 금 액 | I4: 단 가 | J4: 금 액 | K4: 단 가 | L4: 금 액
A5: ( 호표 1 ) 먹매김 사무공간, 교육장, 회의·강연장 M2 | N5: IA0000000500
A6: 건축목공 | B6: 일반공사 직종 | C6: 인 | D6: 0.029 | E6: =단가대비표!U57 -> 0 | F6: =TRUNC(D6*ROUND(E6,1), 1) -> 0 | G6: =단가대비표!V57 -> 277642 | H6: =TRUNC(D6*ROUND(G6,1), 1) -> 8051.6 | I6: =단가대비표!AE57 -> 0 | J6: =TRUNC(D6*ROUND(I6,1), 1) -> 0 | K6: =E6+G6+I6 -> 277642 | L6: =F6+H6+J6 -> 8051.6 | N6: IA0000000500 | O6: L001010101000023 | S6: 10 | T6: 0.029 | U6: 0 | V6: 0 | W6: 0 | X6: 0 | Y6: 0 | Z6: 0 | AA6: 0 | AB6: 0 | AE6: =HYPERLINK("#단가대비표!B57", "▶바로가기") -> ▶바로가기
A7: [ 합 계 ] | E7: 0 | F7: =TRUNC(SUMIF(R6:R6, " ", F6:F6),0) -> 0 | G7: 0 | H7: =TRUNC(SUMIF(R6:R6, " ", H6:H6),0) -> 8051 | I7: 0 | J7: =TRUNC(SUMIF(R6:R6, " ", J6:J6),0) -> 0 | L7: =F7+H7+J7 -> 8051 | N7: TOTAL | O7: TOTAL
A9: ( 호표 2 ) 자재 소운반 15층 이하 기준 M2 | N9: IA0000002000
A10: 보통인부 | B10: 일반공사 직종 | C10: 인 | D10: 0.045 | E10: =단가대비표!U53 -> 0 | F10: =TRUNC(D10*ROUND(E10,1), 1) -> 0 | G10: =단가대비표!V53 -> 172068 | H10: =TRUNC(D10*ROUND(G10,1), 1) -> 7743 | I10: =단가대비표!AE53 -> 0 | J10: =TRUNC(D10*ROUND(I10,1), 1) -> 0 | K10: =E10+G10+I10 -> 172068 | L10: =F10+H10+J10 -> 7743 | N10: IA0000002000 | O10: L001010101000002 | S10: 10 | T10: 0.045 | U10: 0 | V10: 0 | W10: 0 | X10: 0 | Y10: 0 | Z10: 0 | AA10: 0 | AB10: 0 | AE10: =HYPERLINK("#단가대비표!B53", "▶바로가기") -> ▶바로가기
A11: [ 합 계 ] | E11: 0 | F11: =TRUNC(SUMIF(R10:R10, " ", F10:F10),0) -> 0 | G11: 0 | H11: =TRUNC(SUMIF(R10:R10, " ", H10:H10),0) -> 7743 | I11: 0 | J11: =TRUNC(SUMIF(R10:R10, " ", J10:J10),0) -> 0 | L11: =F11+H11+J11 -> 7743 | N11: TOTAL | O11: TOTAL
A13: ( 호표 3 ) 보양 합판, T=3 M2 | N13: IA0000003000
A14: 보통합판 | B14: 보통합판, 1급, 2.7*1220*2440mm | C14: 매 | D14: 0.35 | E14: =단가대비표!U5 -> 9400 | F14: =TRUNC(D14*ROUND(E14,1), 1) -> 3290 | G14: =단가대비표!V5 -> 0 | H14: =TRUNC(D14*ROUND(G14,1), 1) -> 0 | I14: =단가대비표!AE5 -> 0 | J14: =TRUNC(D14*ROUND(I14,1), 1) -> 0 | K14: =E14+G14+I14 -> 9400 | L14: =F14+H14+J14 -> 3290 | N14: IA0000003000 | O14: 1112200120142410 | S14: 10 | T14: 0.35 | U14: 0 | V14: 0 | W14: 0 | X14: 0 | Y14: 0 | Z14: 0 | AA14: 0 | AB14: 0 | AE14: =HYPERLINK("#단가대비표!B5", "▶바로가기") -> ▶바로가기
A15: 청테이프 | B15: 별도 | C15: M | D15: 2 | E15: =단가대비표!U40 -> 0 | F15: =TRUNC(D15*ROUND(E15,1), 1) -> 0 | G15: =단가대비표!V40 -> 0 | H15: =TRUNC(D15*ROUND(G15,1), 1) -> 0 | I15: =단가대비표!AE40 -> 0 | J15: =TRUNC(D15*ROUND(I15,1), 1) -> 0 | K15: =E15+G15+I15 -> 0 | L15: =F15+H15+J15 -> 0 | N15: IA0000003000 | O15: 4710153520106523 | S15: 20 | T15: 2 | U15: 0 | V15: 0 | W15: 0 | X15: 0 | Y15: 0 | Z15: 0 | AA15: 0 | AB15: 0 | AE15: =HYPERLINK("#단가대비표!B40", "▶바로가기") -> ▶바로가기
A16: 보통인부 | B16: 일반공사 직종 | C16: 인 | D16: 0.034 | E16: =단가대비표!U53 -> 0 | F16: =TRUNC(D16*ROUND(E16,1), 1) -> 0 | G16: =단가대비표!V53 -> 172068 | H16: =TRUNC(D16*ROUND(G16,1), 1) -> 5850.3 | I16: =단가대비표!AE53 -> 0 | J16: =TRUNC(D16*ROUND(I16,1), 1) -> 0 | K16: =E16+G16+I16 -> 172068 | L16: =F16+H16+J16 -> 5850.3 | N16: IA0000003000 | O16: L001010101000002 | S16: 30 | T16: 0.034 | U16: 0 | V16: 0 | W16: 0 | X16: 0 | Y16: 0 | Z16: 0 | AA16: 0 | AB16: 0 | AE16: =HYPERLINK("#단가대비표!B53", "▶바로가기") -> ▶바로가기
A17: [ 합 계 ] | E17: 0 | F17: =TRUNC(SUMIF(R14:R16, " ", F14:F16),0) -> 3290 | G17: 0 | H17: =TRUNC(SUMIF(R14:R16, " ", H14:H16),0) -> 5850 | I17: 0 | J17: =TRUNC(SUMIF(R14:R16, " ", J14:J16),0) -> 0 | L17: =F17+H17+J17 -> 9140 | N17: TOTAL | O17: TOTAL
A19: ( 호표 4 ) 준공청소 1회 기준 M2 | N19: IA0000003500
A20: 보통인부 | B20: 일반공사 직종 | C20: 인 | D20: 0.05 | E20: =단가대비표!U53 -> 0 | F20: =TRUNC(D20*ROUND(E20,1), 1) -> 0 | G20: =단가대비표!V53 -> 172068 | H20: =TRUNC(D20*ROUND(G20,1), 1) -> 8603.4 | I20: =단가대비표!AE53 -> 0 | J20: =TRUNC(D20*ROUND(I20,1), 1) -> 0 | K20: =E20+G20+I20 -> 172068 | L20: =F20+H20+J20 -> 8603.4 | N20: IA0000003500 | O20: L001010101000002 | S20: 10 | T20: 0.05 | U20: 0 | V20: 0 | W20: 0 | X20: 0 | Y20: 0 | Z20: 0 | AA20: 0 | AB20: 0 | AE20: =HYPERLINK("#단가대비표!B53", "▶바로가기") -> ▶바로가기
A21: [ 합 계 ] | E21: 0 | F21: =TRUNC(SUMIF(R20:R20, " ", F20:F20),0) -> 0 | G21: 0 | H21: =TRUNC(SUMIF(R20:R20, " ", H20:H20),0) -> 8603 | I21: 0 | J21: =TRUNC(SUMIF(R20:R20, " ", J20:J20),0) -> 0 | L21: =F21+H21+J21 -> 8603 | N21: TOTAL | O21: TOTAL
A23: ( 호표 5 ) 경량 구조틀 철거 M2 | N23: IB0000003400
A24: 특별인부 | B24: 일반공사 직종 | C24: 인 | D24: 0.04 | E24: =단가대비표!U54 -> 0 | F24: =TRUNC(D24*ROUND(E24,1), 1) -> 0 | G24: =단가대비표!V54 -> 226122 | H24: =TRUNC(D24*ROUND(G24,1), 1) -> 9044.8 | I24: =단가대비표!AE54 -> 0 | J24: =TRUNC(D24*ROUND(I24,1), 1) -> 0 | K24: =E24+G24+I24 -> 226122 | L24: =F24+H24+J24 -> 9044.8 | N24: IB0000003400 | O24: L001010101000003 | S24: 10 | T24: 0.0400 | U24: 0 | V24: 1 | W24: 0 | X24: 0 | Y24: 0 | Z24: 0 | AA24: 0 | AB24: 0 | AE24: =HYPERLINK("#단가대비표!B54", "▶바로가기") -> ▶바로가기
A25: 보통인부 | B25: 일반공사 직종 | C25: 인 | D25: 0.023 | E25: =단가대비표!U53 -> 0 | F25: =TRUNC(D25*ROUND(E25,1), 1) -> 0 | G25: =단가대비표!V53 -> 172068 | H25: =TRUNC(D25*ROUND(G25,1), 1) -> 3957.5 | I25: =단가대비표!AE53 -> 0 | J25: =TRUNC(D25*ROUND(I25,1), 1) -> 0 | K25: =E25+G25+I25 -> 172068 | L25: =F25+H25+J25 -> 3957.5 | N25: IB0000003400 | O25: L001010101000002 | S25: 20 | T25: 0.0230 | U25: 0 | V25: 1 | W25: 0 | X25: 0 | Y25: 0 | Z25: 0 | AA25: 0 | AB25: 0 | AE25: =HYPERLINK("#단가대비표!B53", "▶바로가기") -> ▶바로가기
A26: 공구손료 | B26: 노무비의 5% | C26: 식 | D26: 1 | E26: =TRUNC(SUMIF(V24:V26, RIGHTB(O26, 1), H24:H26)*U26, 1) -> 650.1 | F26: =TRUNC(D26*E26,1) -> 650.1 | G26: 0 | H26: =TRUNC(D26*G26,1) -> 0 | I26: 0 | J26: =TRUNC(D26*I26,1) -> 0 | K26: =E26+G26+I26 -> 650.1 | L26: =F26+H26+J26 -> 650.1 | N26: IB0000003400 | O26: PPS00000001 | S26: 30 | T26: .MA=LA(10, 0, 20) * 0.05 | U26: 0.05 | V26: 0 | W26: 0 | X26: 0 | Y26: 0 | Z26: 0 | AA26: 0 | AB26: 0
A27: [ 합 계 ] | E27: 0 | F27: =TRUNC(SUMIF(R24:R26, " ", F24:F26),0) -> 650 | G27: 0 | H27: =TRUNC(SUMIF(R24:R26, " ", H24:H26),0) -> 13002 | I27: 0 | J27: =TRUNC(SUMIF(R24:R26, " ", J24:J26),0) -> 0 | L27: =F27+H27+J27 -> 13652 | N27: TOTAL | O27: TOTAL
A29: ( 호표 6 ) 합판 또는 판재류 철거 벽체, 2PLY M2 | N29: IB0000004100
A30: 건축목공 | B30: 일반공사 직종 | C30: 인 | D30: 0.018 | E30: =단가대비표!U57 -> 0 | F30: =TRUNC(D30*ROUND(E30,1), 1) -> 0 | G30: =단가대비표!V57 -> 277642 | H30: =TRUNC(D30*ROUND(G30,1), 1) -> 4997.5 | I30: =단가대비표!AE57 -> 0 | J30: =TRUNC(D30*ROUND(I30,1), 1) -> 0 | K30: =E30+G30+I30 -> 277642 | L30: =F30+H30+J30 -> 4997.5 | N30: IB0000004100 | O30: L001010101000023 | S30: 10 | T30: 0.018 | U30: 0 | V30: 1 | W30: 0 | X30: 0 | Y30: 0 | Z30: 0 | AA30: 0 | AB30: 0 | AE30: =HYPERLINK("#단가대비표!B57", "▶바로가기") -> ▶바로가기
A31: 보통인부 | B31: 일반공사 직종 | C31: 인 | D31: 0.013 | E31: =단가대비표!U53 -> 0 | F31: =TRUNC(D31*ROUND(E31,1), 1) -> 0 | G31: =단가대비표!V53 -> 172068 | H31: =TRUNC(D31*ROUND(G31,1), 1) -> 2236.8 | I31: =단가대비표!AE53 -> 0 | J31: =TRUNC(D31*ROUND(I31,1), 1) -> 0 | K31: =E31+G31+I31 -> 172068 | L31: =F31+H31+J31 -> 2236.8 | N31: IB0000004100 | O31: L001010101000002 | S31: 20 | T31: 0.013 | U31: 0 | V31: 1 | W31: 0 | X31: 0 | Y31: 0 | Z31: 0 | AA31: 0 | AB31: 0 | AE31: =HYPERLINK("#단가대비표!B53", "▶바로가기") -> ▶바로가기
A32: 공구손료 및 기계경비 | B32: 노무비의 2% | C32: 식 | D32: 1 | E32: 0 | F32: =TRUNC(D32*E32,1) -> 0 | G32: 0 | H32: =TRUNC(D32*G32,1) -> 0 | I32: =TRUNC(SUMIF(V30:V32, RIGHTB(O32, 1), H30:H32)*U32, 1) -> 144.6 | J32: =TRUNC(D32*I32,1) -> 144.6 | K32: =E32+G32+I32 -> 144.6 | L32: =F32+H32+J32 -> 144.6 | N32: IB0000004100 | O32: PPS00000001 | S32: 30 | T32: .EQ=LA(10, 0, 20) * 0.02 | U32: 0.02 | V32: 0 | W32: 0 | X32: 0 | Y32: 0 | Z32: 0 | AA32: 0 | AB32: 0
A33: [ 합 계 ] | E33: 0 | F33: =TRUNC(SUMIF(R30:R32, " ", F30:F32),0) -> 0 | G33: 0 | H33: =TRUNC(SUMIF(R30:R32, " ", H30:H32),0) -> 7234 | I33: 0 | J33: =TRUNC(SUMIF(R30:R32, " ", J30:J32),0) -> 144 | L33: =F33+H33+J33 -> 7378 | N33: TOTAL | O33: TOTAL
A35: ( 호표 7 ) 카페트 및 비닐 시트류 철거 M2 | N35: IB0000004600
A36: 내장공 | B36: 일반공사 직종 | C36: 인 | D36: 0.014 | E36: =단가대비표!U60 -> 0 | F36: =TRUNC(D36*ROUND(E36,1), 1) -> 0 | G36: =단가대비표!V60 -> 256883 | H36: =TRUNC(D36*ROUND(G36,1), 1) -> 3596.3 | I36: =단가대비표!AE60 -> 0 | J36: =TRUNC(D36*ROUND(I36,1), 1) -> 0 | K36: =E36+G36+I36 -> 256883 | L36: =F36+H36+J36 -> 3596.3 | N36: IB0000004600 | O36: L001010101000030 | S36: 10 | T36: 0.014 | U36: 0 | V36: 1 | W36: 0 | X36: 0 | Y36: 0 | Z36: 0 | AA36: 0 | AB36: 0 | AE36: =HYPERLINK("#단가대비표!B60", "▶바로가기") -> ▶바로가기
A37: 보통인부 | B37: 일반공사 직종 | C37: 인 | D37: 0.007 | E37: =단가대비표!U53 -> 0 | F37: =TRUNC(D37*ROUND(E37,1), 1) -> 0 | G37: =단가대비표!V53 -> 172068 | H37: =TRUNC(D37*ROUND(G37,1), 1) -> 1204.4 | I37: =단가대비표!AE53 -> 0 | J37: =TRUNC(D37*ROUND(I37,1), 1) -> 0 | K37: =E37+G37+I37 -> 172068 | L37: =F37+H37+J37 -> 1204.4 | N37: IB0000004600 | O37: L001010101000002 | S37: 20 | T37: 0.007 | U37: 0 | V37: 1 | W37: 0 | X37: 0 | Y37: 0 | Z37: 0 | AA37: 0 | AB37: 0 | AE37: =HYPERLINK("#단가대비표!B53", "▶바로가기") -> ▶바로가기
A38: 공구손료 | B38: 노무비의 5% | C38: 식 | D38: 1 | E38: =TRUNC(SUMIF(V36:V38, RIGHTB(O38, 1), H36:H38)*U38, 1) -> 240 | F38: =TRUNC(D38*E38,1) -> 240 | G38: 0 | H38: =TRUNC(D38*G38,1) -> 0 | I38: 0 | J38: =TRUNC(D38*I38,1) -> 0 | K38: =E38+G38+I38 -> 240 | L38: =F38+H38+J38 -> 240 | N38: IB0000004600 | O38: PPS00000001 | S38: 30 | T38: .MA=LA(10, 0, 20) * 0.05 | U38: 0.05 | V38: 0 | W38: 0 | X38: 0 | Y38: 0 | Z38: 0 | AA38: 0 | AB38: 0
A39: [ 합 계 ] | E39: 0 | F39: =TRUNC(SUMIF(R36:R38, " ", F36:F38),0) -> 240 | G39: 0 | H39: =TRUNC(SUMIF(R36:R38, " ", H36:H38),0) -> 4800 | I39: 0 | J39: =TRUNC(SUMIF(R36:R38, " ", J36:J38),0) -> 0 | L39: =F39+H39+J39 -> 5040 | N39: TOTAL | O39: TOTAL
A41: ( 호표 8 ) 유리프레임 철거 150×50 기준 M | N41: IB0000005500
A42: 용접공 | B42: 일반공사 직종 | C42: 인 | D42: 0.069 | E42: =단가대비표!U56 -> 0 | F42: =TRUNC(D42*ROUND(E42,1), 1) -> 0 | G42: =단가대비표!V56 -> 282536 | H42: =TRUNC(D42*ROUND(G42,1), 1) -> 19494.9 | I42: =단가대비표!AE56 -> 0 | J42: =TRUNC(D42*ROUND(I42,1), 1) -> 0 | K42: =E42+G42+I42 -> 282536 | L42: =F42+H42+J42 -> 19494.9 | N42: IB0000005500 | O42: L001010101000012 | S42: 10 | T42: 0.069 | U42: 0 | V42: 1 | W42: 0 | X42: 0 | Y42: 0 | Z42: 0 | AA42: 0 | AB42: 0 | AE42: =HYPERLINK("#단가대비표!B56", "▶바로가기") -> ▶바로가기
A43: 보통인부 | B43: 일반공사 직종 | C43: 인 | D43: 0.034 | E43: =단가대비표!U53 -> 0 | F43: =TRUNC(D43*ROUND(E43,1), 1) -> 0 | G43: =단가대비표!V53 -> 172068 | H43: =TRUNC(D43*ROUND(G43,1), 1) -> 5850.3 | I43: =단가대비표!AE53 -> 0 | J43: =TRUNC(D43*ROUND(I43,1), 1) -> 0 | K43: =E43+G43+I43 -> 172068 | L43: =F43+H43+J43 -> 5850.3 | N43: IB0000005500 | O43: L001010101000002 | S43: 20 | T43: 0.034 | U43: 0 | V43: 1 | W43: 0 | X43: 0 | Y43: 0 | Z43: 0 | AA43: 0 | AB43: 0 | AE43: =HYPERLINK("#단가대비표!B53", "▶바로가기") -> ▶바로가기
A44: 공구손료 및 기계경비 | B44: 노무비의 5% | C44: 식 | D44: 1 | E44: 0 | F44: =TRUNC(D44*E44,1) -> 0 | G44: 0 | H44: =TRUNC(D44*G44,1) -> 0 | I44: =TRUNC(SUMIF(V42:V44, RIGHTB(O44, 1), H42:H44)*U44, 1) -> 1267.2 | J44: =TRUNC(D44*I44,1) -> 1267.2 | K44: =E44+G44+I44 -> 1267.2 | L44: =F44+H44+J44 -> 1267.2 | N44: IB0000005500 | O44: PPS00000001 | S44: 30 | T44: .EQ=LA(10, 0, 20) * 0.05 | U44: 0.05 | V44: 0 | W44: 0 | X44: 0 | Y44: 0 | Z44: 0 | AA44: 0 | AB44: 0
A45: [ 합 계 ] | E45: 0 | F45: =TRUNC(SUMIF(R42:R44, " ", F42:F44),0) -> 0 | G45: 0 | H45: =TRUNC(SUMIF(R42:R44, " ", H42:H44),0) -> 25345 | I45: 0 | J45: =TRUNC(SUMIF(R42:R44, " ", J42:J44),0) -> 1267 | L45: =F45+H45+J45 -> 26612 | N45: TOTAL | O45: TOTAL
A47: ( 호표 9 ) 유리 철거 T=12, 일반유리 기준 M2 | N47: IB0000005200
A48: 유리공 | B48: 일반공사 직종 | C48: 인 | D48: 0.057 | E48: =단가대비표!U58 -> 0 | F48: =TRUNC(D48*ROUND(E48,1), 1) -> 0 | G48: =단가대비표!V58 -> 253539 | H48: =TRUNC(D48*ROUND(G48,1), 1) -> 14451.7 | I48: =단가대비표!AE58 -> 0 | J48: =TRUNC(D48*ROUND(I48,1), 1) -> 0 | K48: =E48+G48+I48 -> 253539 | L48: =F48+H48+J48 -> 14451.7 | N48: IB0000005200 | O48: L001010101000025 | S48: 10 | T48: 0.0570 | U48: 0 | V48: 1 | W48: 0 | X48: 0 | Y48: 0 | Z48: 0 | AA48: 0 | AB48: 0 | AE48: =HYPERLINK("#단가대비표!B58", "▶바로가기") -> ▶바로가기
...

Sheet 단가대비표
A1: 단 가 대 비 표
A2: ="[" & 설계서용지!F7 & "]" -> [공용 스마트 교육공간 인프라 구축 건축공사]
A3: 코 드 | B3: 품 목 | C3: 규 격 | D3: 단위 | E3: 재 료 비 | V3: 노 무 비 | W3: 경 비 | AF3: 비 고 | AG3: 품목구분 | AH3: 노임구분 | AI3: 소수점처리 | AJ3: 자재구분 | AK3: 재료비 조정률 | AL3: 노무비 조정률 | AM3: 경비 조정률
E4: 조달청가격 | F4: PAGE | G4: 거래가격 | H4: PAGE | I4: 유통물가 | J4: PAGE | K4: 물가자료 | L4: PAGE | M4: 물가정보 | N4: PAGE | O4: 조사가격1 | P4: PAGE | Q4: 조사가격2 | R4: PAGE | S4: 조사가격3 | T4: PAGE | U4: 적용단가 | W4: 조달청가격 | X4: 거래가격 | Y4: 유통물가 | Z4: 물가자료 | AA4: 물가정보 | AB4: 조사가격1 | AC4: 조사가격2 | AD4: 조사가격3 | AE4: 적용단가
A5: 1112200120142410 | B5: 보통합판 | C5: 보통합판, 1급, 2.7*1220*2440mm | D5: 매 | E5: 11142 | G5: 9800 | H5: 667 | I5: 9400 | J5: 407 | K5: 9400 | L5: 670 | M5: 11900 | N5: 587 | O5: 0 | Q5: 0 | S5: 0 | U5: =ROUND(IF(MIN(E5,G5,I5,K5,M5,O5,Q5,S5)<0, MIN(E5,G5,I5,K5,M5,O5,Q5,S5), SMALL(E5:T5,COUNTIF(E5:T5,0)+1)) * 공사설정!$C$24 / 100*AK5/ 100, 1) -> 9400 | V5: =ROUND(0 * 공사설정!$C$25 / 100*AL5/ 100,1) -> 0 | W5: 0 | X5: 0 | Y5: 0 | Z5: 0 | AA5: 0 | AB5: 0 | AC5: 0 | AD5: 0 | AE5: =ROUND(IF(MIN(W5:AD5)=AVERAGE(W5:AD5), 0, IF(MIN(W5:AD5)<0, MIN(W5:AD5), SMALL(W5:AD5,COUNTIF(W5:AD5,0)+1))) * 공사설정!$C$26 / 100*AM5/ 100,1) -> 0 | AK5: 100 | AL5: 100 | AM5: 100
A6: 1112200120142411 | B6: 보통합판 | C6: 보통합판, 1급, 4.8*1220*2440mm | D6: M2 | E6: 4448 | G6: 4703 | H6: 667 | I6: 4669.4 | J6: 407 | K6: 4669.4 | L6: 670 | M6: 5744.42 | N6: 587 | O6: 0 | Q6: 0 | S6: 0 | U6: =ROUND(IF(MIN(E6,G6,I6,K6,M6,O6,Q6,S6)<0, MIN(E6,G6,I6,K6,M6,O6,Q6,S6), SMALL(E6:T6,COUNTIF(E6:T6,0)+1)) * 공사설정!$C$24 / 100*AK6/ 100, 1) -> 4448 | V6: =ROUND(0 * 공사설정!$C$25 / 100*AL6/ 100,1) -> 0 | W6: 0 | X6: 0 | Y6: 0 | Z6: 0 | AA6: 0 | AB6: 0 | AC6: 0 | AD6: 0 | AE6: =ROUND(IF(MIN(W6:AD6)=AVERAGE(W6:AD6), 0, IF(MIN(W6:AD6)<0, MIN(W6:AD6), SMALL(W6:AD6,COUNTIF(W6:AD6,0)+1))) * 공사설정!$C$26 / 100*AM6/ 100,1) -> 0 | AK6: 100 | AL6: 100 | AM6: 100
A7: 1112200320154875 | B7: 중밀도섬유판 | C7: 중밀도섬유판, 12*1220*2440mm | D7: M2 | E7: 5673 | G7: 7625.6 | H7: 668 | I7: 6550.65 | J7: 409 | K7: 6886.6 | L7: 670 | M7: 6886.59 | N7: 588 | O7: 0 | Q7: 0 | S7: 0 | U7: =ROUND(IF(MIN(E7,G7,I7,K7,M7,O7,Q7,S7)<0, MIN(E7,G7,I7,K7,M7,O7,Q7,S7), SMALL(E7:T7,COUNTIF(E7:T7,0)+1)) * 공사설정!$C$24 / 100*AK7/ 100, 1) -> 5673 | V7: =ROUND(0 * 공사설정!$C$25 / 100*AL7/ 100,1) -> 0 | W7: 0 | X7: 0 | Y7: 0 | Z7: 0 | AA7: 0 | AB7: 0 | AC7: 0 | AD7: 0 | AE7: =ROUND(IF(MIN(W7:AD7)=AVERAGE(W7:AD7), 0, IF(MIN(W7:AD7)<0, MIN(W7:AD7), SMALL(W7:AD7,COUNTIF(W7:AD7,0)+1))) * 공사설정!$C$26 / 100*AM7/ 100,1) -> 0 | AK7: 100 | AL7: 100 | AM7: 100
A8: 1119160220292342 | B8: 철강설 | C8: 철강설, 고철, 작업설부산물 | D8: kg | E8: 261 | G8: 400 | H8: 1472 | I8: 400 | J8: 1198 | K8: 305 | L8: 하47 | M8: 330 | N8: Ⅱ-84 | O8: 0 | Q8: 0 | S8: 0 | U8: =ROUND(IF(MIN(E8,G8,I8,K8,M8,O8,Q8,S8)<0, MIN(E8,G8,I8,K8,M8,O8,Q8,S8), SMALL(E8:T8,COUNTIF(E8:T8,0)+1)) * 공사설정!$C$24 / 100*AK8/ 100, 1) -> 261 | V8: =ROUND(0 * 공사설정!$C$25 / 100*AL8/ 100,1) -> 0 | W8: 0 | X8: 0 | Y8: 0 | Z8: 0 | AA8: 0 | AB8: 0 | AC8: 0 | AD8: 0 | AE8: =ROUND(IF(MIN(W8:AD8)=AVERAGE(W8:AD8), 0, IF(MIN(W8:AD8)<0, MIN(W8:AD8), SMALL(W8:AD8,COUNTIF(W8:AD8,0)+1))) * 공사설정!$C$26 / 100*AM8/ 100,1) -> 0 | AK8: 100 | AL8: 100 | AM8: 100
A9: 3010150420288693 | B9: ㄱ형강 | C9: ㄱ형강, 등변, 25*25*3mm | D9: kg | E9: 1020 | G9: 1160 | H9: 55 | I9: 1050 | J9: 21 | K9: 1020 | L9: 7 | M9: 1090 | N9: 5 | O9: 0 | Q9: 0 | S9: 0 | U9: =ROUND(IF(MIN(E9,G9,I9,K9,M9,O9,Q9,S9)<0, MIN(E9,G9,I9,K9,M9,O9,Q9,S9), SMALL(E9:T9,COUNTIF(E9:T9,0)+1)) * 공사설정!$C$24 / 100*AK9/ 100, 1) -> 1020 | V9: =ROUND(0 * 공사설정!$C$25 / 100*AL9/ 100,1) -> 0 | W9: 0 | X9: 0 | Y9: 0 | Z9: 0 | AA9: 0 | AB9: 0 | AC9: 0 | AD9: 0 | AE9: =ROUND(IF(MIN(W9:AD9)=AVERAGE(W9:AD9), 0, IF(MIN(W9:AD9)<0, MIN(W9:AD9), SMALL(W9:AD9,COUNTIF(W9:AD9,0)+1))) * 공사설정!$C$26 / 100*AM9/ 100,1) -> 0 | AF9: 1.12kg/m | AK9: 100 | AL9: 100 | AM9: 100
A10: 3010220420287311 | B10: 일반구조용압연강판 | C10: 열연강판 박판, 1.2mm | D10: kg | E10: 891 | G10: 940 | H10: 63 | I10: 1057 | J10: 26 | K10: 920 | L10: 13 | M10: 963 | N10: 14 | O10: 0 | Q10: 0 | S10: 0 | U10: =ROUND(IF(MIN(E10,G10,I10,K10,M10,O10,Q10,S10)<0, MIN(E10,G10,I10,K10,M10,O10,Q10,S10), SMALL(E10:T10,COUNTIF(E10:T10,0)+1)) * 공사설정!$C$24 / 100*AK10/ 100, 1) -> 891 | V10: =ROUND(0 * 공사설정!$C$25 / 100*AL10/ 100,1) -> 0 | W10: 0 | X10: 0 | Y10: 0 | Z10: 0 | AA10: 0 | AB10: 0 | AC10: 0 | AD10: 0 | AE10: =ROUND(IF(MIN(W10:AD10)=AVERAGE(W10:AD10), 0, IF(MIN(W10:AD10)<0, MIN(W10:AD10), SMALL(W10:AD10,COUNTIF(W10:AD10,0)+1))) * 공사설정!$C$26 / 100*AM10/ 100,1) -> 0 | AK10: 100 | AL10: 100 | AM10: 100
A11: 3010369820141039 | B11: 각재 | C11: 각재, 미송 | D11: 재 | E11: 2433 | G11: 2500 | H11: 148 | I11: 2358 | J11: 73 | K11: 2400 | L11: 98 | M11: 0 | O11: 0 | Q11: 0 | S11: 0 | U11: =ROUND(IF(MIN(E11,G11,I11,K11,M11,O11,Q11,S11)<0, MIN(E11,G11,I11,K11,M11,O11,Q11,S11), SMALL(E11:T11,COUNTIF(E11:T11,0)+1)) * 공사설정!$C$24 / 100*AK11/ 100, 1) -> 2358 | V11: =ROUND(0 * 공사설정!$C$25 / 100*AL11/ 100,1) -> 0 | W11: 0 | X11: 0 | Y11: 0 | Z11: 0 | AA11: 0 | AB11: 0 | AC11: 0 | AD11: 0 | AE11: =ROUND(IF(MIN(W11:AD11)=AVERAGE(W11:AD11), 0, IF(MIN(W11:AD11)<0, MIN(W11:AD11), SMALL(W11:AD11,COUNTIF(W11:AD11,0)+1))) * 공사설정!$C$26 / 100*AM11/ 100,1) -> 0 | AK11: 100 | AL11: 100 | AM11: 100
A12: 3016150520155900 | B12: 인테리어필름 | C12: 0.2×1.22, 메탈계 | D12: M2 | E12: 0 | G12: 0 | I12: 0 | K12: 0 | M12: 0 | O12: 0 | Q12: 0 | S12: 0 | U12: =0*AK12/ 100 -> 0 | V12: =ROUND(0 * 공사설정!$C$25 / 100*AL12/ 100,1) -> 0 | W12: 0 | X12: 0 | Y12: 0 | Z12: 0 | AA12: 0 | AB12: 0 | AC12: 0 | AD12: 0 | AE12: =ROUND(IF(MIN(W12:AD12)=AVERAGE(W12:AD12), 0, IF(MIN(W12:AD12)<0, MIN(W12:AD12), SMALL(W12:AD12,COUNTIF(W12:AD12,0)+1))) * 공사설정!$C$26 / 100*AM12/ 100,1) -> 0 | AK12: 100 | AL12: 100 | AM12: 100
A13: 3016160420162624 | B13: 경량철골천장틀 | C13: 경량철골천장틀, M-BAR더블, 50×19×0.5mm | D13: M | E13: 0 | G13: 1160 | H13: 673 | I13: 1160 | J13: 420 | K13: 620 | L13: 503 | M13: 1160 | N13: 641 | O13: 0 | Q13: 0 | S13: 0 | U13: =ROUND(IF(MIN(E13,G13,I13,K13,M13,O13,Q13,S13)<0, MIN(E13,G13,I13,K13,M13,O13,Q13,S13), SMALL(E13:T13,COUNTIF(E13:T13,0)+1)) * 공사설정!$C$24 / 100*AK13/ 100, 1) -> 620 | V13: =ROUND(0 * 공사설정!$C$25 / 100*AL13/ 100,1) -> 0 | W13: 0 | X13: 0 | Y13: 0 | Z13: 0 | AA13: 0 | AB13: 0 | AC13: 0 | AD13: 0 | AE13: =ROUND(IF(MIN(W13:AD13)=AVERAGE(W13:AD13), 0, IF(MIN(W13:AD13)<0, MIN(W13:AD13), SMALL(W13:AD13,COUNTIF(W13:AD13,0)+1))) * 공사설정!$C$26 / 100*AM13/ 100,1) -> 0 | AK13: 100 | AL13: 100 | AM13: 100
A14: 3016160420162659 | B14: 경량철골천장틀 | C14: 경량철골천장틀, 달대볼트, 상9×1000mm | D14: 개 | E14: 0 | G14: 1450 | H14: 673 | I14: 0 | K14: 1450 | L14: 503 | M14: 1450 | N14: 641 | O14: 0 | Q14: 0 | S14: 0 | U14: =ROUND(IF(MIN(E14,G14,I14,K14,M14,O14,Q14,S14)<0, MIN(E14,G14,I14,K14,M14,O14,Q14,S14), SMALL(E14:T14,COUNTIF(E14:T14,0)+1)) * 공사설정!$C$24 / 100*AK14/ 100, 1) -> 1450 | V14: =ROUND(0 * 공사설정!$C$25 / 100*AL14/ 100,1) -> 0 | W14: 0 | X14: 0 | Y14: 0 | Z14: 0 | AA14: 0 | AB14: 0 | AC14: 0 | AD14: 0 | AE14: =ROUND(IF(MIN(W14:AD14)=AVERAGE(W14:AD14), 0, IF(MIN(W14:AD14)<0, MIN(W14:AD14), SMALL(W14:AD14,COUNTIF(W14:AD14,0)+1))) * 공사설정!$C$26 / 100*AM14/ 100,1) -> 0 | AJ14: 0 | AK14: 100 | AL14: 100 | AM14: 100
A15: 3016160420162660 | B15: 경량철골천장틀 | C15: 경량철골천장틀, 캐링찬넬, 38×12×1.2mm | D15: M | E15: 0 | G15: 1560 | H15: 673 | I15: 0 | K15: 0 | M15: 1290 | N15: 641 | O15: 0 | Q15: 0 | S15: 0 | U15: =ROUND(IF(MIN(E15,G15,I15,K15,M15,O15,Q15,S15)<0, MIN(E15,G15,I15,K15,M15,O15,Q15,S15), SMALL(E15:T15,COUNTIF(E15:T15,0)+1)) * 공사설정!$C$24 / 100*AK15/ 100, 1) -> 1290 | V15: =ROUND(0 * 공사설정!$C$25 / 100*AL15/ 100,1) -> 0 | W15: 0 | X15: 0 | Y15: 0 | Z15: 0 | AA15: 0 | AB15: 0 | AC15: 0 | AD15: 0 | AE15: =ROUND(IF(MIN(W15:AD15)=AVERAGE(W15:AD15), 0, IF(MIN(W15:AD15)<0, MIN(W15:AD15), SMALL(W15:AD15,COUNTIF(W15:AD15,0)+1))) * 공사설정!$C$26 / 100*AM15/ 100,1) -> 0 | AK15: 100 | AL15: 100 | AM15: 100
A16: 3016160420162661 | B16: 경량철골천장틀 | C16: 경량철골천장틀, 마이너찬넬, 19×10×1.2mm | D16: M | E16: 0 | G16: 980 | H16: 673 | I16: 0 | K16: 1014 | L16: 503 | M16: 800 | N16: 641 | O16: 0 | Q16: 0 | S16: 0 | U16: =ROUND(IF(MIN(E16,G16,I16,K16,M16,O16,Q16,S16)<0, MIN(E16,G16,I16,K16,M16,O16,Q16,S16), SMALL(E16:T16,COUNTIF(E16:T16,0)+1)) * 공사설정!$C$24 / 100*AK16/ 100, 1) -> 800 | V16: =ROUND(0 * 공사설정!$C$25 / 100*AL16/ 100,1) -> 0 | W16: 0 | X16: 0 | Y16: 0 | Z16: 0 | AA16: 0 | AB16: 0 | AC16: 0 | AD16: 0 | AE16: =ROUND(IF(MIN(W16:AD16)=AVERAGE(W16:AD16), 0, IF(MIN(W16:AD16)<0, MIN(W16:AD16), SMALL(W16:AD16,COUNTIF(W16:AD16,0)+1))) * 공사설정!$C$26 / 100*AM16/ 100,1) -> 0 | AK16: 100 | AL16: 100 | AM16: 100
A17: 3016160420162662 | B17: 경량철골천장틀 | C17: 경량철골천장틀, 행가및핀, 110×23×18×2.3mm | D17: 조 | E17: 0 | G17: 310 | H17: 673 | I17: 0 | K17: 0 | M17: 310 | N17: 641 | O17: 0 | Q17: 0 | S17: 0 | U17: =ROUND(IF(MIN(E17,G17,I17,K17,M17,O17,Q17,S17)<0, MIN(E17,G17,I17,K17,M17,O17,Q17,S17), SMALL(E17:T17,COUNTIF(E17:T17,0)+1)) * 공사설정!$C$24 / 100*AK17/ 100, 1) -> 310 | V17: =ROUND(0 * 공사설정!$C$25 / 100*AL17/ 100,1) -> 0 | W17: 0 | X17: 0 | Y17: 0 | Z17: 0 | AA17: 0 | AB17: 0 | AC17: 0 | AD17: 0 | AE17: =ROUND(IF(MIN(W17:AD17)=AVERAGE(W17:AD17), 0, IF(MIN(W17:AD17)<0, MIN(W17:AD17), SMALL(W17:AD17,COUNTIF(W17:AD17,0)+1))) * 공사설정!$C$26 / 100*AM17/ 100,1) -> 0 | AK17: 100 | AL17: 100 | AM17: 100
A18: 3016160420162663 | B18: 경량철골천장틀 | C18: 경량철골천장틀, 찬넬크립, 34×34×1.2mm | D18: 조 | E18: 0 | G18: 0 | I18: 0 | K18: 0 | M18: 0 | O18: 111 | Q18: 0 | S18: 0 | U18: =ROUND(IF(MIN(E18,G18,I18,K18,M18,O18,Q18,S18)<0, MIN(E18,G18,I18,K18,M18,O18,Q18,S18), SMALL(E18:T18,COUNTIF(E18:T18,0)+1)) * 공사설정!$C$24 / 100*AK18/ 100, 1) -> 111 | V18: =ROUND(0 * 공사설정!$C$25 / 100*AL18/ 100,1) -> 0 | W18: 0 | X18: 0 | Y18: 0 | Z18: 0 | AA18: 0 | AB18: 0 | AC18: 0 | AD18: 0 | AE18: =ROUND(IF(MIN(W18:AD18)=AVERAGE(W18:AD18), 0, IF(MIN(W18:AD18)<0, MIN(W18:AD18), SMALL(W18:AD18,COUNTIF(W18:AD18,0)+1))) * 공사설정!$C$26 / 100*AM18/ 100,1) -> 0 | AK18: 100 | AL18: 100 | AM18: 100
A19: 3016160420162664 | B19: 경량철골천장틀 | C19: 경량철골천장틀, 캐링조인트, 90×40×13×0.5mm | D19: 조 | E19: 0 | G19: 0 | I19: 0 | K19: 0 | M19: 0 | O19: 107 | Q19: 0 | S19: 0 | U19: =ROUND(IF(MIN(E19,G19,I19,K19,M19,O19,Q19,S19)<0, MIN(E19,G19,I19,K19,M19,O19,Q19,S19), SMALL(E19:T19,COUNTIF(E19:T19,0)+1)) * 공사설정!$C$24 / 100*AK19/ 100, 1) -> 107 | V19: =ROUND(0 * 공사설정!$C$25 / 100*AL19/ 100,1) -> 0 | W19: 0 | X19: 0 | Y19: 0 | Z19: 0 | AA19: 0 | AB19: 0 | AC19: 0 | AD19: 0 | AE19: =ROUND(IF(MIN(W19:AD19)=AVERAGE(W19:AD19), 0, IF(MIN(W19:AD19)<0, MIN(W19:AD19), SMALL(W19:AD19,COUNTIF(W19:AD19,0)+1))) * 공사설정!$C$26 / 100*AM19/ 100,1) -> 0 | AK19: 100 | AL19: 100 | AM19: 100
A20: 3016160420162665 | B20: 경량철골천장틀 | C20: 경량철골천장틀, BAR크립, 더블 | D20: 개 | E20: 0 | G20: 1160 | H20: 673 | I20: 1160 | J20: 420 | K20: 0 | M20: 0 | O20: 0 | Q20: 0 | S20: 0 | U20: =ROUND(IF(MIN(E20,G20,I20,K20,M20,O20,Q20,S20)<0, MIN(E20,G20,I20,K20,M20,O20,Q20,S20), SMALL(E20:T20,COUNTIF(E20:T20,0)+1)) * 공사설정!$C$24 / 100*AK20/ 100, 1) -> 1160 | V20: =ROUND(0 * 공사설정!$C$25 / 100*AL20/ 100,1) -> 0 | W20: 0 | X20: 0 | Y20: 0 | Z20: 0 | AA20: 0 | AB20: 0 | AC20: 0 | AD20: 0 | AE20: =ROUND(IF(MIN(W20:AD20)=AVERAGE(W20:AD20), 0, IF(MIN(W20:AD20)<0, MIN(W20:AD20), SMALL(W20:AD20,COUNTIF(W20:AD20,0)+1))) * 공사설정!$C$26 / 100*AM20/ 100,1) -> 0 | AK20: 100 | AL20: 100 | AM20: 100
A21: 3016160420162667 | B21: 경량철골천장틀 | C21: 경량철골천장틀, BAR조인트, 더블 | D21: 개 | E21: 0 | G21: 0 | I21: 0 | K21: 0 | M21: 0 | O21: 80 | Q21: 0 | S21: 0 | U21: =ROUND(IF(MIN(E21,G21,I21,K21,M21,O21,Q21,S21)<0, MIN(E21,G21,I21,K21,M21,O21,Q21,S21), SMALL(E21:T21,COUNTIF(E21:T21,0)+1)) * 공사설정!$C$24 / 100*AK21/ 100, 1) -> 80 | V21: =ROUND(0 * 공사설정!$C$25 / 100*AL21/ 100,1) -> 0 | W21: 0 | X21: 0 | Y21: 0 | Z21: 0 | AA21: 0 | AB21: 0 | AC21: 0 | AD21: 0 | AE21: =ROUND(IF(MIN(W21:AD21)=AVERAGE(W21:AD21), 0, IF(MIN(W21:AD21)<0, MIN(W21:AD21), SMALL(W21:AD21,COUNTIF(W21:AD21,0)+1))) * 공사설정!$C$26 / 100*AM21/ 100,1) -> 0 | AK21: 100 | AL21: 100 | AM21: 100
A22: 3016160420162677 | B22: 경량철골천장틀 | C22: 경량철골천장틀, 피스, 3×16mm | D22: 개 | E22: 0 | G22: 10.4 | H22: 98 | I22: 8.6 | J22: 57 | K22: 0 | M22: 0 | O22: 0 | Q22: 0 | S22: 0 | U22: =ROUND(IF(MIN(E22,G22,I22,K22,M22,O22,Q22,S22)<0, MIN(E22,G22,I22,K22,M22,O22,Q22,S22), SMALL(E22:T22,COUNTIF(E22:T22,0)+1)) * 공사설정!$C$24 / 100*AK22/ 100, 1) -> 8.6 | V22: =ROUND(0 * 공사설정!$C$25 / 100*AL22/ 100,1) -> 0 | W22: 0 | X22: 0 | Y22: 0 | Z22: 0 | AA22: 0 | AB22: 0 | AC22: 0 | AD22: 0 | AE22: =ROUND(IF(MIN(W22:AD22)=AVERAGE(W22:AD22), 0, IF(MIN(W22:AD22)<0, MIN(W22:AD22), SMALL(W22:AD22,COUNTIF(W22:AD22,0)+1))) * 공사설정!$C$26 / 100*AM22/ 100,1) -> 0 | AK22: 100 | AL22: 100 | AM22: 100
A23: 3016170720153841 | B23: PVC바닥재 | C23: PVC바닥재, 450×450×t3mm, 데코타일 | D23: M2 | E23: 0 | G23: 19000 | H23: 712 | I23: 0 | K23: 21500 | L23: 613 | M23: 0 | O23: 0 | Q23: 0 | S23: 0 | U23: =ROUND(IF(MIN(E23,G23,I23,K23,M23,O23,Q23,S23)<0, MIN(E23,G23,I23,K23,M23,O23,Q23,S23), SMALL(E23:T23,COUNTIF(E23:T23,0)+1)) * 공사설정!$C$24 / 100*AK23/ 100, 1) -> 19000 | V23: =ROUND(0 * 공사설정!$C$25 / 100*AL23/ 100,1) -> 0 | W23: 0 | X23: 0 | Y23: 0 | Z23: 0 | AA23: 0 | AB23: 0 | AC23: 0 | AD23: 0 | AE23: =ROUND(IF(MIN(W23:AD23)=AVERAGE(W23:AD23), 0, IF(MIN(W23:AD23)<0, MIN(W23:AD23), SMALL(W23:AD23,COUNTIF(W23:AD23,0)+1))) * 공사설정!$C$26 / 100*AM23/ 100,1) -> 0 | AK23: 100 | AL23: 100 | AM23: 100
A24: 3016171720162131 | B24: 악세스후로아(전도성타일마감) | C24: 스틸판넬 600각 t=3.0 | D24: M2 | E24: 0 | G24: 165000 | H24: 724 | I24: 0 | K24: 0 | M24: 0 | O24: 0 | Q24: 0 | S24: 0 | U24: =ROUND(IF(MIN(E24,G24,I24,K24,M24,O24,Q24,S24)<0, MIN(E24,G24,I24,K24,M24,O24,Q24,S24), SMALL(E24:T24,COUNTIF(E24:T24,0)+1)) * 공사설정!$C$24 / 100*AK24/ 100, 1) -> 165000 | V24: =ROUND(0 * 공사설정!$C$25 / 100*AL24/ 100,1) -> 0 | W24: 0 | X24: 0 | Y24: 0 | Z24: 0 | AA24: 0 | AB24: 0 | AC24: 0 | AD24: 0 | AE24: =ROUND(IF(MIN(W24:AD24)=AVERAGE(W24:AD24), 0, IF(MIN(W24:AD24)<0, MIN(W24:AD24), SMALL(W24:AD24,COUNTIF(W24:AD24,0)+1))) * 공사설정!$C$26 / 100*AM24/ 100,1) -> 0 | AF24: 시공도 | AK24: 100 | AL24: 100 | AM24: 100
A25: 3116200220136259 | B25: 일반못 | C25: 일반못, 50mm | D25: kg | E25: 1387 | G25: 1460 | H25: 84 | I25: 1850.5 | J25: 43 | K25: 1651.74 | L25: 28 | M25: 1870 | N25: 37 | O25: 0 | Q25: 0 | S25: 0 | U25: =ROUND(IF(MIN(E25,G25,I25,K25,M25,O25,Q25,S25)<0, MIN(E25,G25,I25,K25,M25,O25,Q25,S25), SMALL(E25:T25,COUNTIF(E25:T25,0)+1)) * 공사설정!$C$24 / 100*AK25/ 100, 1) -> 1387 | V25: =ROUND(0 * 공사설정!$C$25 / 100*AL25/ 100,1) -> 0 | W25: 0 | X25: 0 | Y25: 0 | Z25: 0 | AA25: 0 | AB25: 0 | AC25: 0 | AD25: 0 | AE25: =ROUND(IF(MIN(W25:AD25)=AVERAGE(W25:AD25), 0, IF(MIN(W25:AD25)<0, MIN(W25:AD25), SMALL(W25:AD25,COUNTIF(W25:AD25,0)+1))) * 공사설정!$C$26 / 100*AM25/ 100,1) -> 0 | AK25: 100 | AL25: 100 | AM25: 100
A26: 3116280220163395 | B26: 인서트 | C26: 인서트, 주물, Φ9mm | D26: 개 | E26: 0 | G26: 0 | I26: 0 | K26: 0 | M26: 0 | O26: 0 | Q26: 0 | S26: 0 | U26: =0*AK26/ 100 -> 0 | V26: =ROUND(0 * 공사설정!$C$25 / 100*AL26/ 100,1) -> 0 | W26: 0 | X26: 0 | Y26: 0 | Z26: 0 | AA26: 0 | AB26: 0 | AC26: 0 | AD26: 0 | AE26: =ROUND(IF(MIN(W26:AD26)=AVERAGE(W26:AD26), 0, IF(MIN(W26:AD26)<0, MIN(W26:AD26), SMALL(W26:AD26,COUNTIF(W26:AD26,0)+1))) * 공사설정!$C$26 / 100*AM26/ 100,1) -> 0 | AK26: 100 | AL26: 100 | AM26: 100
A27: 3119150120139357 | B27: 연마지 | C27: 연마지, #120~180, 230×280mm | D27: 장 | E27: 323 | G27: 530 | H27: 1337 | I27: 385 | J27: 1168 | K27: 360 | L27: 1412 | M27: 385 | N27: 1078 | O27: 0 | Q27: 0 | S27: 0 | U27: =ROUND(IF(MIN(E27,G27,I27,K27,M27,O27,Q27,S27)<0, MIN(E27,G27,I27,K27,M27,O27,Q27,S27), SMALL(E27:T27,COUNTIF(E27:T27,0)+1)) * 공사설정!$C$24 / 100*AK27/ 100, 1) -> 323 | V27: =ROUND(0 * 공사설정!$C$25 / 100*AL27/ 100,1) -> 0 | W27: 0 | X27: 0 | Y27: 0 | Z27: 0 | AA27: 0 | AB27: 0 | AC27: 0 | AD27: 0 | AE27: =ROUND(IF(MIN(W27:AD27)=AVERAGE(W27:AD27), 0, IF(MIN(W27:AD27)<0, MIN(W27:AD27), SMALL(W27:AD27,COUNTIF(W27:AD27,0)+1))) * 공사설정!$C$26 / 100*AM27/ 100,1) -> 0 | AK27: 100 | AL27: 100 | AM27: 100
A28: 3120160120277510 | B28: 초산비닐계접착제 | C28: 초산비닐계접착제, 비닐타일용 | D28: kg | E28: 2520 | G28: 0 | I28: 0 | K28: 2700 | L28: 68 | M28: 0 | O28: 0 | Q28: 0 | S28: 0 | U28: =ROUND(IF(MIN(E28,G28,I28,K28,M28,O28,Q28,S28)<0, MIN(E28,G28,I28,K28,M28,O28,Q28,S28), SMALL(E28:T28,COUNTIF(E28:T28,0)+1)) * 공사설정!$C$24 / 100*AK28/ 100, 1) -> 2520 | V28: =ROUND(0 * 공사설정!$C$25 / 100*AL28/ 100,1) -> 0 | W28: 0 | X28: 0 | Y28: 0 | Z28: 0 | AA28: 0 | AB28: 0 | AC28: 0 | AD28: 0 | AE28: =ROUND(IF(MIN(W28:AD28)=AVERAGE(W28:AD28), 0, IF(MIN(W28:AD28)<0, MIN(W28:AD28), SMALL(W28:AD28,COUNTIF(W28:AD28,0)+1))) * 공사설정!$C$26 / 100*AM28/ 100,1) -> 0 | AK28: 100 | AL28: 100 | AM28: 100
A29: 3120160520277439 | B29: 퍼티 | C29: 퍼티, 회색 | D29: L | E29: 4845 | G29: 4844.4 | H29: 622 | I29: 4849.16 | J29: 469 | K29: 4849 | L29: 598 | M29: 4849.17 | N29: 504 | O29: 0 | Q29: 0 | S29: 0 | U29: =ROUND(IF(MIN(E29,G29,I29,K29,M29,O29,Q29,S29)<0, MIN(E29,G29,I29,K29,M29,O29,Q29,S29), SMALL(E29:T29,COUNTIF(E29:T29,0)+1)) * 공사설정!$C$24 / 100*AK29/ 100, 1) -> 4844.4 | V29: =ROUND(0 * 공사설정!$C$25 / 100*AL29/ 100,1) -> 0 | W29: 0 | X29: 0 | Y29: 0 | Z29: 0 | AA29: 0 | AB29: 0 | AC29: 0 | AD29: 0 | AE29: =ROUND(IF(MIN(W29:AD29)=AVERAGE(W29:AD29), 0, IF(MIN(W29:AD29)<0, MIN(W29:AD29), SMALL(W29:AD29,COUNTIF(W29:AD29,0)+1))) * 공사설정!$C$26 / 100*AM29/ 100,1) -> 0 | AF29: 1L=1.55kg | AK29: 100 | AL29: 100 | AM29: 100
A30: 3120160520277601 | B30: 퍼티 | C30: 319퍼티, 회색 | D30: kg | E30: 2306.45 | G30: 4844.44 | H30: 622 | I30: 0 | K30: 4849 | L30: 598 | M30: 4849.16 | N30: 504 | O30: 0 | Q30: 0 | S30: 0 | U30: =ROUND(IF(MIN(E30,G30,I30,K30,M30,O30,Q30,S30)<0, MIN(E30,G30,I30,K30,M30,O30,Q30,S30), SMALL(E30:T30,COUNTIF(E30:T30,0)+1)) * 공사설정!$C$24 / 100*AK30/ 100, 1) -> 2306.5 | V30: =ROUND(0 * 공사설정!$C$25 / 100*AL30/ 100,1) -> 0 | W30: 0 | X30: 0 | Y30: 0 | Z30: 0 | AA30: 0 | AB30: 0 | AC30: 0 | AD30: 0 | AE30: =ROUND(IF(MIN(W30:AD30)=AVERAGE(W30:AD30), 0, IF(MIN(W30:AD30)<0, MIN(W30:AD30), SMALL(W30:AD30,COUNTIF(W30:AD30,0)+1))) * 공사설정!$C$26 / 100*AM30/ 100,1) -> 0 | AF30: 1L=1.55kg | AK30: 100 | AL30: 100 | AM30: 100
A31: 3120160520277611 | B31: 퍼티 | C31: 319퍼티, 백색 | D31: kg | E31: 3125.8 | G31: 5675 | H31: 622 | I31: 0 | K31: 0 | M31: 0 | O31: 0 | Q31: 0 | S31: 0 | U31: =ROUND(IF(MIN(E31,G31,I31,K31,M31,O31,Q31,S31)<0, MIN(E31,G31,I31,K31,M31,O31,Q31,S31), SMALL(E31:T31,COUNTIF(E31:T31,0)+1)) * 공사설정!$C$24 / 100*AK31/ 100, 1) -> 3125.8 | V31: =ROUND(0 * 공사설정!$C$25 / 100*AL31/ 100,1) -> 0 | W31: 0 | X31: 0 | Y31: 0 | Z31: 0 | AA31: 0 | AB31: 0 | AC31: 0 | AD31: 0 | AE31: =ROUND(IF(MIN(W31:AD31)=AVERAGE(W31:AD31), 0, IF(MIN(W31:AD31)<0, MIN(W31:AD31), SMALL(W31:AD31,COUNTIF(W31:AD31,0)+1))) * 공사설정!$C$26 / 100*AM31/ 100,1) -> 0 | AF31: 1L=1.55kg | AK31: 100 | AL31: 100 | AM31: 100
A32: 3121150220276510 | B32: 수성페인트 | C32: 아크로글로시(내부), 낙서방지 | D32: L | E32: 0 | G32: 0 | I32: 0 | K32: 0 | M32: 0 | O32: 3767 | Q32: 0 | S32: 0 | U32: =ROUND(IF(MIN(E32,G32,I32,K32,M32,O32,Q32,S32)<0, MIN(E32,G32,I32,K32,M32,O32,Q32,S32), SMALL(E32:T32,COUNTIF(E32:T32,0)+1)) * 공사설정!$C$24 / 100*AK32/ 100, 1) -> 3767 | V32: =ROUND(0 * 공사설정!$C$25 / 100*AL32/ 100,1) -> 0 | W32: 0 | X32: 0 | Y32: 0 | Z32: 0 | AA32: 0 | AB32: 0 | AC32: 0 | AD32: 0 | AE32: =ROUND(IF(MIN(W32:AD32)=AVERAGE(W32:AD32), 0, IF(MIN(W32:AD32)<0, MIN(W32:AD32), SMALL(W32:AD32,COUNTIF(W32:AD32,0)+1))) * 공사설정!$C$26 / 100*AM32/ 100,1) -> 0 | AK32: 100 | AL32: 100 | AM32: 100
A33: 3121150820276421 | B33: 아크릴수지페인트 | C33: 세라민, KSM5700, 흑색 | D33: L | E33: 0 | G33: 0 | I33: 0 | K33: 0 | M33: 0 | O33: 0 | Q33: 0 | S33: 0 | U33: =0*AK33/ 100 -> 0 | V33: =ROUND(0 * 공사설정!$C$25 / 100*AL33/ 100,1) -> 0 | W33: 0 | X33: 0 | Y33: 0 | Z33: 0 | AA33: 0 | AB33: 0 | AC33: 0 | AD33: 0 | AE33: =ROUND(IF(MIN(W33:AD33)=AVERAGE(W33:AD33), 0, IF(MIN(W33:AD33)<0, MIN(W33:AD33), SMALL(W33:AD33,COUNTIF(W33:AD33,0)+1))) * 공사설정!$C$26 / 100*AM33/ 100,1) -> 0 | AK33: 100 | AL33: 100 | AM33: 100
A34: 3121159322073062 | B34: 방청페인트 | C34: 방청페인트, KSM6030-1종1류, 광명단페인트 | D34: L | E34: 11214 | G34: 12650 | H34: 614 | I34: 0 | K34: 0 | M34: 0 | O34: 0 | Q34: 0 | S34: 0 | U34: =ROUND(IF(MIN(E34,G34,I34,K34,M34,O34,Q34,S34)<0, MIN(E34,G34,I34,K34,M34,O34,Q34,S34), SMALL(E34:T34,COUNTIF(E34:T34,0)+1)) * 공사설정!$C$24 / 100*AK34/ 100, 1) -> 11214 | V34: =ROUND(0 * 공사설정!$C$25 / 100*AL34/ 100,1) -> 0 | W34: 0 | X34: 0 | Y34: 0 | Z34: 0 | AA34: 0 | AB34: 0 | AC34: 0 | AD34: 0 | AE34: =ROUND(IF(MIN(W34:AD34)=AVERAGE(W34:AD34), 0, IF(MIN(W34:AD34)<0, MIN(W34:AD34), SMALL(W34:AD34,COUNTIF(W34:AD34,0)+1))) * 공사설정!$C$26 / 100*AM34/ 100,1) -> 0 | AK34: 100 | AL34: 100 | AM34: 100
A35: 3121159722073048 | B35: 조합페인트 | C35: 조합페인트, KSM6020-1종1급, 백색 | D35: L | E35: 6067 | G35: 9722.2 | H35: 615 | I35: 0 | K35: 7455.6 | L35: 588 | M35: 0 | O35: 0 | Q35: 0 | S35: 0 | U35: =ROUND(IF(MIN(E35,G35,I35,K35,M35,O35,Q35,S35)<0, MIN(E35,G35,I35,K35,M35,O35,Q35,S35), SMALL(E35:T35,COUNTIF(E35:T35,0)+1)) * 공사설정!$C$24 / 100*AK35/ 100, 1) -> 6067 | V35: =ROUND(0 * 공사설정!$C$25 / 100*AL35/ 100,1) -> 0 | W35: 0 | X35: 0 | Y35: 0 | Z35: 0 | AA35: 0 | AB35: 0 | AC35: 0 | AD35: 0 | AE35: =ROUND(IF(MIN(W35:AD35)=AVERAGE(W35:AD35), 0, IF(MIN(W35:AD35)<0, MIN(W35:AD35), SMALL(W35:AD35,COUNTIF(W35:AD35,0)+1))) * 공사설정!$C$26 / 100*AM35/ 100,1) -> 0 | AK35: 100 | AL35: 100 | AM35: 100
