Workbook

Sheet 원가계산서
A1: 공 사 원 가 계 산 서
A2: [ 봉경관 151-1~3, 156호 공간조정 및 환경개선공사-건축 ] | F2: ="금액: 일금 "&NUMBERSTRING(E26,1)&"원정("&TEXT(E26,"#,###원")&")" -> 금액: 일금 영원정(원)
B3: 비 목 | E3: 금 액 | F3: 구 성 비 | G3: 비 고 | H3: A | I3: 8
A4: A10 | B4: 순 공 사 원 가 | C4: 재 료 비 | D4: 직 접 재 료 비 | E4: =TRUNC(공종별집계표!F5,0) -> 0 | H4: 100 | I4: 직 접 재 료 비 | J4: 0 | K4: 78191720 | L4: 78191720 | M4: 0 | N4: 20120321 | O4: ZZ0000100000
A5: A20 | D5: 간 접 재 료 비 | E5: =TRUNC(,0) -> 0 | H5: 110 | I5: 간 접 재 료 비 | J5: 0 | L5: 0 | M5: 0 | O5: YZA001000000
A6: AZZ | D6: [ 소 계 ] | E6: =TRUNC(E4+E5,0) -> 0 | H6: 190 | I6: [ 소 계 ] | J6: 0 | K6: A10+A20-A30 | L6: 78191720 | M6: 0 | O6: YZS001000000
A7: B10 | C7: 노 무 비 | D7: 직 접 노 무 비 | E7: =TRUNC(공종별집계표!H5,0) -> 0 | H7: 200 | I7: 직 접 노 무 비 | J7: 0 | K7: 35854667 | L7: 35854667 | M7: 0 | O7: ZZA000100000
A8: B20 | D8: 간 접 노 무 비 | E8: =TRUNC(E7*0.06,0) -> 0 | F8: 직접노무비* 6% | H8: 210 | I8: 간 접 노 무 비 | J8: 6 | K8: B10*%% | L8: 2151280 | M8: 0 | O8: ZZA000200000
A9: BZZ | D9: [ 소 계 ] | E9: =TRUNC(E7+E8,0) -> 0 | H9: 290 | I9: [ 소 계 ] | J9: 0 | K9: B10+B20 | L9: 38005947 | M9: 0 | O9: YZS002000000
A10: C30 | C10: 경 비 | D10: 산출경비(기계경비) | E10: =TRUNC(공종별집계표!J5,0) -> 0 | H10: 3100 | I10: 산출경비(기계경비) | J10: 0 | K10: 67856 | L10: 67856 | M10: 0 | O10: ZZB000100000
A11: C90 | D11: 산 재 보 험 료 | E11: =TRUNC(E9*0.0356,0) -> 0 | F11: 노무비*3.56% | G11: 모든 건설공사 | H11: 3300 | I11: 산 재 보 험 료 | J11: 3.56 | K11: BZZ*%% | L11: 1353011 | M11: 0 | O11: ZZB110100000
A12: CA0 | D12: 고 용 보 험 료 | E12: =TRUNC(E9*0.0101,0) -> 0 | F12: 노무비 * 1.01% | G12: [7등급+7등급미만] 130억 미만 ~ 81억(고시금액) 이상 | H12: 3400 | I12: 고 용 보 험 료 | J12: 1.01 | K12: BZZ*%% | L12: 383860 | M12: 0 | O12: ZZB120100000
A13: CH0 | D13: 산업안전보건관리비 | E13: =TRUNC((E6+E7/1.1)*0.0311,0) -> 0 | F13: (재료비+직노+도급자관급) * 3.11% | G13: 5억미만, 일반건설공사(갑) | H13: 3900 | I13: 산업안전보건관리비 | J13: 3.11 | K13: (AZZ+B10+Q10/1.1)*%% | L13: 3546842 | M13: 0 | O13: ZZB300100000
A14: CQ0 | D14: 환경보전비 | E14: =TRUNC((E6+E7+E10)*0.003,0) -> 0 | F14: (재료비+직노+기계경비) * 0.3% | H14: 4600 | I14: 환경보전비 | J14: 0.3 | K14: (AZZ+B10+C30)*%% | L14: 342342 | M14: 0 | O14: ZZB700100000
A15: CT0 | D15: 기 타 경 비 | E15: =TRUNC((E6+E9)*0.03,0) -> 0 | F15: (재료비+노무비)* 3% | H15: 4700 | I15: 기 타 경 비 | J15: 3 | K15: (AZZ+BZZ)*%% | L15: 3485930 | M15: 0 | O15: ZZB400100000
A16: CU0 | D16: 공사이행보증수수료 | E16: =TRUNC(,0) -> 0 | F16: (재료비+직노+기계경비)*0 | G16: 최저가대상공사 | H16: 4710 | I16: 공사이행보증수수료 | J16: 0 | L16: 0 | M16: 0 | O16: ZZB500100000
A17: CZZ | D17: [ 소 계 ] | E17: =TRUNC(+E10+E11+E12+E13+E14+E15+E16,0) -> 0 | H17: 9910 | I17: [ 소 계 ] | J17: 0 | K17: C20+C30+C60+C70+C90+CA0+CB0+CC0+CD0+CE0+CE1+CH0+CH1+CH2+CH3+CH4+CQ0+CT0+CT1+CT2+CU0+CV0+CW0 | L17: 9179841 | M17: 0 | O17: YZS003000000
A18: DZZ | B18: 계 | E18: =TRUNC(E6+E9+E17,0) -> 0 | H18: 900710 | I18: 계 | J18: 0 | K18: AZZ+BZZ+CZZ | L18: 125377508 | M18: 0 | O18: YZS004000000
A19: E10 | B19: 일 반 관 리 비 | E19: =TRUNC(E18*0.03,0) -> 0 | F19: 계 * 3% | H19: 900810 | I19: 일 반 관 리 비 | J19: 3 | K19: DZZ*%% | L19: 3761325 | M19: 0 | O19: ZZC000100000
A20: E20 | B20: 이 윤 | F20: (노무비+경비+일반관리비) * 10% | H20: 900820 | I20: 이 윤 | J20: 10 | K20: (BZZ+CZZ+E10)*%% | L20: 5094711 | M20: 0 | O20: ZZD000100000
A21: F70 | B21: 폐기물처리비 | E21: =TRUNC(공종별집계표!L15,0) -> 0 | H21: 900880 | I21: 폐기물처리비 | J21: 0 | K21: 2051437 | L21: 2051437 | M21: 0 | O21: YZD006000000
A22: P10 | B22: 공 급 가 액 | E22: =TRUNC(E18+E19+E20+E21,0) -> 0 | H22: 900900 | I22: 공 급 가 액 | J22: 0 | K22: DZZ+E10+E20+CE1+F30+F40+F10+F60+F70 | L22: 136284981 | M22: 0 | O22: YZD007000000
A23: P20 | B23: 부 가 가 치 세 | E23: =TRUNC(E22*0.1,0) -> 0 | F23: 공급가액 * 10% | H23: 900920 | I23: 부 가 가 치 세 | J23: 10 | K23: P10*%% | L23: 13628498 | M23: 0 | O23: ZZF000100000
A24: P30 | B24: 도 급 액 | E24: =TRUNC(E22+E23,0) -> 0 | H24: 900990 | I24: 도 급 액 | J24: 0 | K24: P10+P20 | L24: 149913479 | M24: 0 | O24: YZD014000000
A25: P40 | B25: 총 원 가 | E25: =TRUNC(,0) -> 0 | H25: 900910 | I25: 총 원 가 | J25: 0 | L25: 0 | M25: 0 | O25: YZDH00100000
A26: W10 | B26: 총 공 사 비 | E26: =TRUNC(E24,0) -> 0 | H26: 1001100 | I26: 총 공 사 비 | J26: 0 | K26: P30+Q10+Q20+Q30+Q40+Q50+Q60 | L26: 149913479 | M26: 0 | O26: YZS005000000
A27: ZZZ | B27: 결 정 금 액 | E27: =TRUNC(,0) -> 0 | H27: 1001300 | I27: 결 정 금 액 | J27: 0 | L27: 0 | M27: 0 | O27: YZS007000000

Sheet 공종별집계표
A1: 공 종 별 집 계 표
A2: [ 봉경관 151-1~3, 156호 공간조정 및 환경개선공사-건축 ]
A3: 품 목 | B3: 규 격 | C3: 단위 | D3: 수량 | E3: 재 료 비 | G3: 노 무 비 | I3: 경 비 | K3: 합 계 | M3: 비 고
E4: 단 가 | F4: 금 액 | G4: 단 가 | H4: 금 액 | I4: 단 가 | J4: 금 액 | K4: 단 가 | L4: 금 액
A5: 01 봉경관 151-1~3, 156호 공간조정 및 환경개선공사-건축 | D5: 1 | E5: =F6+F7+F8+F9+F10+F11+F14+F12+F13 -> 0 | F5: =D5*E5 -> 0 | G5: =H6+H7+H8+H9+H10+H11+H14+H12+H13 -> 0 | H5: =D5*G5 -> 0 | I5: =J6+J7+J8+J9+J10+J11+J14+J12+J13 -> 0 | J5: =D5*I5 -> 0 | K5: =E5+G5+I5 -> 0 | L5: =F5+H5+J5 -> 0 | N5: 01 | O5: 100000
A6: 0101 가설공사 | D6: 1 | E6: =공종별내역서!F30 -> 0 | F6: =D6*E6 -> 0 | G6: =공종별내역서!H30 -> 0 | H6: =D6*G6 -> 0 | I6: =공종별내역서!J30 -> 0 | J6: =D6*I6 -> 0 | K6: =E6+G6+I6 -> 0 | L6: =F6+H6+J6 -> 0 | N6: 0101 | O6: 100001 | S6: =HYPERLINK("#공종별내역서!A5","▶바로가기") -> ▶바로가기
A7: 0102 금속공사 | D7: 1 | E7: =공종별내역서!F56 -> 0 | F7: =D7*E7 -> 0 | G7: =공종별내역서!H56 -> 0 | H7: =D7*G7 -> 0 | I7: =공종별내역서!J56 -> 0 | J7: =D7*I7 -> 0 | K7: =E7+G7+I7 -> 0 | L7: =F7+H7+J7 -> 0 | N7: 0102 | O7: 100002 | S7: =HYPERLINK("#공종별내역서!A31","▶바로가기") -> ▶바로가기
A8: 0103 창호및유리공사 | D8: 1 | E8: =공종별내역서!F82 -> 0 | F8: =D8*E8 -> 0 | G8: =공종별내역서!H82 -> 0 | H8: =D8*G8 -> 0 | I8: =공종별내역서!J82 -> 0 | J8: =D8*I8 -> 0 | K8: =E8+G8+I8 -> 0 | L8: =F8+H8+J8 -> 0 | N8: 0103 | O8: 100003 | S8: =HYPERLINK("#공종별내역서!A57","▶바로가기") -> ▶바로가기
A9: 0104 목공사 | D9: 1 | E9: =공종별내역서!F108 -> 0 | F9: =D9*E9 -> 0 | G9: =공종별내역서!H108 -> 0 | H9: =D9*G9 -> 0 | I9: =공종별내역서!J108 -> 0 | J9: =D9*I9 -> 0 | K9: =E9+G9+I9 -> 0 | L9: =F9+H9+J9 -> 0 | N9: 0104 | O9: 100004 | S9: =HYPERLINK("#공종별내역서!A83","▶바로가기") -> ▶바로가기
A10: 0105 미장공사 | D10: 1 | E10: =공종별내역서!F134 -> 0 | F10: =D10*E10 -> 0 | G10: =공종별내역서!H134 -> 0 | H10: =D10*G10 -> 0 | I10: =공종별내역서!J134 -> 0 | J10: =D10*I10 -> 0 | K10: =E10+G10+I10 -> 0 | L10: =F10+H10+J10 -> 0 | N10: 0105 | O10: 100005 | S10: =HYPERLINK("#공종별내역서!A109","▶바로가기") -> ▶바로가기
A11: 0106 수장공사 | D11: 1 | E11: =공종별내역서!F160 -> 0 | F11: =D11*E11 -> 0 | G11: =공종별내역서!H160 -> 0 | H11: =D11*G11 -> 0 | I11: =공종별내역서!J160 -> 0 | J11: =D11*I11 -> 0 | K11: =E11+G11+I11 -> 0 | L11: =F11+H11+J11 -> 0 | N11: 0106 | O11: 100006 | S11: =HYPERLINK("#공종별내역서!A135","▶바로가기") -> ▶바로가기
A12: 0107 기타공사 | D12: 1 | E12: =공종별내역서!F186 -> 0 | F12: =D12*E12 -> 0 | G12: =공종별내역서!H186 -> 0 | H12: =D12*G12 -> 0 | I12: =공종별내역서!J186 -> 0 | J12: =D12*I12 -> 0 | K12: =E12+G12+I12 -> 0 | L12: =F12+H12+J12 -> 0 | N12: 0107 | O12: 110006 | S12: =HYPERLINK("#공종별내역서!A161","▶바로가기") -> ▶바로가기
A13: 0108 건축설비공사 | D13: 1 | E13: =공종별내역서!F212 -> 0 | F13: =D13*E13 -> 0 | G13: =공종별내역서!H212 -> 0 | H13: =D13*G13 -> 0 | I13: =공종별내역서!J212 -> 0 | J13: =D13*I13 -> 0 | K13: =E13+G13+I13 -> 0 | L13: =F13+H13+J13 -> 0 | N13: 0108 | O13: 110007 | S13: =HYPERLINK("#공종별내역서!A187","▶바로가기") -> ▶바로가기
A14: 0109 철거공사 | D14: 1 | E14: =공종별내역서!F238 -> 0 | F14: =D14*E14 -> 0 | G14: =공종별내역서!H238 -> 0 | H14: =D14*G14 -> 0 | I14: =공종별내역서!J238 -> 0 | J14: =D14*I14 -> 0 | K14: =E14+G14+I14 -> 0 | L14: =F14+H14+J14 -> 0 | N14: 0109 | O14: 1000080 | S14: =HYPERLINK("#공종별내역서!A213","▶바로가기") -> ▶바로가기
A15: 0110 폐기물처리비 | D15: 1 | E15: =공종별내역서!F264 -> 0 | F15: =D15*E15 -> 0 | G15: =공종별내역서!H264 -> 0 | H15: =D15*G15 -> 0 | I15: =공종별내역서!J264 -> 0 | J15: =D15*I15 -> 0 | K15: =E15+G15+I15 -> 0 | L15: =F15+H15+J15 -> 0 | M15: 합산제외 | N15: 0110 | O15: 1000090 | P15: 6 | S15: =HYPERLINK("#공종별내역서!A239","▶바로가기") -> ▶바로가기
A29: [ 합 계 ] | F29: =F5 -> 0 | H29: =H5 -> 0 | J29: =J5 -> 0 | L29: =L5 -> 0

Sheet 공종별내역서
A1: 공 종 별 내 역 서
A2: [ 봉경관 151-1~3, 156호 공간조정 및 환경개선공사-건축 ]
A3: 품 목 | B3: 규 격 | C3: 단위 | D3: 수량 | E3: 재 료 비 | G3: 노 무 비 | I3: 경 비 | K3: 합 계 | M3: 비 고 | N3: 품목코드 | O3: 변수 | P3: 설정 | Q3: 공종코드 | R3: SEQNO | S3: ITEMSEQNO | T3: 일위 | U3: 단산 | V3: 자재 | W3: 산근 | X3: 손료적용 | Y3: 손료저장 | Z3: 적용률 | AA3: JUK1 | AB3: JUK2 | AC3: JUK3 | AD3: JUK4 | AE3: JUK5 | AF3: JUK6 | AG3: JUK7 | AH3: JUK8 | AI3: JUK9 | AJ3: JUK10 | AK3: JUK11 | AL3: JUK12 | AM3: JUK13 | AN3: JUK14 | AO3: JUK15 | AP3: JUK16 | AQ3: JUK17 | AR3: JUK18 | AS3: JUK19 | AT3: JUK20 | AU3: 메모장 | AV3: 조정률
E4: 단 가 | F4: 금 액 | G4: 단 가 | H4: 금 액 | I4: 단 가 | J4: 금 액 | K4: 단 가 | L4: 금 액
A5: 0101 가설공사 | B5: 봉경관 151-1~3, 156호 공간조정 및 환경개선공사-건축 | Q5: 0101 | R5: 100001 | S5: 0
A6: 건축물 현장정리+준공청소 | C6: M2 | D6: 105 | N6: =HYPERLINK("#일위대가목록!A4","ZA0000000000") -> ZA0000000000 | Q6: 0101 | R6: 100001 | S6: 10 | T6: T | U6: F | V6: F | X6: 0 | Y6: 0 | Z6: 0 | AA6: 0 | AB6: 0 | AC6: 0 | AD6: 0 | AE6: 0 | AF6: 0 | AG6: 0 | AH6: 0 | AI6: 2 | AJ6: 0 | AK6: 0 | AL6: 0 | AM6: 0 | AN6: 0 | AO6: 0 | AP6: 0 | AQ6: 0 | AR6: 0 | AS6: 0 | AT6: 0 | AV6: 100 | AY6: =HYPERLINK("#일위대가목록!A4","▶바로가기") -> ▶바로가기
A7: 이동식강관말비계 | B7: 1단2m, 3개월 | C7: 대 | D7: 2 | N7: =HYPERLINK("#일위대가목록!A5","PB0704000500") -> PB0704000500 | Q7: 0101 | R7: 100001 | S7: 20 | T7: T | U7: F | V7: F | X7: 0 | Y7: 0 | Z7: 0 | AA7: 0 | AB7: 0 | AC7: 0 | AD7: 0 | AE7: 0 | AF7: 0 | AG7: 0 | AH7: 0 | AI7: 2 | AJ7: 0 | AK7: 0 | AL7: 0 | AM7: 0 | AN7: 0 | AO7: 0 | AP7: 0 | AQ7: 0 | AR7: 0 | AS7: 0 | AT7: 0 | AV7: 100 | AY7: =HYPERLINK("#일위대가목록!A5","▶바로가기") -> ▶바로가기
A8: 공사구간내 가설칸막이 설치 | B8: 주변시설 보양 포함, 철거비포함 | C8: 식 | D8: 1 | N8: =HYPERLINK("#일위대가목록!A6","ZA0000000001") -> ZA0000000001 | Q8: 0101 | R8: 100001 | S8: 30 | T8: T | U8: F | V8: F | X8: 0 | Y8: 0 | Z8: 0 | AA8: 0 | AB8: 0 | AC8: 0 | AD8: 0 | AE8: 0 | AF8: 0 | AG8: 0 | AH8: 0 | AI8: 2 | AJ8: 0 | AK8: 0 | AL8: 0 | AM8: 0 | AN8: 0 | AO8: 0 | AP8: 0 | AQ8: 0 | AR8: 0 | AS8: 0 | AT8: 0 | AV8: 100 | AY8: =HYPERLINK("#일위대가목록!A6","▶바로가기") -> ▶바로가기
D9: 0 | AV9: 0
D10: 0 | AV10: 0
D11: 0 | AV11: 0
D12: 0 | AV12: 0
D13: 0 | AV13: 0
D14: 0 | AV14: 0
D15: 0 | AV15: 0
D16: 0 | AV16: 0
D17: 0 | AV17: 0
D18: 0 | AV18: 0
D19: 0 | AV19: 0
D20: 0 | AV20: 0
... D29: 0 | AV29: 0
A30: [ 합 계 ]
A31: 0102 금속공사 | B31: 봉경관 151-1~3, 156호 공간조정 및 환경개선공사-건축 | Q31: 0102 | R31: 100002 | S31: 0
A32: 경량철골천장틀 | B32: CLIP-BAR, H:1m이상(인써트유) | C32: M2 | D32: 98 | N32: =HYPERLINK("#일위대가목록!A7","AH0204010300") -> AH0204010300 | Q32: 0102 | R32: 100002 | S32: 2 | T32: T | U32: F | V32: F | X32: 0 | Y32: 0 | Z32: 0 | AA32: 0 | AB32: 0 | AC32: 0 | AD32: 0 | AE32: 0 | AF32: 0 | AG32: 0 | AH32: 0 | AI32: 3 | AJ32: 0 | AK32: 0 | AL32: 0 | AM32: 0 | AN32: 0 | AO32: 0 | AP32: 0 | AQ32: 0 | AR32: 0 | AS32: 0 | AT32: 0 | AV32: 100 | AY32: =HYPERLINK("#일위대가목록!A7","▶바로가기") -> ▶바로가기
A33: 열경화성수지천장판 설치 | B33: 열경화성수지천장재, DMC(불연), 1.5×600×600mm | C33: M2 | D33: 98 | N33: =HYPERLINK("#일위대가목록!A8","AE2020000500") -> AE2020000500 | Q33: 0102 | R33: 100002 | S33: 10 | T33: T | U33: F | V33: F | X33: 0 | Y33: 0 | Z33: 0 | AA33: 0 | AB33: 0 | AC33: 0 | AD33: 0 | AE33: 0 | AF33: 0 | AG33: 0 | AH33: 0 | AI33: 3 | AJ33: 0 | AK33: 0 | AL33: 0 | AM33: 0 | AN33: 0 | AO33: 0 | AP33: 0 | AQ33: 0 | AR33: 0 | AS33: 0 | AT33: 0 | AV33: 100 | AY33: =HYPERLINK("#일위대가목록!A8","▶바로가기") -> ▶바로가기
A34: AL몰딩설치 | B34: 몰딩(알루미늄), L형, 15×15×1.0mm | C34: M | D34: 42 | N34: =HYPERLINK("#단가대비표!B38","3016160420162680") -> 3016160420162680 | Q34: 0102 | R34: 100002 | S34: 20 | T34: F | U34: F | V34: T | X34: 0 | Y34: 0 | Z34: 0 | AA34: 0 | AB34: 0 | AC34: 0 | AD34: 0 | AE34: 0 | AF34: 0 | AG34: 0 | AH34: 0 | AI34: 3 | AJ34: 0 | AK34: 0 | AL34: 0 | AM34: 0 | AN34: 0 | AO34: 0 | AP34: 0 | AQ34: 0 | AR34: 0 | AS34: 0 | AT34: 0 | AV34: 100 | AY34: =HYPERLINK("#단가대비표!B38","▶바로가기") -> ▶바로가기
A35: 경량철골천장틀 | B35: M-BAR,일부자재재사용 | C35: M2 | D35: 9.6 | N35: =HYPERLINK("#일위대가목록!A9","AH0204001200") -> AH0204001200 | Q35: 0102 | R35: 100002 | S35: 25 | T35: T | U35: F | V35: F | X35: 0 | Y35: 0 | Z35: 0 | AA35: 0 | AB35: 0 | AC35: 0 | AD35: 0 | AE35: 0 | AF35: 0 | AG35: 0 | AH35: 0 | AI35: 3 | AJ35: 0 | AK35: 0 | AL35: 0 | AM35: 0 | AN35: 0 | AO35: 0 | AP35: 0 | AQ35: 0 | AR35: 0 | AS35: 0 | AT35: 0 | AV35: 100 | AY35: =HYPERLINK("#일위대가목록!A9","▶바로가기") -> ▶바로가기
A36: 창호신설 상부벽체신설 | B36: 100형스터드+24K50T그라스울충진+9.5T석고1P(양면)+9TM.D.F 1P(양면)+인테리어필름마감(양면) | C36: M2 | D36: 28 | N36: =HYPERLINK("#일위대가목록!A10","ZA0000000002") -> ZA0000000002 | Q36: 0102 | R36: 100002 | S36: 30 | T36: T | U36: F | V36: F | X36: 0 | Y36: 0 | Z36: 0 | AA36: 0 | AB36: 0 | AC36: 0 | AD36: 0 | AE36: 0 | AF36: 0 | AG36: 0 | AH36: 0 | AI36: 3 | AJ36: 0 | AK36: 0 | AL36: 0 | AM36: 0 | AN36: 0 | AO36: 0 | AP36: 0 | AQ36: 0 | AR36: 0 | AS36: 0 | AT36: 0 | AV36: 100 | AY36: =HYPERLINK("#일위대가목록!A10","▶바로가기") -> ▶바로가기
A37: 창호신설부 수벽 및 하단판설치 | B37: 50형스터드+9T합판 1P+15TM.D.F1P(단면) | C37: M2 | D37: 28 | N37: =HYPERLINK("#일위대가목록!A11","ZA0000000004") -> ZA0000000004 | Q37: 0102 | R37: 100002 | S37: 40 | T37: T | U37: F | V37: F | X37: 0 | Y37: 0 | Z37: 0 | AA37: 0 | AB37: 0 | AC37: 0 | AD37: 0 | AE37: 0 | AF37: 0 | AG37: 0 | AH37: 0 | AI37: 3 | AJ37: 0 | AK37: 0 | AL37: 0 | AM37: 0 | AN37: 0 | AO37: 0 | AP37: 0 | AQ37: 0 | AR37: 0 | AS37: 0 | AT37: 0 | AV37: 100 | AY37: =HYPERLINK("#일위대가목록!A11","▶바로가기") -> ▶바로가기
D38: 0 | AV38: 0
D39: 0 | AV39: 0
D40: 0 | AV40: 0
D41: 0 | AV41: 0
D42: 0 | AV42: 0
D43: 0 | AV43: 0
D44: 0 | AV44: 0
D45: 0 | AV45: 0
D46: 0 | AV46: 0
D47: 0 | AV47: 0
D48: 0 | AV48: 0
...
