Workbook
Name ___LPB1: [1]부하계산서!#REF!
Name ___LPK1: [1]부하계산서!#REF!
Name ___LU1: '[2]부하(성남)'!#REF!
Name ___LU2: '[2]부하(성남)'!#REF!
Name ___LV01: '[2]부하(성남)'!#REF!
Name ___UP1: [1]부하계산서!#REF!
Name ___UP2: [1]부하계산서!#REF!
Name __LP2: #REF!
Name __LPB1: [1]부하계산서!#REF!
Name __LPK1: [1]부하계산서!#REF!
Name __LU1: '[2]부하(성남)'!#REF!
Name __LU2: '[2]부하(성남)'!#REF!
Name __LV01: '[2]부하(성남)'!#REF!
Name __UP1: [1]부하계산서!#REF!
Name __UP2: [1]부하계산서!#REF!
Name _1._PANEL_BD.__LP___1: #REF!
Name _1월: #REF!
Name _2._날_개_벽: #REF!
Name _2월: #REF!
Name _3월: #REF!
Name _4월: #REF!
Name _50억이상: [3]단위수량!#REF!
Name _5억원미만: [3]단위수량!#REF!
Name _5억이상_50억원미만: [3]단위수량!#REF!
Name _5월: #REF!
Name _6월: #REF!
Name _CDT2: #REF!
Name _LP1: #REF!
Name _LP2: #REF!
Name _LPB1: [1]부하계산서!#REF!
Name _LPK1: [1]부하계산서!#REF!
Name _LU1: '[2]부하(성남)'!#REF!
Name _LU2: '[2]부하(성남)'!#REF!
Name _LV01: '[2]부하(성남)'!#REF!
Name _UP1: [1]부하계산서!#REF!
Name _UP2: [1]부하계산서!#REF!
Name \0: #N/A
Name \a: #N/A
Name \c: #N/A
Name \e: #N/A
Name \m: #N/A
Name \p: #N/A
Name \s: #N/A
Name \z: #N/A
Name a: [0]!집
Name AAAA: AAAAA
Name AAAAA: [0]!AAAAA
Name ART: #REF!
Name b: [0]!b
Name CAL: #N/A
Name CALAA: #N/A
Name CALAB: #N/A
Name CALAC: #N/A
Name CALBA: #N/A
Name CALBB: #N/A
Name CALBC: #N/A
Name CALBD: #N/A
Name CALBE: #N/A
Name CALBF: #N/A
Name CALBG: #REF!

Sheet 원가계산서
A1: 공 사 원 가 계 산 서
A2: =내역!A1 -> 공사명: 명교생활관 봉사동, 믿음동, 소망동, 사랑동 외부 보수공사 | F2: ="금"&NUMBERSTRING(E34,1)&"원정("&TEXT(E34,"#,###원")&")" -> 금영원정(원)
B3: 비 목 | E3: 금 액 | F3: 구 성 비 | G3: 비 고 | H3: A | I3: 8
A4: A10 | B4: 순 공 사 원 가 | C4: 재 료 비 | D4: 직 접 재 료 비 | E4: =내역!F30 -> 0 | H4: 100 | I4: 직 접 재 료 비 | J4: 0 | K4: 18859552 | L4: 18859552 | M4: 1 | N4: 20120321 | O4: ZZ0000100000
A5: A20 | D5: 간 접 재 료 비 | E5: 0 | H5: 110 | I5: 간 접 재 료 비 | J5: 0 | L5: 0 | M5: 1 | O5: YZA001000000
A6: AZZ | D6: [ 소 계 ] | E6: =E4+E5 -> 0 | H6: 190 | I6: [ 소 계 ] | J6: 0 | K6: A10+A20-A30 | L6: 18859552 | M6: 1 | O6: YZS001000000
A7: B10 | C7: 노 무 비 | D7: 직 접 노 무 비 | E7: =내역!H30 -> 0 | H7: 200 | I7: 직 접 노 무 비 | J7: 0 | K7: 9998618 | L7: 9998618 | M7: 1 | O7: ZZA000100000
A8: B20 | D8: 간 접 노 무 비 | H8: 210 | I8: 간 접 노 무 비 | J8: 12.6 | K8: B10*%% | L8: 1259825 | M8: 1 | O8: ZZA000200000
A9: BZZ | D9: [ 소 계 ] | E9: =E7+E8 -> 0 | H9: 290 | I9: [ 소 계 ] | J9: 0 | K9: B10+B20 | L9: 11258443 | M9: 1 | O9: YZS002000000
A10: C30 | C10: 경 비 | D10: 기 계 경 비 | E10: =내역!J30 -> 0 | H10: 3100 | I10: 기 계 경 비 | J10: 0 | K10: 5948647 | L10: 5948647 | M10: 1 | O10: ZZB000100000
A11: C90 | D11: 산 재 보 험 료 | E11: =E9*0.0356 -> 0 | F11: 노무비*3.56% | H11: 3300 | I11: 산 재 보 험 료 | J11: 3.56 | K11: BZZ*%% | L11: 400800 | M11: 1 | O11: ZZB110100000
A12: CA0 | D12: 고 용 보 험 료 | E12: =E9*0.0101 -> 0 | F12: 노무비 * 1.01% | H12: 3400 | I12: 고 용 보 험 료 | J12: 1.01 | K12: BZZ*%% | L12: 113710 | M12: 1 | O12: ZZB120100000
A13: CB0 | D13: 국민 건강 보험료 | F13: 직노*3.595% | G13: 공사기간 30일 이상 적용 | H13: 3500 | I13: 국민 건강 보험료 | J13: 3.545 | K13: B10*%% | L13: 354451 | O13: ZZB130100000
A14: CC0 | D14: 국민 연금 보험료 | F14: 직노*4.75% | G14: 30일 이상 적용 | H14: 3600 | I14: 국민 연금 보험료 | J14: 4.5 | K14: B10*%% | L14: 449937 | O14: ZZB140100000
A15: CD0 | D15: 노인장기요양보험료 | F15: 건강보험료*13.14% | G15: 30일 이상 적용 | H15: 3750 | I15: 노인장기요양보험료 | J15: 12.95 | K15: CB0*%% | L15: 45901 | O15: ZZB130200000
A16: CE0 | D16: 퇴직 공제 부금비 | G16: 민간공사 50억이상 적용 | H16: 3775 | I16: 퇴직 공제 부금비 | J16: 2.3 | K16: B10*%% | L16: 229968 | O16: ZZB200100000
A17: CH0 | D17: 산업안전보건관리비 | E17: =(E6+E7)*3.11% -> 0 | F17: (재+직노)x3.11% | H17: 3900 | I17: 산업안전보건관리비 | J17: 2.93 | K17: (AZZ+B10+Q10/1.1)*%% | L17: 845544 | O17: ZZB300100000
A18: CH1 | D18: (A) | H18: 4100 | I18: (A) | J18: 1.86 | K18: (AZZ+B10+Q10/1.1)*%% | L18: 536761 | O18: YZC004000000
A19: CH2 | D19: (B) | H19: 4200 | I19: (B) | J19: 1.86 | K19: (AZZ+B10)*%%*1.2 | L19: 644114 | O19: YZC005000000
A20: CQ0 | D20: 환경보전비 | E20: =(E6+E9+E10)*0.3% -> 0 | F20: (재+노+기계경비)x0.3% | H20: 4600 | I20: 환경보전비 | J20: 0.3 | K20: (AZZ+B10+C30)*%% | L20: 104420 | O20: ZZB700100000
A21: CT0 | D21: 기 타 경 비 | E21: =(E6+E9)*4.6% -> 0 | F21: (재+노)*4.6% | H21: 4700 | I21: 기 타 경 비 | J21: 5.2 | K21: (AZZ+BZZ)*%% | L21: 1566135 | O21: ZZB400100000
A22: CV0 | D22: 하도급지급보증수수료 | H22: 7310 | I22: 하도급지급보증수수료 | J22: 0.081 | K22: (AZZ+B10+C30)*%% | L22: 28193 | O22: ZZB600100000
A23: CW0 | D23: 건설기계대여금지급보증서발급수수료 | H23: 7410 | I23: 건설기계대여금지급보증서발급수수료 | J23: 0.07 | K23: (AZZ+B10+C30)*%% | L23: 24364 | O23: ZZB800100000
A24: CZZ | D24: [ 소 계 ] | E24: =E10+E11+E12+E13+E14+E16+E17+E15+E20+E21+E22+E23 -> 0 | H24: 9910 | I24: [ 소 계 ] | J24: 0 | K24: C20+C30+C70+C90+CA0+CB0+CC0+CE0+C60+CH0+CD0+CH3+CH4+CQ0+CT0+CU0+CV0+CW0 | L24: 10112070 | M24: 1 | O24: YZS003000000
A25: DZZ | B25: 계 | E25: =E6+E9+E24 -> 0 | H25: 900710 | I25: 계 | J25: 0 | K25: AZZ+BZZ+CZZ | L25: 40230065 | M25: 1 | O25: YZS004000000
A26: E10 | B26: 일 반 관 리 비 | E26: =(E6+E9+E24)*8% -> 0 | F26: (재+노+경)x8% | H26: 900810 | I26: 일 반 관 리 비 | J26: 6 | K26: DZZ*%% | L26: 2413803 | O26: ZZC000100000
A27: E20 | B27: 이 윤 | F27: (노무비+경비+일반관리비)*15% | H27: 900820 | I27: 이 윤 | J27: 10 | K27: (BZZ+CZZ+E10)*%% | L27: 2378431 | M27: 1 | O27: ZZD000100000
A28: F70 | B28: 폐기물처리비 | E28: =#REF! -> #REF! | H28: 900880 | I28: 폐기물처리비 | J28: 0 | L28: 0 | M28: 1 | O28: YZD006000000
A29: P10 | B29: 공 급 가 액 | H29: 900900 | I29: 공 급 가 액 | J29: 0 | K29: DZZ+E10+E20+CE1+F30+F40+F10+F60+F70 | L29: 45022299 | M29: 1 | O29: YZD007000000
A30: P20 | B30: 부 가 가 치 세 | E30: =(E29*0.1) -> 0 | F30: 공급가액 * 10% | H30: 900920 | I30: 부 가 가 치 세 | J30: 10 | K30: P10*%% | L30: 4502229 | M30: 1 | O30: ZZF000100000
A31: P30 | B31: =B34 -> 총 공 사 비 | E31: =E29+E30 -> 0 | H31: 900990 | I31: 도 급 액 | J31: 0 | K31: P10+P20 | L31: 49524528 | M31: 1 | O31: YZD014000000
A32: Q10 | B32: 도급자설치 관급자재 | E32: =TRUNC(0, 0) -> 0 | F32: 부가세,조달수수료포함 | H32: 1001010 | I32: 도급자설치 관급자재 | J32: 0 | L32: 0 | O32: ZZG000100000
A33: Q20 | B33: 관급자설치 관급자재 | E33: =TRUNC(0, 0) -> 0 | F33: 부가세,조달수수료포함 | H33: 1001020 | I33: 관급자설치 관급자재 | J33: 0 | L33: 0 | O33: YZD015000000
A34: W10 | B34: 총 공 사 비 | E34: =E31 -> 0 | H34: 1001100 | I34: 총 공 사 비 | J34: 0 | K34: P30+Q10+Q20+Q30+Q40+Q50+Q60 | L34: 49524528 | M34: 1 | O34: YZS005000000

Sheet 내역
A1: 공사명: 명교생활관 봉사동, 믿음동, 소망동, 사랑동 외부 보수공사
A2: 품 명 | B2: 규 격 | C2: 단위 | D2: 수량 | E2: 재 료 비 | G2: 노 무 비 | I2: 경 비 | K2: 합 계 | M2: 비고
E3: 단가 | F3: 금액 | G3: 단가 | H3: 금액 | I3: 단가 | J3: 금액 | K3: 단가 | L3: 금액
A4: 1. 봉사동
A5: 실리콘 | B5: 다우실 1000 동등이상 | C5: M | D5: 1820 | N5: 1 | O5: 식 | P5: 씰링제 | Q5: 8000000
A6: 옥탑 및 캐노피 우레탄 방수 | B6: 3mm라이닝 | C6: 식 | D6: 1
A7: 철제도장 (만능프라이머 포함) | B7: 발코니, 층간구획 | C7: 식 | D7: 1
A8: 도장(아크릴100% ) 프라이머 포함 | B8: 크린솔동등이상 | C8: M2 | D8: 1532 | N8: 120 | O8: 말 | P8: 수성페인트 | Q8: 80000
A9: 장비대 | C9: 대 | D9: 14 | N9: 1 | O9: 식 | P9: 부자재대 | Q9: 2000000
A10: 소계 | N10: 60 | O10: 대 | P10: 장비 | Q10: 600000
A11: 2. 믿음동 | N11: 30 | O11: 인 | P11: 코킹 | Q11: 250000
A12: 실리콘 | B12: 다우실 1000 동등이상 | C12: M | D12: 2600
A13: 옥탑 및 캐노피 우레탄 방수 | B13: 3mm라이닝 | C13: 식 | D13: 1
A14: 도장(아크릴100% ) 프라이머 포함 | B14: 크린솔 동등이상 | C14: M2 | D14: 207
A15: 장비대 | C15: 대 | D15: 14
A16: 소계
A17: 3. 소망동 | N17: 30 | O17: 인 | P17: 코킹 | Q17: 250000
A18: 실리콘 | B18: 다우실 1000 동등이상 | C18: M | D18: 2800
A19: 옥탑 및 캐노피 우레탄 방수 | B19: 3mm라이닝 | C19: 식 | D19: 1
A20: 철제도장 (만능프라이머 포함) | B20: 발코니 | C20: 식 | D20: 1
A21: 도장(아크릴100% ) 프라이머 포함 | B21: 크린솔동등이상 | C21: M2 | D21: 1270
A22: 장비대 | C22: 대 | D22: 17
A23: 소계
A24: 4. 사랑동 | N24: 30 | O24: 인 | P24: 코킹 | Q24: 250000
A25: 실리콘 | B25: 다우실 1000 동등이상 | C25: M | D25: 2800
A26: 옥탑 및 캐노피 우레탄 방수 | B26: 3mm라이닝 | C26: 식 | D26: 1
A27: 도장(아크릴100% ) 프라이머 포함 | B27: 크린솔동등이상 | C27: M2 | D27: 940
A28: 장비대 | C28: 대 | D28: 13
A29: 소계
A30: 합계
A79: 콘크리트 철거,폐기 | B79: 1500000
A80: 벽체도장 | B80: 1552000
A81: 걸레받이 | B81: 61000
A82: 출입문 | B82: 300000
A83: 천장도장 | B83: 1090000
A84: 보양 | B84: 300000
A85: 미장 | B85: 400000
B86: =SUM(B79:B85) -> 5203000
A87: 이윤 10% | B87: =B86*10% -> 520300
A88: 합계 | B88: =SUM(B86:B87) -> 5723300
...

Sheet 중기단가목록
A1: 중 기 단 가 목 록
A2: 공사명: 봉경관 240호, 259-1호 공간조정 및 환경개선 공사
A3: 코 드 | B3: 품 명 | C3: 규 격 | D3: 단위 | E3: 재 료 비 | F3: 노 무 비 | G3: 경 비 | H3: 합 계 | I3: 비 고

Sheet 중기단가산출서
A1: 중 기 단 가 산 출 서
A2: 공사명: 봉경관 240호, 259-1호 공간조정 및 환경개선 공사
A3: 산 출 내 역 | B3: 재 료 비 | C3: 노 무 비 | D3: 경 비 | E3: 합 계 | F3: 비 고

Sheet 단가대비표
A1: 단 가 대 비 표
A2: 공사명: 봉경관 240호, 259-1호 공간조정 및 환경개선 공사
A3: 코 드 | B3: 품 목 | C3: 규격 | D3: 단위 | E3: 재 료 비 | V3: 노 무 비 | W3: 경 비 | AF3: 비 고 | AG3: 품목구분 | AH3: 노임구분 | AI3: 소수점처리 | AJ3: 자재구분 | AK3: 재료비 조정률 | AL3: 노무비 조정률 | AM3: 경비 조정률
E4: 조달청가격 | F4: PAGE | G4: 거래가격 | H4: PAGE | I4: 유통물가 | J4: PAGE | K4: 물가자료 | L4: PAGE | M4: 물가정보 | N4: PAGE | O4: 조사가격1 | P4: PAGE | Q4: 조사가격2 | R4: PAGE | S4: 조사가격3 | T4: PAGE | U4: 적용단가 | W4: 조달청가격 | X4: 거래가격 | Y4: 유통물가 | Z4: 물가자료 | AA4: 물가정보 | AB4: 조사가격1 | AC4: 조사가격2 | AD4: 조사가격3 | AE4: 적용단가
A5: 1112200320154876 | B5: 중밀도섬유판 | C5: 중밀도섬유판, 15*1220*2440mm | D5: M2 | E5: 7313 | G5: 10245.9 | H5: 672 | I5: 0 | K5: 0 | M5: 0 | O5: 0 | Q5: 0 | S5: 0 | U5: =ROUND(IF(MIN(E5,G5,I5,K5,M5,O5,Q5,S5)<0, MIN(E5,G5,I5,K5,M5,O5,Q5,S5), SMALL(E5:T5,COUNTIF(E5:T5,0)+1)) * 공사설정!$C$24 / 100*AK5/ 100, 2) -> 7313 | V5: =ROUND(0 * 공사설정!$C$25 / 100*AL5/ 100,2) -> 0 | W5: 0 | X5: 0 | Y5: 0 | Z5: 0 | AA5: 0 | AB5: 0 | AC5: 0 | AD5: 0 | AE5: =ROUND(IF(MIN(W5:AD5)=AVERAGE(W5:AD5), 0, IF(MIN(W5:AD5)<0, MIN(W5:AD5), SMALL(W5:AD5,COUNTIF(W5:AD5,0)+1))) * 공사설정!$C$26 / 100*AM5/ 100,2) -> 0 | AK5: 100 | AL5: 100 | AM5: 100
A6: 1412150420938865 | B6: 크라프트판지 | C6: 크라프트판지, 하드롱지 | D6: M2 | E6: 444 | G6: 3250 | H6: 692 | I6: 0 | K6: 0 | M6: 0 | O6: 0 | Q6: 0 | S6: 0 | U6: =ROUND(IF(MIN(E6,G6,I6,K6,M6,O6,Q6,S6)<0, MIN(E6,G6,I6,K6,M6,O6,Q6,S6), SMALL(E6:T6,COUNTIF(E6:T6,0)+1)) * 공사설정!$C$24 / 100*AK6/ 100, 2) -> 444 | V6: =ROUND(0 * 공사설정!$C$25 / 100*AL6/ 100,2) -> 0 | W6: 0 | X6: 0 | Y6: 0 | Z6: 0 | AA6: 0 | AB6: 0 | AC6: 0 | AD6: 0 | AE6: =ROUND(IF(MIN(W6:AD6)=AVERAGE(W6:AD6), 0, IF(MIN(W6:AD6)<0, MIN(W6:AD6), SMALL(W6:AD6,COUNTIF(W6:AD6,0)+1))) * 공사설정!$C$26 / 100*AM6/ 100,2) -> 0 | AK6: 100 | AL6: 100 | AM6: 100
A7: 2327181220080561 | B7: 연강용피복아크용접봉 | C7: 연강용피복아크용접봉, CR-13, Φ3.2mm | D7: kg | E7: 0 | G7: 4400 | H7: 1326 | I7: 0 | K7: 0 | M7: 0 | O7: 0 | Q7: 0 | S7: 0 | U7: =ROUND(IF(MIN(E7,G7,I7,K7,M7,O7,Q7,S7)<0, MIN(E7,G7,I7,K7,M7,O7,Q7,S7), SMALL(E7:T7,COUNTIF(E7:T7,0)+1)) * 공사설정!$C$24 / 100*AK7/ 100, 2) -> 4400 | V7: =ROUND(0 * 공사설정!$C$25 / 100*AL7/ 100,2) -> 0 | W7: 0 | X7: 0 | Y7: 0 | Z7: 0 | AA7: 0 | AB7: 0 | AC7: 0 | AD7: 0 | AE7: =ROUND(IF(MIN(W7:AD7)=AVERAGE(W7:AD7), 0, IF(MIN(W7:AD7)<0, MIN(W7:AD7), SMALL(W7:AD7,COUNTIF(W7:AD7,0)+1))) * 공사설정!$C$26 / 100*AM7/ 100,2) -> 0 | AK7: 100 | AL7: 100 | AM7: 100
A8: 3010369820141039 | B8: 각재 | C8: 각재, 미송 | D8: 재 | E8: 2512 | G8: 2500 | H8: 149 | I8: 0 | K8: 2400 | L8: 138 | M8: 0 | O8: 0 | Q8: 0 | S8: 0 | U8: =ROUND(IF(MIN(E8,G8,I8,K8,M8,O8,Q8,S8)<0, MIN(E8,G8,I8,K8,M8,O8,Q8,S8), SMALL(E8:T8,COUNTIF(E8:T8,0)+1)) * 공사설정!$C$24 / 100*AK8/ 100, 2) -> 2400 | V8: =ROUND(0 * 공사설정!$C$25 / 100*AL8/ 100,2) -> 0 | W8: 0 | X8: 0 | Y8: 0 | Z8: 0 | AA8: 0 | AB8: 0 | AC8: 0 | AD8: 0 | AE8: =ROUND(IF(MIN(W8:AD8)=AVERAGE(W8:AD8), 0, IF(MIN(W8:AD8)<0, MIN(W8:AD8), SMALL(W8:AD8,COUNTIF(W8:AD8,0)+1))) * 공사설정!$C$26 / 100*AM8/ 100,2) -> 0 | AK8: 100 | AL8: 100 | AM8: 100
A9: 3014150810028412 | B9: 그라스울 | C9: 섬유단열재, 유리솜, 밀도24kg/㎥, 50mm, 유리면매트 | D9: M2 | E9: 3004 | G9: 4280 | H9: 696 | I9: 0 | K9: 9240 | L9: 624 | M9: 0 | O9: 0 | Q9: 0 | S9: 0 | U9: =ROUND(IF(MIN(E9,G9,I9,K9,M9,O9,Q9,S9)<0, MIN(E9,G9,I9,K9,M9,O9,Q9,S9), SMALL(E9:T9,COUNTIF(E9:T9,0)+1)) * 공사설정!$C$24 / 100*AK9/ 100, 2) -> 3004 | V9: =ROUND(0 * 공사설정!$C$25 / 100*AL9/ 100,2) -> 0 | W9: 0 | X9: 0 | Y9: 0 | Z9: 0 | AA9: 0 | AB9: 0 | AC9: 0 | AD9: 0 | AE9: =ROUND(IF(MIN(W9:AD9)=AVERAGE(W9:AD9), 0, IF(MIN(W9:AD9)<0, MIN(W9:AD9), SMALL(W9:AD9,COUNTIF(W9:AD9,0)+1))) * 공사설정!$C$26 / 100*AM9/ 100,2) -> 0 | AK9: 100 | AL9: 100 | AM9: 100
A10: 3016150910027951 | B10: 석고보드 | C10: 석고보드, 평보드, 9.5*900*2400mm(㎡) | D10: M2 | E10: 2870 | G10: 3009.25 | H10: 675 | I10: 0 | K10: 2870.37 | L10: 667 | M10: 3148.14 | N10: 579 | O10: 0 | Q10: 0 | S10: 0 | U10: =ROUND(IF(MIN(E10,G10,I10,K10,M10,O10,Q10,S10)<0, MIN(E10,G10,I10,K10,M10,O10,Q10,S10), SMALL(E10:T10,COUNTIF(E10:T10,0)+1)) * 공사설정!$C$24 / 100*AK10/ 100, 2) -> 2870 | V10: =ROUND(0 * 공사설정!$C$25 / 100*AL10/ 100,2) -> 0 | W10: 0 | X10: 0 | Y10: 0 | Z10: 0 | AA10: 0 | AB10: 0 | AC10: 0 | AD10: 0 | AE10: =ROUND(IF(MIN(W10:AD10)=AVERAGE(W10:AD10), 0, IF(MIN(W10:AD10)<0, MIN(W10:AD10), SMALL(W10:AD10,COUNTIF(W10:AD10,0)+1))) * 공사설정!$C$26 / 100*AM10/ 100,2) -> 0 | AF10: 5.7~8.6kg/m2 | AJ10: 0 | AK10: 100 | AL10: 100 | AM10: 100
A11: 3016150920696281 | B11: 석고보드 | C11: 평보드, 차음, 12.5×900×1800mm(㎡) | D11: m2 | E11: 0 | G11: 4506.17 | H11: 675 | I11: 0 | K11: 0 | M11: 0 | O11: 0 | Q11: 0 | S11: 0 | U11: =ROUND(IF(MIN(E11,G11,I11,K11,M11,O11,Q11,S11)<0, MIN(E11,G11,I11,K11,M11,O11,Q11,S11), SMALL(E11:T11,COUNTIF(E11:T11,0)+1)) * 공사설정!$C$24 / 100*AK11/ 100, 2) -> 4506.17 | V11: =ROUND(0 * 공사설정!$C$25 / 100*AL11/ 100,2) -> 0 | W11: 0 | X11: 0 | Y11: 0 | Z11: 0 | AA11: 0 | AB11: 0 | AC11: 0 | AD11: 0 | AE11: =ROUND(IF(MIN(W11:AD11)=AVERAGE(W11:AD11), 0, IF(MIN(W11:AD11)<0, MIN(W11:AD11), SMALL(W11:AD11,COUNTIF(W11:AD11,0)+1))) * 공사설정!$C$26 / 100*AM11/ 100,2) -> 0 | AK11: 100 | AL11: 100 | AM11: 100
A12: 3016160222517492 | B12: 불연천장재 | C12: 불연천장재, 알루미늄천장재, 루버천장재, 50*50*50, 0.8T | D12: M2 | E12: 7000 | G12: 0 | I12: 0 | K12: 0 | M12: 0 | O12: 0 | Q12: 0 | S12: 0 | U12: =ROUND(IF(MIN(E12,G12,I12,K12,M12,O12,Q12,S12)<0, MIN(E12,G12,I12,K12,M12,O12,Q12,S12), SMALL(E12:T12,COUNTIF(E12:T12,0)+1)) * 공사설정!$C$24 / 100*AK12/ 100, 2) -> 7000 | V12: =ROUND(0 * 공사설정!$C$25 / 100*AL12/ 100,2) -> 0 | W12: 0 | X12: 0 | Y12: 0 | Z12: 0 | AA12: 0 | AB12: 0 | AC12: 0 | AD12: 0 | AE12: =ROUND(IF(MIN(W12:AD12)=AVERAGE(W12:AD12), 0, IF(MIN(W12:AD12)<0, MIN(W12:AD12), SMALL(W12:AD12,COUNTIF(W12:AD12,0)+1))) * 공사설정!$C$26 / 100*AM12/ 100,2) -> 0 | AK12: 100 | AL12: 100 | AM12: 100
A13: 3016160420162624 | B13: 경량철골천장틀 | C13: 경량철골천장틀, M-BAR더블, 50×19×0.5mm | D13: m | E13: 0 | G13: 1160 | H13: 677 | I13: 0 | K13: 1160 | L13: 503 | M13: 910 | N13: 630 | O13: 0 | Q13: 0 | S13: 0 | U13: =ROUND(IF(MIN(E13,G13,I13,K13,M13,O13,Q13,S13)<0, MIN(E13,G13,I13,K13,M13,O13,Q13,S13), SMALL(E13:T13,COUNTIF(E13:T13,0)+1)) * 공사설정!$C$24 / 100*AK13/ 100, 2) -> 910 | V13: =ROUND(0 * 공사설정!$C$25 / 100*AL13/ 100,2) -> 0 | W13: 0 | X13: 0 | Y13: 0 | Z13: 0 | AA13: 0 | AB13: 0 | AC13: 0 | AD13: 0 | AE13: =ROUND(IF(MIN(W13:AD13)=AVERAGE(W13:AD13), 0, IF(MIN(W13:AD13)<0, MIN(W13:AD13), SMALL(W13:AD13,COUNTIF(W13:AD13,0)+1))) * 공사설정!$C$26 / 100*AM13/ 100,2) -> 0 | AK13: 100 | AL13: 100 | AM13: 100
A14: 3016160420162657 | B14: 경량철골천장틀 | C14: 경량철골천장틀, 달대볼트, 상6×1000mm | D14: 개 | E14: 0 | G14: 0 | I14: 0 | K14: 0 | L14: 543 | M14: 860 | N14: 632 | O14: 0 | Q14: 0 | S14: 0 | U14: =ROUND(IF(MIN(E14,G14,I14,K14,M14,O14,Q14,S14)<0, MIN(E14,G14,I14,K14,M14,O14,Q14,S14), SMALL(E14:T14,COUNTIF(E14:T14,0)+1)) * 공사설정!$C$24 / 100*AK14/ 100, 2) -> 860 | V14: =ROUND(0 * 공사설정!$C$25 / 100*AL14/ 100,2) -> 0 | W14: 0 | X14: 0 | Y14: 0 | Z14: 0 | AA14: 0 | AB14: 0 | AC14: 0 | AD14: 0 | AE14: =ROUND(IF(MIN(W14:AD14)=AVERAGE(W14:AD14), 0, IF(MIN(W14:AD14)<0, MIN(W14:AD14), SMALL(W14:AD14,COUNTIF(W14:AD14,0)+1))) * 공사설정!$C$26 / 100*AM14/ 100,2) -> 0 | AK14: 100 | AL14: 100 | AM14: 100
A15: 3016160420162660 | B15: 경량철골천장틀 | C15: 경량철골천장틀, 캐링찬넬, 38×12×1.2mm | D15: m | E15: 0 | G15: 1560 | H15: 677 | I15: 0 | K15: 0 | M15: 1480 | N15: 630 | O15: 0 | Q15: 0 | S15: 0 | U15: =ROUND(IF(MIN(E15,G15,I15,K15,M15,O15,Q15,S15)<0, MIN(E15,G15,I15,K15,M15,O15,Q15,S15), SMALL(E15:T15,COUNTIF(E15:T15,0)+1)) * 공사설정!$C$24 / 100*AK15/ 100, 2) -> 1480 | V15: =ROUND(0 * 공사설정!$C$25 / 100*AL15/ 100,2) -> 0 | W15: 0 | X15: 0 | Y15: 0 | Z15: 0 | AA15: 0 | AB15: 0 | AC15: 0 | AD15: 0 | AE15: =ROUND(IF(MIN(W15:AD15)=AVERAGE(W15:AD15), 0, IF(MIN(W15:AD15)<0, MIN(W15:AD15), SMALL(W15:AD15,COUNTIF(W15:AD15,0)+1))) * 공사설정!$C$26 / 100*AM15/ 100,2) -> 0 | AK15: 100 | AL15: 100 | AM15: 100
A16: 3016160420162661 | B16: 경량철골천장틀 | C16: 경량철골천장틀, 마이너찬넬, 19×10×1.2mm | D16: m | E16: 0 | G16: 980 | H16: 677 | I16: 0 | K16: 980 | L16: 503 | M16: 850 | N16: 630 | O16: 0 | Q16: 0 | S16: 0 | U16: =ROUND(IF(MIN(E16,G16,I16,K16,M16,O16,Q16,S16)<0, MIN(E16,G16,I16,K16,M16,O16,Q16,S16), SMALL(E16:T16,COUNTIF(E16:T16,0)+1)) * 공사설정!$C$24 / 100*AK16/ 100, 2) -> 850 | V16: =ROUND(0 * 공사설정!$C$25 / 100*AL16/ 100,2) -> 0 | W16: 0 | X16: 0 | Y16: 0 | Z16: 0 | AA16: 0 | AB16: 0 | AC16: 0 | AD16: 0 | AE16: =ROUND(IF(MIN(W16:AD16)=AVERAGE(W16:AD16), 0, IF(MIN(W16:AD16)<0, MIN(W16:AD16), SMALL(W16:AD16,COUNTIF(W16:AD16,0)+1))) * 공사설정!$C$26 / 100*AM16/ 100,2) -> 0 | AK16: 100 | AL16: 100 | AM16: 100
A17: 3016160420162662 | B17: 경량철골천장틀 | C17: 경량철골천장틀, 행가및핀, 110×23×18×2.3mm | D17: 조 | E17: 0 | G17: 310 | H17: 677 | I17: 0 | K17: 0 | M17: 310 | N17: 632 | O17: 0 | Q17: 0 | S17: 0 | U17: =ROUND(IF(MIN(E17,G17,I17,K17,M17,O17,Q17,S17)<0, MIN(E17,G17,I17,K17,M17,O17,Q17,S17), SMALL(E17:T17,COUNTIF(E17:T17,0)+1)) * 공사설정!$C$24 / 100*AK17/ 100, 2) -> 310 | V17: =ROUND(0 * 공사설정!$C$25 / 100*AL17/ 100,2) -> 0 | W17: 0 | X17: 0 | Y17: 0 | Z17: 0 | AA17: 0 | AB17: 0 | AC17: 0 | AD17: 0 | AE17: =ROUND(IF(MIN(W17:AD17)=AVERAGE(W17:AD17), 0, IF(MIN(W17:AD17)<0, MIN(W17:AD17), SMALL(W17:AD17,COUNTIF(W17:AD17,0)+1))) * 공사설정!$C$26 / 100*AM17/ 100,2) -> 0 | AK17: 100 | AL17: 100 | AM17: 100
A18: 3016160420162663 | B18: 경량철골천장틀 | C18: 경량철골천장틀, 찬넬크립, 34×34×1.2mm | D18: 조 | E18: 0 | G18: 0 | I18: 0 | K18: 0 | M18: 0 | O18: 111 | Q18: 0 | S18: 0 | U18: =ROUND(IF(MIN(E18,G18,I18,K18,M18,O18,Q18,S18)<0, MIN(E18,G18,I18,K18,M18,O18,Q18,S18), SMALL(E18:T18,COUNTIF(E18:T18,0)+1)) * 공사설정!$C$24 / 100*AK18/ 100, 2) -> 111 | V18: =ROUND(0 * 공사설정!$C$25 / 100*AL18/ 100,2) -> 0 | W18: 0 | X18: 0 | Y18: 0 | Z18: 0 | AA18: 0 | AB18: 0 | AC18: 0 | AD18: 0 | AE18: =ROUND(IF(MIN(W18:AD18)=AVERAGE(W18:AD18), 0, IF(MIN(W18:AD18)<0, MIN(W18:AD18), SMALL(W18:AD18,COUNTIF(W18:AD18,0)+1))) * 공사설정!$C$26 / 100*AM18/ 100,2) -> 0 | AK18: 100 | AL18: 100 | AM18: 100
A19: 3016160420162664 | B19: 경량철골천장틀 | C19: 경량철골천장틀, 캐링조인트, 90×40×13×0.5mm | D19: 조 | E19: 0 | G19: 0 | I19: 0 | K19: 0 | M19: 0 | O19: 107 | Q19: 0 | S19: 0 | U19: =ROUND(IF(MIN(E19,G19,I19,K19,M19,O19,Q19,S19)<0, MIN(E19,G19,I19,K19,M19,O19,Q19,S19), SMALL(E19:T19,COUNTIF(E19:T19,0)+1)) * 공사설정!$C$24 / 100*AK19/ 100, 2) -> 107 | V19: =ROUND(0 * 공사설정!$C$25 / 100*AL19/ 100,2) -> 0 | W19: 0 | X19: 0 | Y19: 0 | Z19: 0 | AA19: 0 | AB19: 0 | AC19: 0 | AD19: 0 | AE19: =ROUND(IF(MIN(W19:AD19)=AVERAGE(W19:AD19), 0, IF(MIN(W19:AD19)<0, MIN(W19:AD19), SMALL(W19:AD19,COUNTIF(W19:AD19,0)+1))) * 공사설정!$C$26 / 100*AM19/ 100,2) -> 0 | AK19: 100 | AL19: 100 | AM19: 100
A20: 3016160420162665 | B20: 경량철골천장틀 | C20: 경량철골천장틀, BAR크립, 더블 | D20: 개 | E20: 0 | G20: 0 | I20: 0 | K20: 0 | M20: 0 | O20: 60 | Q20: 0 | S20: 0 | U20: =ROUND(IF(MIN(E20,G20,I20,K20,M20,O20,Q20,S20)<0, MIN(E20,G20,I20,K20,M20,O20,Q20,S20), SMALL(E20:T20,COUNTIF(E20:T20,0)+1)) * 공사설정!$C$24 / 100*AK20/ 100, 2) -> 60 | V20: =ROUND(0 * 공사설정!$C$25 / 100*AL20/ 100,2) -> 0 | W20: 0 | X20: 0 | Y20: 0 | Z20: 0 | AA20: 0 | AB20: 0 | AC20: 0 | AD20: 0 | AE20: =ROUND(IF(MIN(W20:AD20)=AVERAGE(W20:AD20), 0, IF(MIN(W20:AD20)<0, MIN(W20:AD20), SMALL(W20:AD20,COUNTIF(W20:AD20,0)+1))) * 공사설정!$C$26 / 100*AM20/ 100,2) -> 0 | AK20: 100 | AL20: 100 | AM20: 100
A21: 3016160420162667 | B21: 경량철골천장틀 | C21: 경량철골천장틀, BAR조인트, 더블 | D21: 개 | E21: 0 | G21: 0 | I21: 0 | K21: 0 | M21: 0 | O21: 80 | Q21: 0 | S21: 0 | U21: =ROUND(IF(MIN(E21,G21,I21,K21,M21,O21,Q21,S21)<0, MIN(E21,G21,I21,K21,M21,O21,Q21,S21), SMALL(E21:T21,COUNTIF(E21:T21,0)+1)) * 공사설정!$C$24 / 100*AK21/ 100, 2) -> 80 | V21: =ROUND(0 * 공사설정!$C$25 / 100*AL21/ 100,2) -> 0 | W21: 0 | X21: 0 | Y21: 0 | Z21: 0 | AA21: 0 | AB21: 0 | AC21: 0 | AD21: 0 | AE21: =ROUND(IF(MIN(W21:AD21)=AVERAGE(W21:AD21), 0, IF(MIN(W21:AD21)<0, MIN(W21:AD21), SMALL(W21:AD21,COUNTIF(W21:AD21,0)+1))) * 공사설정!$C$26 / 100*AM21/ 100,2) -> 0 | AK21: 100 | AL21: 100 | AM21: 100
A22: 3016160420162700 | B22: METAL C-RUNNER | C22: 67×40, 0.8T | D22: m | E22: 0 | G22: 2680 | H22: 677 | I22: 0 | K22: 2680 | L22: 503 | M22: 2680 | N22: 632 | O22: 0 | Q22: 0 | S22: 0 | U22: =ROUND(IF(MIN(E22,G22,I22,K22,M22,O22,Q22,S22)<0, MIN(E22,G22,I22,K22,M22,O22,Q22,S22), SMALL(E22:T22,COUNTIF(E22:T22,0)+1)) * 공사설정!$C$24 / 100*AK22/ 100, 2) -> 2680 | V22: =ROUND(0 * 공사설정!$C$25 / 100*AL22/ 100,2) -> 0 | W22: 0 | X22: 0 | Y22: 0 | Z22: 0 | AA22: 0 | AB22: 0 | AC22: 0 | AD22: 0 | AE22: =ROUND(IF(MIN(W22:AD22)=AVERAGE(W22:AD22), 0, IF(MIN(W22:AD22)<0, MIN(W22:AD22), SMALL(W22:AD22,COUNTIF(W22:AD22,0)+1))) * 공사설정!$C$26 / 100*AM22/ 100,2) -> 0 | AK22: 100 | AL22: 100 | AM22: 100
A23: 3016160420162701 | B23: METAL C-STUD | C23: 65×45×0.8T | D23: m | E23: 0 | G23: 3230 | H23: 677 | I23: 0 | K23: 3230 | L23: 503 | M23: 3230 | N23: 632 | O23: 0 | Q23: 0 | S23: 0 | U23: =ROUND(IF(MIN(E23,G23,I23,K23,M23,O23,Q23,S23)<0, MIN(E23,G23,I23,K23,M23,O23,Q23,S23), SMALL(E23:T23,COUNTIF(E23:T23,0)+1)) * 공사설정!$C$24 / 100*AK23/ 100, 2) -> 3230 | V23: =ROUND(0 * 공사설정!$C$25 / 100*AL23/ 100,2) -> 0 | W23: 0 | X23: 0 | Y23: 0 | Z23: 0 | AA23: 0 | AB23: 0 | AC23: 0 | AD23: 0 | AE23: =ROUND(IF(MIN(W23:AD23)=AVERAGE(W23:AD23), 0, IF(MIN(W23:AD23)<0, MIN(W23:AD23), SMALL(W23:AD23,COUNTIF(W23:AD23,0)+1))) * 공사설정!$C$26 / 100*AM23/ 100,2) -> 0 | AK23: 100 | AL23: 100 | AM23: 100
A24: 3016160420162702 | B24: STUD-SPACER | C24: SP-65,75 | D24: 개 | E24: 0 | G24: 0 | I24: 0 | K24: 0 | M24: 0 | O24: 0 | Q24: 0 | S24: 0 | U24: =0*AK24/ 100 -> 0 | V24: =ROUND(0 * 공사설정!$C$25 / 100*AL24/ 100,2) -> 0 | W24: 0 | X24: 0 | Y24: 0 | Z24: 0 | AA24: 0 | AB24: 0 | AC24: 0 | AD24: 0 | AE24: =ROUND(IF(MIN(W24:AD24)=AVERAGE(W24:AD24), 0, IF(MIN(W24:AD24)<0, MIN(W24:AD24), SMALL(W24:AD24,COUNTIF(W24:AD24,0)+1))) * 공사설정!$C$26 / 100*AM24/ 100,2) -> 0 | AK24: 100 | AL24: 100 | AM24: 100
A25: 3016160420162725 | B25: STUD-SPACER | C25: SP-90,125 | D25: 개 | E25: 0 | G25: 0 | I25: 0 | K25: 0 | M25: 0 | O25: 0 | Q25: 0 | S25: 0 | U25: =0*AK25/ 100 -> 0 | V25: =ROUND(0 * 공사설정!$C$25 / 100*AL25/ 100,2) -> 0 | W25: 0 | X25: 0 | Y25: 0 | Z25: 0 | AA25: 0 | AB25: 0 | AC25: 0 | AD25: 0 | AE25: =ROUND(IF(MIN(W25:AD25)=AVERAGE(W25:AD25), 0, IF(MIN(W25:AD25)<0, MIN(W25:AD25), SMALL(W25:AD25,COUNTIF(W25:AD25,0)+1))) * 공사설정!$C$26 / 100*AM25/ 100,2) -> 0 | AK25: 100 | AL25: 100 | AM25: 100
A26: 3016160420162803 | B26: 힐티앙카 | C26: NK-27 | D26: 개 | E26: 0 | G26: 0 | I26: 0 | K26: 0 | M26: 0 | O26: 0 | Q26: 0 | S26: 0 | U26: =0*AK26/ 100 -> 0 | V26: =ROUND(0 * 공사설정!$C$25 / 100*AL26/ 100,2) -> 0 | W26: 0 | X26: 0 | Y26: 0 | Z26: 0 | AA26: 0 | AB26: 0 | AC26: 0 | AD26: 0 | AE26: =ROUND(IF(MIN(W26:AD26)=AVERAGE(W26:AD26), 0, IF(MIN(W26:AD26)<0, MIN(W26:AD26), SMALL(W26:AD26,COUNTIF(W26:AD26,0)+1))) * 공사설정!$C$26 / 100*AM26/ 100,2) -> 0 | AK26: 100 | AL26: 100 | AM26: 100
A27: 3016170120155538 | B27: 타일카펫 | C27: 타일카펫, LOOP, 500×500×7.0mm | D27: M2 | E27: 0 | G27: 31300 | H27: 712 | I27: 0 | K27: 0 | M27: 0 | O27: 0 | Q27: 0 | S27: 0 | U27: =ROUND(IF(MIN(E27,G27,I27,K27,M27,O27,Q27,S27)<0, MIN(E27,G27,I27,K27,M27,O27,Q27,S27), SMALL(E27:T27,COUNTIF(E27:T27,0)+1)) * 공사설정!$C$24 / 100*AK27/ 100, 2) -> 31300 | V27: =ROUND(0 * 공사설정!$C$25 / 100*AL27/ 100,2) -> 0 | W27: 0 | X27: 0 | Y27: 0 | Z27: 0 | AA27: 0 | AB27: 0 | AC27: 0 | AD27: 0 | AE27: =ROUND(IF(MIN(W27:AD27)=AVERAGE(W27:AD27), 0, IF(MIN(W27:AD27)<0, MIN(W27:AD27), SMALL(W27:AD27,COUNTIF(W27:AD27,0)+1))) * 공사설정!$C$26 / 100*AM27/ 100,2) -> 0 | AK27: 100 | AL27: 100 | AM27: 100
A28: 3116201320135000 | B28: 메탈스크류 | C28: Metal Screw #8, Φ4.2 13mm | D28: 개 | E28: 0 | G28: 0 | I28: 0 | K28: 0 | M28: 7.2 | N28: 40 | O28: 0 | Q28: 0 | S28: 0 | U28: =ROUND(IF(MIN(E28,G28,I28,K28,M28,O28,Q28,S28)<0, MIN(E28,G28,I28,K28,M28,O28,Q28,S28), SMALL(E28:T28,COUNTIF(E28:T28,0)+1)) * 공사설정!$C$24 / 100*AK28/ 100, 2) -> 7.2 | V28: =ROUND(0 * 공사설정!$C$25 / 100*AL28/ 100,2) -> 0 | W28: 0 | X28: 0 | Y28: 0 | Z28: 0 | AA28: 0 | AB28: 0 | AC28: 0 | AD28: 0 | AE28: =ROUND(IF(MIN(W28:AD28)=AVERAGE(W28:AD28), 0, IF(MIN(W28:AD28)<0, MIN(W28:AD28), SMALL(W28:AD28,COUNTIF(W28:AD28,0)+1))) * 공사설정!$C$26 / 100*AM28/ 100,2) -> 0 | AK28: 100 | AL28: 100 | AM28: 100
A29: 3119150120139357 | B29: 연마지 | C29: 연마지, #120~180, 230*280mm | D29: 장 | E29: 217 | G29: 3250 | H29: 1337 | I29: 0 | K29: 0 | M29: 0 | O29: 0 | Q29: 0 | S29: 0 | U29: =ROUND(IF(MIN(E29,G29,I29,K29,M29,O29,Q29,S29)<0, MIN(E29,G29,I29,K29,M29,O29,Q29,S29), SMALL(E29:T29,COUNTIF(E29:T29,0)+1)) * 공사설정!$C$24 / 100*AK29/ 100, 2) -> 217 | V29: =ROUND(0 * 공사설정!$C$25 / 100*AL29/ 100,2) -> 0 | W29: 0 | X29: 0 | Y29: 0 | Z29: 0 | AA29: 0 | AB29: 0 | AC29: 0 | AD29: 0 | AE29: =ROUND(IF(MIN(W29:AD29)=AVERAGE(W29:AD29), 0, IF(MIN(W29:AD29)<0, MIN(W29:AD29), SMALL(W29:AD29,COUNTIF(W29:AD29,0)+1))) * 공사설정!$C$26 / 100*AM29/ 100,2) -> 0 | AK29: 100 | AL29: 100 | AM29: 100
A30: 3120160120277510 | B30: 초산비닐계접착제 | C30: 초산비닐계접착제, 비닐타일용 | D30: kg | E30: 2692 | G30: 0 | I30: 0 | K30: 0 | M30: 0 | O30: 0 | Q30: 0 | S30: 0 | U30: =ROUND(IF(MIN(E30,G30,I30,K30,M30,O30,Q30,S30)<0, MIN(E30,G30,I30,K30,M30,O30,Q30,S30), SMALL(E30:T30,COUNTIF(E30:T30,0)+1)) * 공사설정!$C$24 / 100*AK30/ 100, 2) -> 2692 | V30: =ROUND(0 * 공사설정!$C$25 / 100*AL30/ 100,2) -> 0 | W30: 0 | X30: 0 | Y30: 0 | Z30: 0 | AA30: 0 | AB30: 0 | AC30: 0 | AD30: 0 | AE30: =ROUND(IF(MIN(W30:AD30)=AVERAGE(W30:AD30), 0, IF(MIN(W30:AD30)<0, MIN(W30:AD30), SMALL(W30:AD30,COUNTIF(W30:AD30,0)+1))) * 공사설정!$C$26 / 100*AM30/ 100,2) -> 0 | AK30: 100 | AL30: 100 | AM30: 100
A31: 3120160520277439 | B31: 퍼티 | C31: 퍼티, 회색 | D31: L | E31: 4844 | G31: 0 | I31: 0 | K31: 0 | M31: 4849.17 | N31: 496 | O31: 0 | Q31: 0 | S31: 0 | U31: =ROUND(IF(MIN(E31,G31,I31,K31,M31,O31,Q31,S31)<0, MIN(E31,G31,I31,K31,M31,O31,Q31,S31), SMALL(E31:T31,COUNTIF(E31:T31,0)+1)) * 공사설정!$C$24 / 100*AK31/ 100, 2) -> 4844 | V31: =ROUND(0 * 공사설정!$C$25 / 100*AL31/ 100,2) -> 0 | W31: 0 | X31: 0 | Y31: 0 | Z31: 0 | AA31: 0 | AB31: 0 | AC31: 0 | AD31: 0 | AE31: =ROUND(IF(MIN(W31:AD31)=AVERAGE(W31:AD31), 0, IF(MIN(W31:AD31)<0, MIN(W31:AD31), SMALL(W31:AD31,COUNTIF(W31:AD31,0)+1))) * 공사설정!$C$26 / 100*AM31/ 100,2) -> 0 | AF31: 1L=1.55kg | AK31: 100 | AL31: 100 | AM31: 100
A32: 3120160520277601 | B32: 퍼티 | C32: 319퍼티, 회색 | D32: kg | E32: 2306.45 | G32: 0 | I32: 0 | K32: 0 | M32: 0 | O32: 0 | Q32: 0 | S32: 0 | U32: =ROUND(IF(MIN(E32,G32,I32,K32,M32,O32,Q32,S32)<0, MIN(E32,G32,I32,K32,M32,O32,Q32,S32), SMALL(E32:T32,COUNTIF(E32:T32,0)+1)) * 공사설정!$C$24 / 100*AK32/ 100, 2) -> 2306.45 | V32: =ROUND(0 * 공사설정!$C$25 / 100*AL32/ 100,2) -> 0 | W32: 0 | X32: 0 | Y32: 0 | Z32: 0 | AA32: 0 | AB32: 0 | AC32: 0 | AD32: 0 | AE32: =ROUND(IF(MIN(W32:AD32)=AVERAGE(W32:AD32), 0, IF(MIN(W32:AD32)<0, MIN(W32:AD32), SMALL(W32:AD32,COUNTIF(W32:AD32,0)+1))) * 공사설정!$C$26 / 100*AM32/ 100,2) -> 0 | AF32: 1L=1.55kg | AK32: 100 | AL32: 100 | AM32: 100
A33: 3120160520277611 | B33: 퍼티 | C33: 319퍼티, 백색 | D33: kg | E33: 0 | G33: 5675 | H33: 622 | I33: 0 | K33: 0 | M33: 0 | O33: 0 | Q33: 0 | S33: 0 | U33: =ROUND(IF(MIN(E33,G33,I33,K33,M33,O33,Q33,S33)<0, MIN(E33,G33,I33,K33,M33,O33,Q33,S33), SMALL(E33:T33,COUNTIF(E33:T33,0)+1)) * 공사설정!$C$24 / 100*AK33/ 100, 2) -> 5675 | V33: =ROUND(0 * 공사설정!$C$25 / 100*AL33/ 100,2) -> 0 | W33: 0 | X33: 0 | Y33: 0 | Z33: 0 | AA33: 0 | AB33: 0 | AC33: 0 | AD33: 0 | AE33: =ROUND(IF(MIN(W33:AD33)=AVERAGE(W33:AD33), 0, IF(MIN(W33:AD33)<0, MIN(W33:AD33), SMALL(W33:AD33,COUNTIF(W33:AD33,0)+1))) * 공사설정!$C$26 / 100*AM33/ 100,2) -> 0 | AF33: 1L=1.55kg | AK33: 100 | AL33: 100 | AM33: 100
A34: 3121150220276510 | B34: 수성페인트 | C34: 아크로글로시(내부), 낙서방지 | D34: L | E34: 0 | G34: 0 | I34: 0 | K34: 0 | M34: 0 | O34: 3767 | Q34: 0 | S34: 0 | U34: =ROUND(IF(MIN(E34,G34,I34,K34,M34,O34,Q34,S34)<0, MIN(E34,G34,I34,K34,M34,O34,Q34,S34), SMALL(E34:T34,COUNTIF(E34:T34,0)+1)) * 공사설정!$C$24 / 100*AK34/ 100, 2) -> 3767 | V34: =ROUND(0 * 공사설정!$C$25 / 100*AL34/ 100,2) -> 0 | W34: 0 | X34: 0 | Y34: 0 | Z34: 0 | AA34: 0 | AB34: 0 | AC34: 0 | AD34: 0 | AE34: =ROUND(IF(MIN(W34:AD34)=AVERAGE(W34:AD34), 0, IF(MIN(W34:AD34)<0, MIN(W34:AD34), SMALL(W34:AD34,COUNTIF(W34:AD34,0)+1))) * 공사설정!$C$26 / 100*AM34/ 100,2) -> 0 | AK34: 100 | AL34: 100 | AM34: 100
A35: 3121150822073046 | B35: 아크릴수지페인트 | C35: 아크릴수지페인트, KSM6020-2종1급, 흑색 | D35: L | E35: 5593 | G35: 0 | I35: 0 | K35: 0 | M35: 0 | O35: 0 | Q35: 0 | S35: 0 | U35: =ROUND(IF(MIN(E35,G35,I35,K35,M35,O35,Q35,S35)<0, MIN(E35,G35,I35,K35,M35,O35,Q35,S35), SMALL(E35:T35,COUNTIF(E35:T35,0)+1)) * 공사설정!$C$24 / 100*AK35/ 100, 2) -> 5593 | V35: =ROUND(0 * 공사설정!$C$25 / 100*AL35/ 100,2) -> 0 | W35: 0 | X35: 0 | Y35: 0 | Z35: 0 | AA35: 0 | AB35: 0 | AC35: 0 | AD35: 0 | AE35: =ROUND(IF(MIN(W35:AD35)=AVERAGE(W35:AD35), 0, IF(MIN(W35:AD35)<0, MIN(W35:AD35), SMALL(W35:AD35,COUNTIF(W35:AD35,0)+1))) * 공사설정!$C$26 / 100*AM35/ 100,2) -> 0 | AK35: 100 | AL35: 100 | AM35: 100
A36: 3121159722073048 | B36: 조합페인트 | C36: 조합페인트, KSM6020-1종1급, 백색 | D36: L | E36: 6066 | G36: 10556 | H36: 615 | I36: 0 | K36: 12277.8 | L36: 589 | M36: 0 | O36: 0 | Q36: 0 | S36: 0 | U36: =ROUND(IF(MIN(E36,G36,I36,K36,M36,O36,Q36,S36)<0, MIN(E36,G36,I36,K36,M36,O36,Q36,S36), SMALL(E36:T36,COUNTIF(E36:T36,0)+1)) * 공사설정!$C$24 / 100*AK36/ 100, 2) -> 6066 | V36: =ROUND(0 * 공사설정!$C$25 / 100*AL36/ 100,2) -> 0 | W36: 0 | X36: 0 | Y36: 0 | Z36: 0 | AA36: 0 | AB36: 0 | AC36: 0 | AD36: 0 | AE36: =ROUND(IF(MIN(W36:AD36)=AVERAGE(W36:AD36), 0, IF(MIN(W36:AD36)<0, MIN(W36:AD36), SMALL(W36:AD36,COUNTIF(W36:AD36,0)+1))) * 공사설정!$C$26 / 100*AM36/ 100,2) -> 0 | AK36: 100 | AL36: 100 | AM36: 100
A37: 3121180321870998 | B37: 시너 | C37: 시너, KSM6060, 1종 | D37: L | E37: 0 | G37: 3494 | H37: 615 | I37: 0 | K37: 0 | M37: 0 | O37: 0 | Q37: 0 | S37: 0 | U37: =ROUND(IF(MIN(E37,G37,I37,K37,M37,O37,Q37,S37)<0, MIN(E37,G37,I37,K37,M37,O37,Q37,S37), SMALL(E37:T37,COUNTIF(E37:T37,0)+1)) * 공사설정!$C$24 / 100*AK37/ 100, 2) -> 3494 | V37: =ROUND(0 * 공사설정!$C$25 / 100*AL37/ 100,2) -> 0 | W37: 0 | X37: 0 | Y37: 0 | Z37: 0 | AA37: 0 | AB37: 0 | AC37: 0 | AD37: 0 | AE37: =ROUND(IF(MIN(W37:AD37)=AVERAGE(W37:AD37), 0, IF(MIN(W37:AD37)<0, MIN(W37:AD37), SMALL(W37:AD37,COUNTIF(W37:AD37,0)+1))) * 공사설정!$C$26 / 100*AM37/ 100,2) -> 0 | AK37: 100 | AL37: 100 | AM37: 100
A38: 3121180321870999 | B38: 시너 | C38: 시너, KSM6060, 2종 | D38: L | E38: 0 | G38: 3583 | H38: 615 | I38: 0 | K38: 0 | M38: 0 | O38: 0 | Q38: 0 | S38: 0 | U38: =ROUND(IF(MIN(E38,G38,I38,K38,M38,O38,Q38,S38)<0, MIN(E38,G38,I38,K38,M38,O38,Q38,S38), SMALL(E38:T38,COUNTIF(E38:T38,0)+1)) * 공사설정!$C$24 / 100*AK38/ 100, 2) -> 3583 | V38: =ROUND(0 * 공사설정!$C$25 / 100*AL38/ 100,2) -> 0 | W38: 0 | X38: 0 | Y38: 0 | Z38: 0 | AA38: 0 | AB38: 0 | AC38: 0 | AD38: 0 | AE38: =ROUND(IF(MIN(W38:AD38)=AVERAGE(W38:AD38), 0, IF(MIN(W38:AD38)<0, MIN(W38:AD38), SMALL(W38:AD38,COUNTIF(W38:AD38,0)+1))) * 공사설정!$C$26 / 100*AM38/ 100,2) -> 0 | AK38: 100 | AL38: 100 | AM38: 100
A39: 4712181020938865 | B39: 공통자재 | C39: 넝마 | D39: kg | E39: 0 | G39: 0 | I39: 0 | K39: 0 | M39: 0 | O39: 0 | Q39: 0 | S39: 0 | U39: =0*AK39/ 100 -> 0 | V39: =ROUND(0 * 공사설정!$C$25 / 100*AL39/ 100,2) -> 0 | W39: 0 | X39: 0 | Y39: 0 | Z39: 0 | AA39: 0 | AB39: 0 | AC39: 0 | AD39: 0 | AE39: =ROUND(IF(MIN(W39:AD39)=AVERAGE(W39:AD39), 0, IF(MIN(W39:AD39)<0, MIN(W39:AD39), SMALL(W39:AD39,COUNTIF(W39:AD39,0)+1))) * 공사설정!$C$26 / 100*AM39/ 100,2) -> 0 | AK39: 100 | AL39: 100 | AM39: 100
A40: 813A0B0000000391 | B40: 차음시트(댐핑시트) | C40: 2T × 1,000 × 1,000, (주상복합, 아파트, 오피스텔, 공장, 산업단지, 각종기기 소음 차단효과) | D40: m2 | E40: 0 | G40: 0 | I40: 0 | K40: 0 | M40: 12000 | N40: 600 | O40: 0 | Q40: 0 | S40: 0 | U40: =ROUND(IF(MIN(E40,G40,I40,K40,M40,O40,Q40,S40)<0, MIN(E40,G40,I40,K40,M40,O40,Q40,S40), SMALL(E40:T40,COUNTIF(E40:T40,0)+1)) * 공사설정!$C$24 / 100*AK40/ 100, 2) -> 12000 | V40: =ROUND(0 * 공사설정!$C$25 / 100*AL40/ 100,2) -> 0 | W40: 0 | X40: 0 | Y40: 0 | Z40: 0 | AA40: 0 | AB40: 0 | AC40: 0 | AD40: 0 | AE40: =ROUND(IF(MIN(W40:AD40)=AVERAGE(W40:AD40), 0, IF(MIN(W40:AD40)<0, MIN(W40:AD40), SMALL(W40:AD40,COUNTIF(W40:AD40,0)+1))) * 공사설정!$C$26 / 100*AM40/ 100,2) -> 0 | AK40: 100 | AL40: 100 | AM40: 100
...

Sheet 공사설정
A1: 이 Sheet는 수정하지 마십시요
B2: 공사구분 | C2: A
B3: 확정내역 | C3: 원내역
B4: 자재단가적용 | C4: 5
B5: 노무비단가적용 | C5: 5
B6: 경비단가적용 | C6: 5
B7: 품목코드형식 | C7: XXXXXXXXXXXXXXXXX
B8: 내역금액소수점처리 | C8: C | D8: 1
B9: 일위대가내역소수점처리 | C9: C | D9: 3
B10: 단가명 | C10: 조달청가격 | D10: 거래가격 | E10: 유통물가 | F10: 물가자료 | G10: 물가정보 | H10: 조사가격1 | I10: 조사가격2 | J10: 조사가격3 | K10: TTTTTTTT
B11: 환율 | C11: 1071.1 | D11: 0 | E11: 0
B12: 시간당작업량 | C12: R | D12: 5
B13: 1회 사이클시간 | C13: R | D13: 5
B14: 시간당 작업사이클 | C14: R | D14: 4
B15: 일반변수 | C15: C | D15: 6
B16: 시간당 노임산출 계수 | C16: A | D16: 1/8*16/12*25/20 | E16: 1/8*16/12*25/20*24/15 | F16: 1/8*16/12*25/20*12/10 | G16: 1
B17: 재료비 할증 계수 | C17: 1.11 | D17: 1.12
B18: 노무비 할증 계수 | C18: 1 | D18: 1.5 | E18: 1.16 | F18: 1.6 | G18: 1.6 | H18: 1.6 | I18: 1.94 | J18: 1.94 | K18: 1.94 | L18: 1 | M18: 1 | N18: 1
B19: 경비 할증 계수 | C19: 1.25 | D19: 1.071
B20: 내역,일위대가 품명,규격,단위 따로적용
B21: 내역단가 소수점처리 | C21: C | D21: 1
B22: 코드 | C22: 공종구분명 | D22: 원가비목코드
B23: 1 | C23: 미확인 데이터 | D23: 미확인 데이터
B24: 재료비 단가 적용률 | C24: 100
B25: 노무비 단가 적용률 | C25: 100
B26: 경비 단가 적용률 | C26: 100
